BEGIN:VCALENDAR
VERSION:2.0
PRODID:-//Comunit&agrave; italiana dell'interessere - ECPv6.15.20//NONSGML v1.0//EN
CALSCALE:GREGORIAN
METHOD:PUBLISH
X-ORIGINAL-URL:https://www.interessere.it
X-WR-CALDESC:Eventi per Comunit&agrave; italiana dell'interessere
REFRESH-INTERVAL;VALUE=DURATION:PT1H
X-Robots-Tag:noindex
X-PUBLISHED-TTL:PT1H
BEGIN:VTIMEZONE
TZID:Europe/Rome
BEGIN:DAYLIGHT
TZOFFSETFROM:+0100
TZOFFSETTO:+0200
TZNAME:CEST
DTSTART:20240331T010000
END:DAYLIGHT
BEGIN:STANDARD
TZOFFSETFROM:+0200
TZOFFSETTO:+0100
TZNAME:CET
DTSTART:20241027T010000
END:STANDARD
BEGIN:DAYLIGHT
TZOFFSETFROM:+0100
TZOFFSETTO:+0200
TZNAME:CEST
DTSTART:20250330T010000
END:DAYLIGHT
BEGIN:STANDARD
TZOFFSETFROM:+0200
TZOFFSETTO:+0100
TZNAME:CET
DTSTART:20251026T010000
END:STANDARD
BEGIN:DAYLIGHT
TZOFFSETFROM:+0100
TZOFFSETTO:+0200
TZNAME:CEST
DTSTART:20260329T010000
END:DAYLIGHT
BEGIN:STANDARD
TZOFFSETFROM:+0200
TZOFFSETTO:+0100
TZNAME:CET
DTSTART:20261025T010000
END:STANDARD
END:VTIMEZONE
BEGIN:VEVENT
DTSTART;TZID=Europe/Rome:20250418T170000
DTEND;TZID=Europe/Rome:20250422T160000
DTSTAMP:20260425T160106
CREATED:20250311T173423Z
LAST-MODIFIED:20250311T182636Z
UID:10000561-1744995600-1745337600@www.interessere.it
SUMMARY:La via di ritorno a casa: Ritiro di presenza mentale a Pardesa
DESCRIPTION:La via di ritorno a casa: Ritiro di presenza mentale a Pardesa\nRitiro di presenza mentale\n18-21 aprile 2025\na Pardesa\, comune di Pianoro (BO) \nLa pace\, la gioia\, la liberazione\, la felicità\, la Buddhità\, la fonte — tutto ciò a cui aneliamo e che seguiamo possono essere trovati soltanto nel momento presente.\n– Thich Nhat Hanh \nIn questo ritiro torniamo alla base e scopriamo che portare la presenza mentale alla propria vita quotidiana è possibile e aggiunge una qualità maggiore all’esperienza vissuta. Con grande semplicità renderemo ogni momento un’occasione per alleggerire la mente dai progetti e dalla forza dell’abitudine\, per aprirci alle meraviglie grandi e piccole. Ci lasceremo guidare dall’insegnamento di Thich Nhat Hanh e dalla scuola di Plum Village\, e allo stesso tempo ci affidiamo alla saggezza quotidiana che ogni partecipante porta nel proprio cuore e nella propria vita. \nNel contesto della bellezza naturale del centro di pratica Pardesa\, vivremo un ambiente di pratica quotidiana: meditazioni sedute e camminate\, pasti in consapevolezza\, momenti di riflessione\, di silenzio e anche di canto\, e di condivisione dal cuore. \nIl ritiro sarà bilingue\, con istruzione sia in lingua italiana che inglese. \nPartecipazione\nNon è richiesta alcuna conoscenza specifica. Si richiede una piena partecipazione alla vita comunitaria del centro. Essa comprende il rispetto degli orari delle attività\, i periodi di silenzio e di servizio\, le meditazioni e i momenti di condivisione\, elementi che arricchiscono e che sono parte integrante dell’esperienza. Ci affidiamo alla responsabilità di ogni partecipante di prendersi cura dell’energia di presenza mentale anche nella propria stanza e durante i momenti di riposo. \nProgramma del ritiro\nGli orari delle attività possono variare. Un orario esemplificativo è: \n6.00 sveglia\n6.30 meditazione formale mattutina\n7.30 colazione\n8.45 cerchio del mattino e servizio come comunità\n10.00 discorso di Dharma\n11.00 meditazione camminata\n12.30 pranzo\n15.00 rilassamento profondo\n16.00 pratica comunitaria/condivisione\n18.30 cena leggera\n20.00 meditazione formale serale\nnobile silenzio (fino alle 8.45 del giorno successivo) \nPer iscrizione e maggiori informazioni: La via di ritorno a casa.
URL:https://www.interessere.it/evento/la-via-di-ritorno-a-casa-ritiro-di-presenza-mentale-a-pardesa/
LOCATION:Pardesa\, Livergnano\, Pianoro\, 40065
CATEGORIES:Ritiro
ATTACH;FMTTYPE=image/jpeg:https://www.interessere.it/wp-content/uploads/2025/03/via-ritorno-casa.jpg
ORGANIZER;CN="La Natura della Mente APS":MAILTO:info@lanaturadellamente.it
END:VEVENT
END:VCALENDAR