BEGIN:VCALENDAR
VERSION:2.0
PRODID:-//Comunit&agrave; italiana dell'interessere - ECPv6.15.20//NONSGML v1.0//EN
CALSCALE:GREGORIAN
METHOD:PUBLISH
X-WR-CALNAME:Comunit&agrave; italiana dell'interessere
X-ORIGINAL-URL:https://www.interessere.it
X-WR-CALDESC:Eventi per Comunit&agrave; italiana dell'interessere
REFRESH-INTERVAL;VALUE=DURATION:PT1H
X-Robots-Tag:noindex
X-PUBLISHED-TTL:PT1H
BEGIN:VTIMEZONE
TZID:Europe/Rome
BEGIN:DAYLIGHT
TZOFFSETFROM:+0100
TZOFFSETTO:+0200
TZNAME:CEST
DTSTART:20240331T010000
END:DAYLIGHT
BEGIN:STANDARD
TZOFFSETFROM:+0200
TZOFFSETTO:+0100
TZNAME:CET
DTSTART:20241027T010000
END:STANDARD
BEGIN:DAYLIGHT
TZOFFSETFROM:+0100
TZOFFSETTO:+0200
TZNAME:CEST
DTSTART:20250330T010000
END:DAYLIGHT
BEGIN:STANDARD
TZOFFSETFROM:+0200
TZOFFSETTO:+0100
TZNAME:CET
DTSTART:20251026T010000
END:STANDARD
BEGIN:DAYLIGHT
TZOFFSETFROM:+0100
TZOFFSETTO:+0200
TZNAME:CEST
DTSTART:20260329T010000
END:DAYLIGHT
BEGIN:STANDARD
TZOFFSETFROM:+0200
TZOFFSETTO:+0100
TZNAME:CET
DTSTART:20261025T010000
END:STANDARD
END:VTIMEZONE
BEGIN:VEVENT
DTSTART;TZID=Europe/Rome:20251122T183000
DTEND;TZID=Europe/Rome:20251129T140000
DTSTAMP:20260423T093423
CREATED:20250714T154932Z
LAST-MODIFIED:20250719T164527Z
UID:10000646-1763836200-1764424800@www.interessere.it
SUMMARY:Centro Avalokita\, 22 - 29 novembre 2025: “Unico e speciale\, eppure parte del tutto”\, Ritiro di meditazione e silenzio offerto da Letizia e Stefano Carboni
DESCRIPTION:Sabato 22 – Sabato 29 novembre 2025\n“Unico e speciale\, eppure parte del tutto”\n Ritiro di meditazione e silenzio\nnella tradizione di Thich Nhat Hanh\nofferto da Letizia e Stefano Carboni\n\n\n\n\n“Il silenzio è fondamentalmente qualcosa che giunge dal cuore\, non da un insieme di condizioni al di fuori di noi. Se siamo davvero in silenzio non importa in quale situazione ci troviamo\, possiamo goderci la soave spaziosità del silenzio. Ci sono momenti in cui pensiamo di essere silenziosi perché tutt’intorno a noi non c’è alcun suono ma\, a meno che riusciamo a calmare la mente\, dentro la nostra testa il parlare continua\, costante. Quello non è vero silenzio. La pratica consiste nell’imparare a trovare il silenzio in mezzo a tutte le attività che svolgiamo.” (Thich Nhat Hanh\, “Il dono del silenzio“\, Garzanti 2015 – pag. 67) \nOgni essere umano offre al mondo una propria unicità\, un dono particolare che nessun altro può offrire allo stesso modo. In questo ritiro abbiamo l’opportunità di entrare in contatto con questa nostra unicità\, riconoscendo allo stesso tempo la nostra intima connessione con tutto ciò che ci circonda. \nIspirati dagli insegnamenti di Thich Nhat Hanh\, possiamo approfondire l’esperienza delle due dimensioni della realtà in cui viviamo: quella relativa\, che include la nostra individualità\, il condizionamento mentale e le sfide umane che affrontiamo ogni giorno\, e quella assoluta\, la nostra natura più profonda\, interconnessa e intrinsecamente libera da ogni dualismo. \nGrazie all’esperienza della meditazione e al sostegno nella pratica degli altri partecipanti\, possiamo coltivare una consapevolezza capace di tenere unite in noi queste due dimensioni della realtà: abitando pienamente il nostro essere umani\, senza mai perdere di vista il fondamento del nostro essere\, possiamo incontrare la vita con una mente chiara e un cuore aperto e compassionevole\, realizzando così la nostra piena umanità. \nIl ritiro offre ampi spazi di silenzio\, spunti di riflessione\, momenti di condivisione e un’atmosfera tranquilla e accogliente in cui riscoprire\, con semplicità\, il miracolo di essere vivi. \nQuesto ritiro è dedicato a praticanti che\, oltre ad avere esperienza della pratica di Thich Nhat Hanh\, abbiano familiarità con la meditazione e con la pratica del silenzio. \n\n\n\n\n\n\n\nIn questa pagina puoi trovare maggiori informazioni e la modalità di iscrizione.
URL:https://www.interessere.it/evento/centro-avalokita-22-29-novembre-2025-unico-e-speciale-eppure-parte-del-tutto-ritiro-di-meditazione-e-silenzio-offerto-da-letizia-e-stefano-carboni/
LOCATION:Centro Avalokita\, Frazione Villa Rossi 32\, Castelli\, Teramo\, 64041\, Italia
CATEGORIES:Ritiro
ATTACH;FMTTYPE=image/jpeg:https://www.interessere.it/wp-content/uploads/2025/07/silenzio-scaled.jpg
ORGANIZER;CN="Centro Avalokita":MAILTO:centro@avalokita.it
END:VEVENT
END:VCALENDAR