BEGIN:VCALENDAR
VERSION:2.0
PRODID:-//Comunit&agrave; italiana dell'interessere - ECPv6.15.20//NONSGML v1.0//EN
CALSCALE:GREGORIAN
METHOD:PUBLISH
X-ORIGINAL-URL:https://www.interessere.it
X-WR-CALDESC:Eventi per Comunit&agrave; italiana dell'interessere
REFRESH-INTERVAL;VALUE=DURATION:PT1H
X-Robots-Tag:noindex
X-PUBLISHED-TTL:PT1H
BEGIN:VTIMEZONE
TZID:Europe/Rome
BEGIN:DAYLIGHT
TZOFFSETFROM:+0100
TZOFFSETTO:+0200
TZNAME:CEST
DTSTART:20240331T010000
END:DAYLIGHT
BEGIN:STANDARD
TZOFFSETFROM:+0200
TZOFFSETTO:+0100
TZNAME:CET
DTSTART:20241027T010000
END:STANDARD
BEGIN:DAYLIGHT
TZOFFSETFROM:+0100
TZOFFSETTO:+0200
TZNAME:CEST
DTSTART:20250330T010000
END:DAYLIGHT
BEGIN:STANDARD
TZOFFSETFROM:+0200
TZOFFSETTO:+0100
TZNAME:CET
DTSTART:20251026T010000
END:STANDARD
BEGIN:DAYLIGHT
TZOFFSETFROM:+0100
TZOFFSETTO:+0200
TZNAME:CEST
DTSTART:20260329T010000
END:DAYLIGHT
BEGIN:STANDARD
TZOFFSETFROM:+0200
TZOFFSETTO:+0100
TZNAME:CET
DTSTART:20261025T010000
END:STANDARD
BEGIN:DAYLIGHT
TZOFFSETFROM:+0100
TZOFFSETTO:+0200
TZNAME:CEST
DTSTART:20270328T010000
END:DAYLIGHT
BEGIN:STANDARD
TZOFFSETFROM:+0200
TZOFFSETTO:+0100
TZNAME:CET
DTSTART:20271031T010000
END:STANDARD
END:VTIMEZONE
BEGIN:VEVENT
DTSTART;TZID=Europe/Rome:20251230T170000
DTEND;TZID=Europe/Rome:20260103T160000
DTSTAMP:20260425T002844
CREATED:20251018T163500Z
LAST-MODIFIED:20251018T163610Z
UID:10000679-1767114000-1767456000@www.interessere.it
SUMMARY:Ritiro di capodanno in silenzio a Pardesa
DESCRIPTION:Torniamo a casa\, torniamo al cuore: Ritiro capodanno in silenzio\n30 dicembre 2025 – 3 gennaio 2026\nritiro di presenza mentale in silenzio\nnella tradizione di Thich Nhat Hanh\nal centro di pratica Pardesa \nRitorna\, tu. Ritorna ancora\,\nritorna alla terra della tua anima.\nRitorna a chi sei\,\nritorna a cosa sei.\nRitorna là dove\nnasci e rinasci ancora.\n– Shlomo Carlebach \nLa fine di un anno e l’inizio di quello nuovo sono un buon momento per rallentarci\, riconnetterci con la natura e con noi stessi\, e ascoltare ciò che è più importante per noi. Torniamo dalla mente iperstimolata\, dal rumore quotidiano dentro e fuori\, dalle opinioni e dalle certezze. Torniamo ad ascoltare le difficoltà e la gioia. Torniamo a toccare il momento presente. Nella bellezza del centro di pratica Pardesa uniremo momenti di meditazione\, camminate nella natura\, pasti insieme e tempo per la riflessione personale in questo ritiro dedicato al silenzio interiore. Infatti\, limitare il parlare all’essenziale ci permette di scoprire tante voci: quelle degli uccelli\, delle foglie nel vento\, dei nostri passi e anche del cuore. \nTutti i giorni del ritiro si svolgeranno in silenzio. La sera del 31 dicembre ci godremo una cena gioiosa e faremo una meditazione seduta per accogliere la mezzanotte. All’arrivo per ritiro (martedì 30 dicembre) e alla fine (3 gennaio) condivideremo anche la parola e l’ascolto all’interno del programma di pratica. \nNon è richiesta alcuna conoscenza specifica. Si richiede una piena partecipazione alla vita comunitaria del centro di pratica. Essa comprende il rispetto degli orari delle attività\, la pratica del silenzio per la durata del ritiro\, le meditazioni\, il servizio alla comunità e i momenti di condivisione\, elementi che arricchiscono e costituiscono parte integrante dell’esperienza. \nL’insegnante\nBar Zecharya\, insegnante di Dharma nella tradizione zen fondata da Thich Nhat Hanh\, è custode di Pardesa dal 2018. Ha a cuore i temi quali: relazionarci con la Terra e con la crisi climatica; praticare in contesti e momenti di conflitto; conoscere e lavorare con la mente\, l’ego e la coscienza; vivere appieno la nostra aspirazione; e l’arte del fermarsi e guarire. \nProgramma del ritiro\nGli orari delle attività possono variare. Di seguito\, un orario d’esempio: \n6.00 sveglia\n6.45 meditazione formale mattutina e movimento del corpo\n8.00 colazione\n9.00 servizio alla Terra e alla comunità\n10.15 discorso di Dharma\n11.30 meditazione camminata\n13.00 pranzo in presenza mentale\n15.00 meditazione seduta\n15.45 meditazione camminata\n18.30 cena in presenza mentale\n20.00 meditazione formale serale \nPardesa\nè un centro di pratica di presenza mentale nella tradizione del Venerabile Thich Nhat Hanh\, attivo dal 2018\, e luogo unico che unisce la cura per la mente alla cura della Terra. Per quanto possibile\, le attività si svolgono all’aperto e in contatto con la natura. Insieme alla profondità e alla semplicità di questo modo di vivere\, abbiamo l’occasione di coltivare anche lo spirito di adattamento e la capacità di fluire con le condizioni naturali. \nTi preghiamo infine di prendere visione della vita quotidiana a Pardesa. \nIscrizione\nPer iscrizione e maggiori informazioni: Torniamo a casa\, torniamo al cuore
URL:https://www.interessere.it/evento/pardesa-ritiro-capodanno-in-silenzio/
LOCATION:Pardesa\, Livergnano\, Pianoro\, 40065
CATEGORIES:Ritiro
ATTACH;FMTTYPE=image/jpeg:https://www.interessere.it/wp-content/uploads/2025/10/buddha-riposo.jpeg
ORGANIZER;CN="La Natura della Mente APS":MAILTO:info@lanaturadellamente.it
END:VEVENT
END:VCALENDAR