BEGIN:VCALENDAR
VERSION:2.0
PRODID:-//Comunit&agrave; italiana dell'interessere - ECPv6.15.20//NONSGML v1.0//EN
CALSCALE:GREGORIAN
METHOD:PUBLISH
X-WR-CALNAME:Comunit&agrave; italiana dell'interessere
X-ORIGINAL-URL:https://www.interessere.it
X-WR-CALDESC:Eventi per Comunit&agrave; italiana dell'interessere
REFRESH-INTERVAL;VALUE=DURATION:PT1H
X-Robots-Tag:noindex
X-PUBLISHED-TTL:PT1H
BEGIN:VTIMEZONE
TZID:Europe/Rome
BEGIN:DAYLIGHT
TZOFFSETFROM:+0100
TZOFFSETTO:+0200
TZNAME:CEST
DTSTART:20240331T010000
END:DAYLIGHT
BEGIN:STANDARD
TZOFFSETFROM:+0200
TZOFFSETTO:+0100
TZNAME:CET
DTSTART:20241027T010000
END:STANDARD
BEGIN:DAYLIGHT
TZOFFSETFROM:+0100
TZOFFSETTO:+0200
TZNAME:CEST
DTSTART:20250330T010000
END:DAYLIGHT
BEGIN:STANDARD
TZOFFSETFROM:+0200
TZOFFSETTO:+0100
TZNAME:CET
DTSTART:20251026T010000
END:STANDARD
BEGIN:DAYLIGHT
TZOFFSETFROM:+0100
TZOFFSETTO:+0200
TZNAME:CEST
DTSTART:20260329T010000
END:DAYLIGHT
BEGIN:STANDARD
TZOFFSETFROM:+0200
TZOFFSETTO:+0100
TZNAME:CET
DTSTART:20261025T010000
END:STANDARD
BEGIN:DAYLIGHT
TZOFFSETFROM:+0100
TZOFFSETTO:+0200
TZNAME:CEST
DTSTART:20270328T010000
END:DAYLIGHT
BEGIN:STANDARD
TZOFFSETFROM:+0200
TZOFFSETTO:+0100
TZNAME:CET
DTSTART:20271031T010000
END:STANDARD
END:VTIMEZONE
BEGIN:VEVENT
DTSTART;TZID=Europe/Rome:20251126T183000
DTEND;TZID=Europe/Rome:20251126T195000
DTSTAMP:20260426T045845
CREATED:20251003T090352Z
LAST-MODIFIED:20251006T170917Z
UID:10000675-1764181800-1764186600@www.interessere.it
SUMMARY:“La Musica del Respiro”
DESCRIPTION:Ci sono tante sensazioni\, tante\n\nformazioni mentali\, che cercano di manifestarsi allo stesso tempo. \nE non c’è serenità in te.\nE proprio in questi momenti\, la cosa migliore da fare è suonare.\nE così dici:\nAscoltate tutti\, avrete la possibilità\ndi esprimervi\, ma ora ascoltiamo un po’ di musica.\nE inizi a suonare la musica del respiro consapevole:\nInspiro ed espiro. Sono arrivato sono a casa. Qui ed ora.\nSuoni\, hai la musica con te.\n(Thich Nhat Hanh)\n\n\n\n\n\n15 ottobre – 3 dicembre\n\n\n\nh 18:30 – 19:50\n\n\nPercorso ONLINE di 8 mercoledì su Zoom:\nhttps://us02web.zoom.us/j/6100196304?pwd=OW1xSUxpNURpVHJjSXhhWitYSi85Zz09 \n\nID riunione: 610 019 6304\nPasscode: 3VYgVh
URL:https://www.interessere.it/evento/la-musica-del-respiro-15-ottobre-3-dicembre-8-incontri-on-line-con-fratello-phap-ban/2025-11-26/
LOCATION:Online\, Online
CATEGORIES:Evento online
ATTACH;FMTTYPE=image/jpeg:https://www.interessere.it/wp-content/uploads/2025/10/IMG_3147.jpeg
END:VEVENT
BEGIN:VEVENT
DTSTART;TZID=Europe/Rome:20251203T183000
DTEND;TZID=Europe/Rome:20251203T195000
DTSTAMP:20260426T045845
CREATED:20251003T090352Z
LAST-MODIFIED:20251006T170917Z
UID:10000676-1764786600-1764791400@www.interessere.it
SUMMARY:“La Musica del Respiro”
DESCRIPTION:Ci sono tante sensazioni\, tante\n\nformazioni mentali\, che cercano di manifestarsi allo stesso tempo. \nE non c’è serenità in te.\nE proprio in questi momenti\, la cosa migliore da fare è suonare.\nE così dici:\nAscoltate tutti\, avrete la possibilità\ndi esprimervi\, ma ora ascoltiamo un po’ di musica.\nE inizi a suonare la musica del respiro consapevole:\nInspiro ed espiro. Sono arrivato sono a casa. Qui ed ora.\nSuoni\, hai la musica con te.\n(Thich Nhat Hanh)\n\n\n\n\n\n15 ottobre – 3 dicembre\n\n\n\nh 18:30 – 19:50\n\n\nPercorso ONLINE di 8 mercoledì su Zoom:\nhttps://us02web.zoom.us/j/6100196304?pwd=OW1xSUxpNURpVHJjSXhhWitYSi85Zz09 \n\nID riunione: 610 019 6304\nPasscode: 3VYgVh
URL:https://www.interessere.it/evento/la-musica-del-respiro-15-ottobre-3-dicembre-8-incontri-on-line-con-fratello-phap-ban/2025-12-03/
LOCATION:Online\, Online
CATEGORIES:Evento online
ATTACH;FMTTYPE=image/jpeg:https://www.interessere.it/wp-content/uploads/2025/10/IMG_3147.jpeg
END:VEVENT
BEGIN:VEVENT
DTSTART;VALUE=DATE:20260101
DTEND;VALUE=DATE:20260102
DTSTAMP:20260426T045845
CREATED:20251229T104419Z
LAST-MODIFIED:20260106T192024Z
UID:10000690-1767225600-1767311999@www.interessere.it
SUMMARY:“Praticare un anno con Thich Nhat Hanh” - Un percorso di pratica nella vita quotidiana
DESCRIPTION:Nel gennaio del 2024 è nata l’iniziativa online “Un anno con Thich Nhat Hanh”\, che da allora\, attraverso un canale Telegram\, ha proposto ogni giorno passaggi tratti dai suoi libri\, che potessero essere una piccola ispirazione quotidiana\, sostenendoci nel vivere sempre più in pace e armonia con noi stessi e con il mondo intorno a noi.  \nFin dall’inizio di questa iniziativa\, alcuni degli iscritti ci hanno invitato ad accompagnare queste ispirazioni quotidiane con una pratica da portare nella propria vita di tutti i giorni. Da questo invito nasce come esperimento per il 2026 una nuova proposta\, che si affianca e si integra con quella iniziale\, dedicata a chi sente in sé l’aspirazione ad accompagnare la lettura dei passaggi dei libri di Thich Nhat Hanh con un percorso di pratica nella vita quotidiana. \nAbbiamo così creato\, a fianco del canale Telegram – che in quanto “canale” permette una comunicazione essenzialmente unidirezionale – il gruppo Telegram “Praticare un anno con Thich Nhat Hanh”\, nel quale a partire dal 1° gennaio 2026 ogni due settimane invieremo un suggerimento per la pratica nella vita quotidiana\, insieme ad altri eventuali spunti di riflessione legati al tema del periodo\, che seguirà una propria evoluzione e progressività. \nA conclusione delle due settimane\, nelle quali avremo modo di mettere in pratica il suggerimento proposto\, questo gruppo Telegram si aprirà per due giorni alla condivisione delle esperienze di pratica che avremo fatto nelle due settimane appena trascorse\, in modo da essere sostenuti l’uno dal percorso dell’altra. Conclusi questi due giorni di condivisione\, il giorno successivo riceveremo un nuovo invito alla pratica e il percorso riprenderà in modo individuale per altre due settimane\, e così via. \nL’intenzione di questa iniziativa è affiancare alla lettura dei libri di Thich Nhat Hanh\, che è in sé una grande ispirazione\, la propria esperienza personale di quanto viene proposto nelle frasi condivise\, in modo da rendere viva e concreta la nostra pratica quotidiana. \nChiunque sentisse in sé la motivazione a partecipare a questa iniziativa è benvenuto\, a prescindere dalla propria esperienza con la pratica della consapevolezza alla quale Thich Nhat Hanh ci invita. L’unico requisito davvero fondamentale è l’intenzione di partecipare in modo attivo a questa esperienza\, l’intenzione di prendersi un impegno con noi stessi e di mantenerlo quanto più a lungo possibile.  \nSe senti in te questa forte motivazione\, puoi trovare tutti gli altri dettagli di questa proposta e le indicazioni per partecipare nella pagina: \nhttps://www.laviadellatrasformazione.it/praticare-un-anno-con-thich-nhat-hanh/ \n(Trattandosi di un percorso progressivo\, le iscrizioni si chiuderanno il 18 gennaio 2026)
URL:https://www.interessere.it/evento/praticare-un-anno-con-thich-nhat-hanh-un-percorso-di-pratica-nella-vita-quotidiana/
LOCATION:Online\, Online
CATEGORIES:Evento online
ATTACH;FMTTYPE=image/jpeg:https://www.interessere.it/wp-content/uploads/2025/12/thay-bambini.jpg
ORGANIZER;CN="Letizia e Stefano Carboni":MAILTO:info@laviadellatrasformazione.it
END:VEVENT
BEGIN:VEVENT
DTSTART;TZID=Europe/Rome:20260315T190000
DTEND;TZID=Europe/Rome:20260315T200000
DTSTAMP:20260426T045845
CREATED:20260306T123652Z
LAST-MODIFIED:20260306T123652Z
UID:10000709-1773601200-1773604800@www.interessere.it
SUMMARY:Domenica 15 marzo 2026\, Recitazione online dei 5 Addestramenti alla Consapevolezza
DESCRIPTION:Domenica 15 marzo 2026\ndalle ore 19 alle ore 20\nRecitazione online dei 5 Addestramenti alla Consapevolezza \n“I Cinque Addestramenti sono uno dei modi più concreti per praticare la consapevolezza. Non sono settari e la loro natura è universale. Sono vere e proprie pratiche di compassione e comprensione.” (Thich Nhat Hanh) \nDomenica 15 marzo alle ore 19\, come Comunità italiana dell’Ordine dell’Interessere\, invitiamo tutta la comunità italiana di pratica e\, più in generale\, chiunque sia interessato alla Recitazione online dei Cinque Addestramenti alla Consapevolezza. \nLa partecipazione è aperta a tutti\, non è necessario aver già ricevuto la Trasmissione dei 5 Addestramenti per poter partecipare. \nÈ possibile partecipare attraverso il seguente link Zoom:\nhttps://us06web.zoom.us/j/87585891548?pwd=EQz3dUl8931vasI3aIUHwMMQj0vrEL.1 \noppure: ID riunione : 875 8589 1548\nCodice di accesso : 111026 \nVi invitiamo a collegarvi con cinque minuti di anticipo\, in modo da prepararci alla Recitazione. \nSiamo felici di avere presto l’occasione di praticare insieme!\nLa comunità italiana dell’Ordine dell’Interessere
URL:https://www.interessere.it/evento/domenica-15-marzo-2026-recitazione-online-dei-5-addestramenti-alla-consapevolezza/
LOCATION:Online\, Online
CATEGORIES:Evento online
ATTACH;FMTTYPE=image/jpeg:https://www.interessere.it/wp-content/uploads/2025/07/sentiero.jpg
ORGANIZER;CN="Ordine dell'Interessere italiano":MAILTO:info@interessere.it
END:VEVENT
END:VCALENDAR