BEGIN:VCALENDAR
VERSION:2.0
PRODID:-//Comunit&agrave; italiana dell'interessere - ECPv6.15.20//NONSGML v1.0//EN
CALSCALE:GREGORIAN
METHOD:PUBLISH
X-ORIGINAL-URL:https://www.interessere.it
X-WR-CALDESC:Eventi per Comunit&agrave; italiana dell'interessere
REFRESH-INTERVAL;VALUE=DURATION:PT1H
X-Robots-Tag:noindex
X-PUBLISHED-TTL:PT1H
BEGIN:VTIMEZONE
TZID:Europe/Rome
BEGIN:DAYLIGHT
TZOFFSETFROM:+0100
TZOFFSETTO:+0200
TZNAME:CEST
DTSTART:20230326T010000
END:DAYLIGHT
BEGIN:STANDARD
TZOFFSETFROM:+0200
TZOFFSETTO:+0100
TZNAME:CET
DTSTART:20231029T010000
END:STANDARD
BEGIN:DAYLIGHT
TZOFFSETFROM:+0100
TZOFFSETTO:+0200
TZNAME:CEST
DTSTART:20240331T010000
END:DAYLIGHT
BEGIN:STANDARD
TZOFFSETFROM:+0200
TZOFFSETTO:+0100
TZNAME:CET
DTSTART:20241027T010000
END:STANDARD
BEGIN:DAYLIGHT
TZOFFSETFROM:+0100
TZOFFSETTO:+0200
TZNAME:CEST
DTSTART:20250330T010000
END:DAYLIGHT
BEGIN:STANDARD
TZOFFSETFROM:+0200
TZOFFSETTO:+0100
TZNAME:CET
DTSTART:20251026T010000
END:STANDARD
END:VTIMEZONE
BEGIN:VEVENT
DTSTART;TZID=Europe/Rome:20241103T093000
DTEND;TZID=Europe/Rome:20241103T160000
DTSTAMP:20260425T135021
CREATED:20241007T140403Z
LAST-MODIFIED:20241007T140406Z
UID:10000449-1730626200-1730649600@www.interessere.it
SUMMARY:Festeggiamo gli Addestramenti
DESCRIPTION:Festeggiamo gli Addestramenti\n3 novembre 2024\nGiornata di presenza mentale nella natura\ne Cerimonia di Trasmissione degli Addestramenti alla Consapevolezza\na Pardesa\, Comune di Pianoro (BO) \nLa retta azione … è la pratica dell’entrare in contatto con l’amore e prevenire ciò che può danneggiare gli esseri\, è la pratica della nonviolenza verso noi stessi e gli altri. La base della retta azione è fare ogni cosa in consapevolezza.\nThich Nhat Hanh\, da “Il cuore dell’insegnamento del Buddha” \nI Cinque Addestramenti alla Consapevolezza sono un adattamento\, proposto dal maestro Thich Nhat Hanh\, dei Cinque Precetti della tradizione buddhista. Gli addestramenti non sono un credo o una serie di comandamenti\, ma un invito a guardare diversi aspetti della propria vita alla luce della nostra più profonda aspirazione. Ascoltarli insieme per riflettere e per guardare le nostre azioni nel mondo può essere molto arricchente. La nostra presenza poi sarà di sostegno a chi riceverà formalmente gli addestramenti\, avendo partecipato al ritiro I Cinque Addestramenti dei giorni precedenti. \nQuesta giornata dedicata a trasmettere e a festeggiare gli Addestramenti alla Consapevolezza comprende la meditazione camminata e seduta all’aperto\, un pranzo condiviso\, la Cerimonia di Trasmissione dei Cinque Addestramenti alla Consapevolezza\, e la condivisione di gruppo per imparare gli unu dagli altru. Pianteremo anche un albero in memoria di Thây nella terra del nostro centro di pratica. \n\nInformazioni pratiche\nMeditazione\nQuando: domenica 3 novembre\, 9:30 – 16.00 \nDa portare: \n\ncibo vegano da condividere per pranzo\, pronto da servire\ni propri piatto/posate riutilizzabili\ncuscino/panchetto da meditazione (alcuni disponibili in sito)\nborraccia\nscarpe per camminare\n\nContributo: è gradito un contributo minimo per la giornata di €15 per coprire le spese della nostra insegnante e del nostro centro. \nNon vogliamo che il fattore economico sia limitante per la partecipazione alle nostre attività. Per eventuali difficoltà contattaci direttamente. \nIscrizione\nPer iscriverti compila il modulo iscrizione online. \nCon la conferma dell’iscrizione verranno indicati i dettagli per versare il contributo in anticipo\, in modo da rendere più fluida e facile l’accoglienza della giornata. \nPer maggiori informazioni: info@lanaturadellamente.it
URL:https://www.interessere.it/evento/festeggiamo-gli-addestramenti/
LOCATION:Pardesa\, Livergnano\, Pianoro\, 40065
CATEGORIES:Giornata di consapevolezza
ATTACH;FMTTYPE=image/jpeg:https://www.interessere.it/wp-content/uploads/2024/10/festeggiare-gli-addestramenti.jpg
ORGANIZER;CN="La Natura della Mente APS":MAILTO:info@lanaturadellamente.it
END:VEVENT
END:VCALENDAR