BEGIN:VCALENDAR
VERSION:2.0
PRODID:-//Comunit&agrave; italiana dell'interessere - ECPv6.15.20//NONSGML v1.0//EN
CALSCALE:GREGORIAN
METHOD:PUBLISH
X-ORIGINAL-URL:https://www.interessere.it
X-WR-CALDESC:Eventi per Comunit&agrave; italiana dell'interessere
REFRESH-INTERVAL;VALUE=DURATION:PT1H
X-Robots-Tag:noindex
X-PUBLISHED-TTL:PT1H
BEGIN:VTIMEZONE
TZID:Europe/Rome
BEGIN:DAYLIGHT
TZOFFSETFROM:+0100
TZOFFSETTO:+0200
TZNAME:CEST
DTSTART:20240331T010000
END:DAYLIGHT
BEGIN:STANDARD
TZOFFSETFROM:+0200
TZOFFSETTO:+0100
TZNAME:CET
DTSTART:20241027T010000
END:STANDARD
BEGIN:DAYLIGHT
TZOFFSETFROM:+0100
TZOFFSETTO:+0200
TZNAME:CEST
DTSTART:20250330T010000
END:DAYLIGHT
BEGIN:STANDARD
TZOFFSETFROM:+0200
TZOFFSETTO:+0100
TZNAME:CET
DTSTART:20251026T010000
END:STANDARD
BEGIN:DAYLIGHT
TZOFFSETFROM:+0100
TZOFFSETTO:+0200
TZNAME:CEST
DTSTART:20260329T010000
END:DAYLIGHT
BEGIN:STANDARD
TZOFFSETFROM:+0200
TZOFFSETTO:+0100
TZNAME:CET
DTSTART:20261025T010000
END:STANDARD
END:VTIMEZONE
BEGIN:VEVENT
DTSTART;TZID=Europe/Rome:20250927T100000
DTEND;TZID=Europe/Rome:20250927T170000
DTSTAMP:20260423T122315
CREATED:20250910T161112Z
LAST-MODIFIED:20250911T084049Z
UID:10000661-1758967200-1758992400@www.interessere.it
SUMMARY:"Essere pace\, per costruire la pace insieme": Pontedera (PI)\, Sabato 27 settembre - Giornata di consapevolezza con Adriana Rocco
DESCRIPTION:Essere pace\nPer costruire la pace insieme\nSabato 27 settembre ore 10.00 – 17.00\nSpazio Nu – Pontedera (Pisa) Via Firenze \nGiornata di consapevolezza\nnella tradizione del Maestro Zen Thich Nhat Hanh\ncon Adriana Rocco \nEntriamo nel tempo dell’autunno con nuova determinazione. \nVogliamo dedicarci a comprendere e mettere in pratica insegnamenti millenari che aiutano ad aver cura della Vita in noi e intorno a noi\, ricordando chi siamo\, nella profondità dell’Essere. Abbiamo bisogno di una mente chiara non oberata da fretta\, ansia\, preoccupazione\, paura. Desideriamo apprendere e praticare l’arte di  riconoscere e lasciar andare le percezioni erronee\, i pregiudizi\, le abitudini malsane nel pensare\, parlare\, agire\, causa di sofferenza in noi e intorno a noi. \nPossiamo così iniziare a liberare lo spazio interiore\, gioire di uno sguardo limpido e un cuore aperto a fare la pace prima di tutto con noi stessi. \nE possiamo Essere Pace Insieme\, dandoci la mano. \n— \nQuesto incontro fa parte di un percorso-laboratorio di “Educazione all’Arte di aver cura di sé per aver cura degli altri” dedicato a tutte e tutti\, giovani e meno giovani\, studenti\, insegnanti\, genitori e bambine/i \nProssimi appuntamenti: 31 Gennaio 2026 – 18 Aprile 2026 – 4 Luglio 2026 \nL’incontro è su prenotazione\, con contributo libero e consapevole \nPortare tappetino\, cuscino e uno scialle per il rilassamento profondo \nCondividiamo il pranzo vegetariano preparato dalla cucina dello Spazio NU al costo di 10€. \nPer informazioni e per confermare la partecipazione qualche giorno prima:\nspazionu@gmail.com\nadrianarocco41@gmail.com – 338 2416345
URL:https://www.interessere.it/evento/essere-pace-per-costruire-la-pace-insieme-pontedera-pi-sabato-27-settembre-giornata-di-consapevolezza-con-adriana-rocco/
LOCATION:Spazio Nu – Pontedera (Pisa)\, Via Firenze\, 42\, Pontedera\, 56025\, Italy
CATEGORIES:Giornata di consapevolezza
ATTACH;FMTTYPE=image/jpeg:https://www.interessere.it/wp-content/uploads/2025/02/Peace_is_the_Way.jpg
ORGANIZER;CN="Adriana Rocco":MAILTO:adrianarocco41@gmail.com
END:VEVENT
END:VCALENDAR