BEGIN:VCALENDAR
VERSION:2.0
PRODID:-//Comunit&agrave; italiana dell'interessere - ECPv6.15.20//NONSGML v1.0//EN
CALSCALE:GREGORIAN
METHOD:PUBLISH
X-ORIGINAL-URL:https://www.interessere.it
X-WR-CALDESC:Eventi per Comunit&agrave; italiana dell'interessere
REFRESH-INTERVAL;VALUE=DURATION:PT1H
X-Robots-Tag:noindex
X-PUBLISHED-TTL:PT1H
BEGIN:VTIMEZONE
TZID:Europe/Rome
BEGIN:DAYLIGHT
TZOFFSETFROM:+0100
TZOFFSETTO:+0200
TZNAME:CEST
DTSTART:20240331T010000
END:DAYLIGHT
BEGIN:STANDARD
TZOFFSETFROM:+0200
TZOFFSETTO:+0100
TZNAME:CET
DTSTART:20241027T010000
END:STANDARD
BEGIN:DAYLIGHT
TZOFFSETFROM:+0100
TZOFFSETTO:+0200
TZNAME:CEST
DTSTART:20250330T010000
END:DAYLIGHT
BEGIN:STANDARD
TZOFFSETFROM:+0200
TZOFFSETTO:+0100
TZNAME:CET
DTSTART:20251026T010000
END:STANDARD
BEGIN:DAYLIGHT
TZOFFSETFROM:+0100
TZOFFSETTO:+0200
TZNAME:CEST
DTSTART:20260329T010000
END:DAYLIGHT
BEGIN:STANDARD
TZOFFSETFROM:+0200
TZOFFSETTO:+0100
TZNAME:CET
DTSTART:20261025T010000
END:STANDARD
END:VTIMEZONE
BEGIN:VEVENT
DTSTART;TZID=Europe/Rome:20251109T093000
DTEND;TZID=Europe/Rome:20251109T170000
DTSTAMP:20260423T094149
CREATED:20251018T162258Z
LAST-MODIFIED:20251018T162354Z
UID:10000678-1762680600-1762707600@www.interessere.it
SUMMARY:9 novembre a Pardesa: Presenza mentale e la natura
DESCRIPTION:Presenza mentale e la natura\nGiornata di pratica di presenza mentale\nnella tradizione di Thich Nhat Hanh\ndomenica 9 novembre 2025\nal centro di pratica Pardesa\ncon l’insegnante di Dharma Bar Zecharya \nQuando la brezza attraversa i pini o gli aceri\, il suono che ne nasce è infinitamente bello. Il Sutra di Amitabha non parla del suono della pioggia\, ma anche quello è molto rasserenante e piacevole. A volte negli acquazzoni più forti lo scroscio della pioggia ci rinfresca l’anima: lo ascoltiamo come se fosse la musica degli dèi o l’armonia di un discorso di Dharma.\n– Thich Nhat Hanh\, da “La nostra vera dimora” \nSiamo invitati a una giornata di pratica di presenza mentale\, nella tradizione di Thich Nhat Hanh\, con la natura e con la nostra comunità. Ci lasceremo nutrire dalla bellezza della Terra e insieme coltiviamo la capacità di essere in contatto con il miracolo del momento presente. Praticheremo la meditazione seduta e camminata\, e ci godremo un pranzo in consapevolezza\, l’insegnamento e la condivisione. \nInformazioni pratiche\nQuando: domenica 9 novembre 2025 9:30 – 17.00 \nAiutiamo a coordinare i partecipanti a condividere il viaggio\, con il punto d’incontro alla stazione ferroviaria di Pianoro alle ore 9.10 e la partenza da Pianoro alle ore 17.30. \nDa portare: \n\ncibo vegano da condividere per pranzo\, pronto da servire\ncuscino/panchetto da meditazione (alcuni cuscini sono disponibili in sito)\nborraccia\ncappello/impermeabile dipende dal meteo\nscarpe per camminare\n\nContributo: €20 per sostenere il centro di pratica Pardesa \nNon vogliamo che il fattore economico sia limitante per la partecipazione alle nostre attività. Per eventuali difficoltà contattaci direttamente. \nIscrizione\nPer iscrizione e maggiori informazioni: Presenza mentale e la natura
URL:https://www.interessere.it/evento/9-novembre-a-pardesa-presenza-mentale-e-la-natura/
LOCATION:Pardesa\, Livergnano\, Pianoro\, 40065
CATEGORIES:Giornata di consapevolezza
ATTACH;FMTTYPE=image/jpeg:https://www.interessere.it/wp-content/uploads/2025/10/paesaggio-per-contemplare.jpg
ORGANIZER;CN="La Natura della Mente APS":MAILTO:info@lanaturadellamente.it
END:VEVENT
END:VCALENDAR