BEGIN:VCALENDAR
VERSION:2.0
PRODID:-//Comunit&agrave; italiana dell'interessere - ECPv6.15.20//NONSGML v1.0//EN
CALSCALE:GREGORIAN
METHOD:PUBLISH
X-ORIGINAL-URL:https://www.interessere.it
X-WR-CALDESC:Eventi per Comunit&agrave; italiana dell'interessere
REFRESH-INTERVAL;VALUE=DURATION:PT1H
X-Robots-Tag:noindex
X-PUBLISHED-TTL:PT1H
BEGIN:VTIMEZONE
TZID:Europe/Rome
BEGIN:DAYLIGHT
TZOFFSETFROM:+0100
TZOFFSETTO:+0200
TZNAME:CEST
DTSTART:20230326T010000
END:DAYLIGHT
BEGIN:STANDARD
TZOFFSETFROM:+0200
TZOFFSETTO:+0100
TZNAME:CET
DTSTART:20231029T010000
END:STANDARD
BEGIN:DAYLIGHT
TZOFFSETFROM:+0100
TZOFFSETTO:+0200
TZNAME:CEST
DTSTART:20240331T010000
END:DAYLIGHT
BEGIN:STANDARD
TZOFFSETFROM:+0200
TZOFFSETTO:+0100
TZNAME:CET
DTSTART:20241027T010000
END:STANDARD
BEGIN:DAYLIGHT
TZOFFSETFROM:+0100
TZOFFSETTO:+0200
TZNAME:CEST
DTSTART:20250330T010000
END:DAYLIGHT
BEGIN:STANDARD
TZOFFSETFROM:+0200
TZOFFSETTO:+0100
TZNAME:CET
DTSTART:20251026T010000
END:STANDARD
BEGIN:DAYLIGHT
TZOFFSETFROM:+0100
TZOFFSETTO:+0200
TZNAME:CEST
DTSTART:20260329T010000
END:DAYLIGHT
BEGIN:STANDARD
TZOFFSETFROM:+0200
TZOFFSETTO:+0100
TZNAME:CET
DTSTART:20261025T010000
END:STANDARD
END:VTIMEZONE
BEGIN:VEVENT
DTSTART;TZID=Europe/Rome:20241130T110000
DTEND;TZID=Europe/Rome:20241130T130000
DTSTAMP:20260423T015537
CREATED:20241121T201734Z
LAST-MODIFIED:20241127T185114Z
UID:10000471-1732964400-1732971600@www.interessere.it
SUMMARY:Sabato 30 novembre 2024 ore 11: “Entrare in contatto con la semplicità”\,  Meditazione Camminata Internazionale
DESCRIPTION:Sabato 30 novembre 2024\, ore 11\n“Entrare in contatto con la semplicità”\nMeditazione Camminata Internazionale \nSabato 30 novembre alle ore 11 in vari luoghi nel Mondo (Italia inclusa\, v. sotto) avrà luogo una Meditazione Camminata Internazionale sul tema “Entrare in contatto con la Semplicità”. Ad oggi\, ci sono già 56 città in 21 paesi che hanno aderito\, la metà delle quali per la prima volta. Siamo felici di dare il benvenuto a nuovi partecipanti come Amsterdam\, Bogotà\, Brighton\, Lussemburgo\, Neve Shalom-Wahat al-Salam\, Parigi\, Phnom Phen\, Torino e… le Isole Galapagos. Cammineremo anche a Berlino\, Barcellona\, Cambridge\, Gerusalemme\, Roma\, Vienna\, Poznan e in molti altri luoghi del nostro prezioso pianeta\, coordinando le nostre camminate all’interno dei fusi orari (ad esempio in Europa centrale alle 11 del mattino (CET). Per l’elenco completo dei partecipanti (in continuo aggiornamento) clicca qui: https://achtsame-wirtschaft.de/international-walking-meditation-2024.html \nConnettersi con amici di tutto il mondo è davvero stimolante e camminare insieme in meditazione ancora di più (guarda le impressioni dell’anno scorso). Quest’anno approfondiremo la pratica dell’ “Entrare in contatto con la Semplicità”\, camminando nello spirito di Thây\, che ha insegnato a molti di noi a trasformare i nostri passi e a toccare la terra in modo più pacifico. \nPuoi unirti alla nostra camminata fino all’ultimo minuto\, basta trovare qualche amico per camminare insieme – puoi mantenere la semplicità. Se vuoi entrare in contatto più profondamente e vuoi organizzare una camminata con il tuo sangha o invitare altri gruppi della tua regione a partecipare\, fallo e facci sapere… 🙂 In questo caso\, inviaci una e-mail (walking-meditation@achtsame-wirtschaft.de) e\, se vuoi\, un pdf o un altro link con maggiori informazioni sulla tua camminata locale. Ti aggiungeremo così alla nostra pagina dell’evento internazionale e sarai incluso nel processo di comunicazione che ci permetterà di condividere esperienze\, impressioni e foto in tutto il mondo. E ti preghiamo di diffondere la notizia agli amici del sangha interessati nel tuo paese e in tutto il mondo. \nPer quanto riguarda le iniziative in Italia\, queste sono le città che hanno già aderito per sabato 30 novembre alle ore 11:\n> Siracusa\, lungo le rive del fiume Ciane. Per informazioni telefonare a Giovanni: 3337032255. Per arrivare cercare su google “Area attrezzata fiume Ciane”.\n> Torino\, appuntamento al parcheggio davanti alla stazione dei carabinieri di C.so Appio Claudio 80\, la meditazione camminata sarà dentro il Parco della Pellerina. Per informazioni chiamare Elena al 3285746626.\n> Roma\, incontro a Villa Borghese davanti alla Casa del Cinema alle 10.45 per iniziare alle 11. Per ulteriori informazioni contattare Francesca tel 3332711776\, fran.brasi@gmail.com\n> Vicenza\, camminata in città con ritrovo e partenza da piazzale Esedra (vicino al busto di Gandhi). Per informazioni contattare Massimo al 3420430339 o mascorradi@gmail.com\n> Firenze\, ritrovo alle ore 11.00 all’ingresso del Giardino dell’Orticoltura a Firenze\, via Vittorio Emanuele II n.4. Meditazione camminata\, letture\, canzoni e altre proposte. Conclusione con un pranzo condiviso vegetariano/vegano. Per ulteriori informazioni contattare Silvio: silvio.demagistris@unifi.it o 3478266264. \n\nCONTEMPLAZIONI SULLA SEMPLICITÀ\nChe io possa rendermi conto che nella mia vita ci sono già condizioni più che suﬀicienti per essere felice.\nChe io possa paragonarmi meno agli altri e trovare la mia misura.\nChe io possa semplicemente camminare\, lasciando che preoccupazioni e paure si calmino.\nChe io possa imparare a lasciar andare le mie richieste e aspettative.\nChe io possa entrare in contatto con la gioia e la libertà di una vita semplice scelta da me stesso.\nChe io possa lasciare andare le cose inutili e liberarmi dal bagaglio interiore.\nChe io possa sperimentare la gioia di dare senza aspettative.\nChe io possa dimorare semplicemente e felicemente nel momento presente\, notando che non c’è nulla che io debba fare.\nChe io possa invitare le persone che raramente sono soddisfatte a unirsi a me nello spirito durante la camminata.\nChe tutti gli esseri siano felici. \nLe meditazioni camminate internazionali sono organizzate da sangha e gruppi Wake Up nella tradizione di Thich Nhat Hanh\, dall’Ordine dell’Interessere e da gruppi locali del Network for Mindful Business\, spesso in collaborazione con altri gruppi locali che amano la meditazione camminata e sono ispirati dal tema. \nIl Network for Mindful Business coordina questo evento dal 2010\, camminando ogni anno il sabato precedente il primo Avvento\, scegliendo ogni anno un nuovo tema che sembra rilevante per il nostro tempo (per esempio nel 2023: Risveglio all’Interessere -> vedi impressioni).
URL:https://www.interessere.it/evento/sabato-30-novembre-2024-ore-11-entrare-in-contatto-con-la-semplicita-meditazione-camminata-internazionale/
CATEGORIES:Meditazione camminata
ATTACH;FMTTYPE=image/jpeg:https://www.interessere.it/wp-content/uploads/2024/11/touching_simplicity.jpeg
END:VEVENT
BEGIN:VEVENT
DTSTART;TZID=Europe/Rome:20250504T093000
DTEND;TZID=Europe/Rome:20250504T180000
DTSTAMP:20260423T015537
CREATED:20250501T165219Z
LAST-MODIFIED:20250501T170229Z
UID:10000616-1746351000-1746381600@www.interessere.it
SUMMARY:"Respirare con la foresta"\, Camaldoli 4 maggio 2025: Escursione nella foresta con gli amici monaci
DESCRIPTION:✨DOMENICA 4 MAGGIO✨\nRESPIRARE CON LA FORESTA\n\nEscursione nella foresta di Camaldoli (AR)\ncon i fratelli monaci\n\nall’interno della quale ci sarà la possibilità di praticare la\nmeditazione nella tradizione di Plum Village. \nLa foresta di Camaldoli è patrimonio dell’UNESCO. La guida escursionistica Daniele Silvestri (@laconteadelcasentino) ha invitato due monaci: Fratello Nyanayasha (che arriverà qui in Italia dopo una visita a Plum Village) e Fratello Dao Phuong (monaco discepolo di Thích Nhất Hạnh) a guidare una meditazione camminata e un rilassamento profondo all’interno di un escursione nella bellissima foresta di Camaldoli. \nSaranno due sessioni di 3 ore l’una. Una la mattina a partire dalle 09:30 e l’altra nel pomeriggio a partire dalle 15:00. Entrambe includeranno momenti di meditazione camminata e\, per la prima volta durante queste escursioni\, avremo l’opportunità di sperimentare una pratica di rilassamento profondo sdraiati nei prati o tra gli alberi della faggeta\, il tutto accompagnato da un delizioso tè. \nInoltre\, sarà offerta una condivisione sul parco e la sua foresta simbolo: Sasso Fratino\, la prima riserva integrale d’Italia\, istituita nel 1959. \nImpareremo anche tante curiosità affascinanti su Camaldoli e la sua natura\, come la maestosa corona di 242 Abeti Bianchi che circondano l’eremo. \nUnisciti a noi per una giornata di bellezza\, meditazione e approfondimento nella natura! \n?DOVE? Eremo di Camaldoli. \n?QUANDO? ⏰DOMENICA 4 MAGGIO mattina: 09.30-12.30 Pomeriggio 15:00-18:00 5km? \nLIVELLO: turistico\, adatto a tutti.? \nOBBLIGATORIO: Scarpe adatte a camminare in foresta. Acqua. \nCONSIGLIO: Coperta o materassino Per sdraiarsi nella pratica di rilassamento profondo. \nINFO E ISCRIZIONI: contattare su whatsapp Daniele: 3280252509 \nLe pratiche offerte dai fratelli monaci saranno ispirate dagli insegnanti del Maestro Thich Nhất Hạnh.
URL:https://www.interessere.it/evento/respirare-con-la-foresta-camaldoli-4-maggio-2025-escursione-nella-foresta-con-gli-amici-monaci/
LOCATION:Foresta di Camaldoli
CATEGORIES:Meditazione camminata
ATTACH;FMTTYPE=image/png:https://www.interessere.it/wp-content/uploads/2025/05/camaldoli.png
END:VEVENT
BEGIN:VEVENT
DTSTART;TZID=Europe/Rome:20250615T100000
DTEND;TZID=Europe/Rome:20250615T120000
DTSTAMP:20260423T015537
CREATED:20250612T095213Z
LAST-MODIFIED:20250613T101005Z
UID:10000630-1749981600-1749988800@www.interessere.it
SUMMARY:Fermiamoci: è il momento di essere pace
DESCRIPTION:A sostegno della Marcia Globale verso Gaza (info qui: https://marchtogaza.net/)\nnoi che non andiamo ci riuniamo e camminiamo in pace e sorellanza portando\nnel cuore chi soffre in Palestina per l’oppressione e lo sterminio.\nPratichiamo il silenzio e il raccoglimento seguendo l’esempio\ndel Maestro Zen Thich Nhat Hanh\, costruttore di pace.\nNessuna bandiera\, nessuno slogan\, un solo messaggio:\nstop alla violenza\, onoriamo la vita.
URL:https://www.interessere.it/evento/fermiamoci-e-il-momento-di-essere-pace/
LOCATION:Lungomare del Foro Italico – Palermo
CATEGORIES:Meditazione camminata
ATTACH;FMTTYPE=image/jpeg:https://www.interessere.it/wp-content/uploads/2025/06/fermiamoci.jpg
END:VEVENT
BEGIN:VEVENT
DTSTART;TZID=Europe/Rome:20250629T100000
DTEND;TZID=Europe/Rome:20250629T170000
DTSTAMP:20260423T015537
CREATED:20250513T072000Z
LAST-MODIFIED:20250513T072057Z
UID:10000622-1751191200-1751216400@www.interessere.it
SUMMARY:La generosità come via spirituale
DESCRIPTION:La generosità come via spirituale\nGiornata di pratica di presenza mentale\nnella tradizione di Thich Nhat Hanh\ndomenica 29 giugno 2025\nal centro di pratica Pardesa\ncon Bar Zecharya \nSembra che questo mondo ci insegni a considerare i nostri interessi sopra ogni altra cosa\, a cercare vantaggio dalle situazioni e dalle relazioni e a stare in allerta dagli altri che potrebbero fare lo stesso. La generosità sarebbe così una qualità riservata solo per chi gode già di qualche ricchezza\, sicurezza o privilegio in più. Secondo gli insegnamenti della tradizione buddhista\, invece\, la generosità è una qualità disponibile proprio nella nostra realtà di incertezze e di impermanenza. \nColtivandola con il corpo\, con le parole e con i pensieri\, scopriamo in prima persona quanto la generosità possa essere una risorsa preziosa nella nostra vita e nel nostro cammino. \nQuesta giornata di pratica di presenza mentale nella tradizione del maestro zen Thich Nhat Hanh comprende la meditazione seduta guidata\, la meditazione camminata all’aperto\, l’insegnamento\, un pasto vegano condiviso in consapevolezza e la condivisione della parola e del silenzio. \nL’insegnante\nBar Zecharya è insegnante di Dharma e facilita gruppi in Italia\, in Israele e Palestina e negli Stati Uniti. Dal 1997 è allievo laico del maestro zen Thich Nhat Hanh\, da cui è stato ordinato nel 2010 come membro dell’Ordine dell’Interessere. Dal 2018 Bar è custode di Pardesa\, centro di pratica nell’Appennino bolognese che unisce la cura della mente alla cura della Terra.\nInformazioni pratiche \nQuando\ndomenica 29 giugno 2025 10:00 – 17.00 \nDa portare\n\ncibo vegano da condividere per pranzo\, pronto a servire\ni propri piatto/posate riutilizzabili\ncuscino/panchetto da meditazione (alcuni disponibili in sito)\nborraccia\ncappello\nscarpe per camminare\n\nContributo: €20 per sostenere il centro di pratica Pardesa \nNon vogliamo che il fattore economico sia limitante per la partecipazione alle nostre attività. Per eventuali difficoltà contattaci direttamente. \nIscrizione\nPer iscrizione e maggiori informazioni vedi La generosità come via spirituale
URL:https://www.interessere.it/evento/la-generosita-come-via-spirituale/
LOCATION:Pardesa\, Livergnano\, Pianoro\, 40065
CATEGORIES:Meditazione camminata,Ritiro
ATTACH;FMTTYPE=image/jpeg:https://www.interessere.it/wp-content/uploads/2025/05/generosita.jpg
ORGANIZER;CN="La Natura della Mente APS":MAILTO:info@lanaturadellamente.it
END:VEVENT
END:VCALENDAR