BEGIN:VCALENDAR
VERSION:2.0
PRODID:-//Comunit&agrave; italiana dell'interessere - ECPv6.15.20//NONSGML v1.0//EN
CALSCALE:GREGORIAN
METHOD:PUBLISH
X-WR-CALNAME:Comunit&agrave; italiana dell'interessere
X-ORIGINAL-URL:https://www.interessere.it
X-WR-CALDESC:Eventi per Comunit&agrave; italiana dell'interessere
REFRESH-INTERVAL;VALUE=DURATION:PT1H
X-Robots-Tag:noindex
X-PUBLISHED-TTL:PT1H
BEGIN:VTIMEZONE
TZID:Europe/Rome
BEGIN:DAYLIGHT
TZOFFSETFROM:+0100
TZOFFSETTO:+0200
TZNAME:CEST
DTSTART:20230326T010000
END:DAYLIGHT
BEGIN:STANDARD
TZOFFSETFROM:+0200
TZOFFSETTO:+0100
TZNAME:CET
DTSTART:20231029T010000
END:STANDARD
BEGIN:DAYLIGHT
TZOFFSETFROM:+0100
TZOFFSETTO:+0200
TZNAME:CEST
DTSTART:20240331T010000
END:DAYLIGHT
BEGIN:STANDARD
TZOFFSETFROM:+0200
TZOFFSETTO:+0100
TZNAME:CET
DTSTART:20241027T010000
END:STANDARD
BEGIN:DAYLIGHT
TZOFFSETFROM:+0100
TZOFFSETTO:+0200
TZNAME:CEST
DTSTART:20250330T010000
END:DAYLIGHT
BEGIN:STANDARD
TZOFFSETFROM:+0200
TZOFFSETTO:+0100
TZNAME:CET
DTSTART:20251026T010000
END:STANDARD
END:VTIMEZONE
BEGIN:VEVENT
DTSTART;VALUE=DATE:20240101
DTEND;VALUE=DATE:20240102
DTSTAMP:20260422T211125
CREATED:20231227T162833Z
LAST-MODIFIED:20231228T144201Z
UID:10000341-1704067200-1704153599@www.interessere.it
SUMMARY:Un anno con Thich Nhat Hanh e con i suoi insegnamenti\, giorno dopo giorno
DESCRIPTION:Care amiche\, cari amici\, \navendo sempre nel cuore l’invito di Thich Nhat Hanh – “Nuovo anno\, nuovo me” – è nata in noi l’intenzione di offrire a noi stessi e a tutta la comunità dei praticanti una piccola ispirazione quotidiana\, che possa sostenerci nell’intenzione di vivere sempre più in pace e armonia con noi stessi e con ogni altro essere ed elemento intorno a noi. \nA partire dal 1° gennaio 2024 abbiamo quindi pensato di offrire ogni giorno una citazione tratta da uno dei libri di Thây (“Maestro” in vietnamita\, come viene affettuosamente chiamato Thich Nhat Hanh dai suoi studenti)\, una sua riflessione che possa accompagnarci e sostenerci durante la giornata\, dandoci allo stesso tempo l’opportunità di approfondire la pratica gentile e profonda che ci ha offerto e ancora ci offre. \nSe desiderate unirvi a quest’esperienza\, basterà iscrivervi al canale Telegram “Un anno con Thich Nhat Hanh”: in questo modo ogni mattina riceverete una riflessione tratta da uno dei suoi libri. Per farlo\, se non lo avete ancora fatto\, basterà installare l’applicazione Telegram sul vostro telefono e cercare il canale digitandone il nome (“Un anno con Thich Nhat Hanh”) oppure cliccare su questo link: https://t.me/unannoconthay \nSe vi fa piacere sostenere questa iniziativa\, saremmo davvero grati di sapere quali passaggi dei libri di Thich Nhat Hanh sono stati particolarmente significativi per voi. Grazie di farcelo sapere scrivendo a:\nunannoconthay@laviadellatrasformazione.it\nmandandoci la citazione di Thây che avete nel cuore (includendo il libro da cui l’avete tratta e le relative informazioni: editore\, anno di pubblicazione e pagina della citazione)\, in modo da poterla aggiungere a quelle che ci hanno ispirato e che dal 1° gennaio 2024\, giorno dopo giorno\, condivideremo sul canale Telegram “Un anno con Thich Nhat Hanh”! \nRingraziamo di cuore Valentina Tibaldo\, compagna di pratica e giovane membro della Comunità dell’Interessere\, che ci ha sostenuto e ci sostiene in questa iniziativa.\nInsieme a Borje Tobiasson\, anch’egli membro della Comunità dell’Interessere\, che ci ha permesso di condividere questa bellissima foto che ha scattato a Thây nel 2012\, ringraziamo anche tutte le compagne e i compagni di pratica che negli ultimi anni hanno fatto maturare in noi l’intenzione di offrire questo spazio quotidiano di riflessione e di pratica. \nVi auguriamo un anno di serena e gioiosa trasformazione\,\nLetizia e Stefano \nP.S.: se non avete esperienza con Telegram (una app del tutto simile a WhatsApp)\, potete trovare un’introduzione al suo uso in questa pagina: https://www.lalupinella.it/telegram-in-pillole-video-tutorial/\nIn particolare\, può esservi utile il video: https://youtu.be/1H3NctCz81E\nSe avete difficoltà a iscrivervi al canale o a ricevere i messaggi\, scriveteci pure a unannoconthay@laviadellatrasformazione.it e faremo del nostro meglio per aiutarvi.
URL:https://www.interessere.it/evento/un-anno-con-thich-nhat-hanh-e-con-i-suoi-insegnamenti-giorno-dopo-giorno/
LOCATION:Online\, Online
CATEGORIES:Telegram
ATTACH;FMTTYPE=image/jpeg:https://www.interessere.it/wp-content/uploads/2023/12/un-anno-con-thay.jpg
ORGANIZER;CN="Letizia e Stefano Carboni":MAILTO:info@laviadellatrasformazione.it
END:VEVENT
END:VCALENDAR