BEGIN:VCALENDAR
VERSION:2.0
PRODID:-//Comunit&agrave; italiana dell'interessere - ECPv6.15.20//NONSGML v1.0//EN
CALSCALE:GREGORIAN
METHOD:PUBLISH
X-ORIGINAL-URL:https://www.interessere.it
X-WR-CALDESC:Eventi per Comunit&agrave; italiana dell'interessere
REFRESH-INTERVAL;VALUE=DURATION:PT1H
X-Robots-Tag:noindex
X-PUBLISHED-TTL:PT1H
BEGIN:VTIMEZONE
TZID:Europe/Rome
BEGIN:DAYLIGHT
TZOFFSETFROM:+0100
TZOFFSETTO:+0200
TZNAME:CEST
DTSTART:20240331T010000
END:DAYLIGHT
BEGIN:STANDARD
TZOFFSETFROM:+0200
TZOFFSETTO:+0100
TZNAME:CET
DTSTART:20241027T010000
END:STANDARD
BEGIN:DAYLIGHT
TZOFFSETFROM:+0100
TZOFFSETTO:+0200
TZNAME:CEST
DTSTART:20250330T010000
END:DAYLIGHT
BEGIN:STANDARD
TZOFFSETFROM:+0200
TZOFFSETTO:+0100
TZNAME:CET
DTSTART:20251026T010000
END:STANDARD
BEGIN:DAYLIGHT
TZOFFSETFROM:+0100
TZOFFSETTO:+0200
TZNAME:CEST
DTSTART:20260329T010000
END:DAYLIGHT
BEGIN:STANDARD
TZOFFSETFROM:+0200
TZOFFSETTO:+0100
TZNAME:CET
DTSTART:20261025T010000
END:STANDARD
END:VTIMEZONE
BEGIN:VEVENT
DTSTART;VALUE=DATE:20250210
DTEND;VALUE=DATE:20250226
DTSTAMP:20260423T092129
CREATED:20240730T091950Z
LAST-MODIFIED:20240730T101919Z
UID:10000404-1739145600-1740527999@www.interessere.it
SUMMARY:In viaggio da Thây: Vietnam\, 10 - 25 febbraio 2025
DESCRIPTION:In viaggio da Thây\nVietnam\, 10 – 25 febbraio 2025 (15 giorni/14notti)\nViaggio di Consapevolezza\n \nAlla scoperta delle radici spirituali e culturali del Maestro Zen Thich Nhat Hanh ( per tutti Thây) \n“Un ritiro itinerante” dal nord al sud del paese dove si alterneranno momenti di pratica buddista zen\, (legate al lignaggio di Plum Village) ad esperienze di viaggio consapevoli e responsabili\, finalizzate a favorire il contatto e l’incontro con l’ambiente e la popolazione locale. \nMomenti salienti del “Viaggio” saranno: \nL’incontro con la comunita’ monastica del “Tempio Radice” di Tu Hieu ad Hue’ (Il tempio in cui “Thay” ricevette la sua ordinazione monastica). \nLa visita alla zona degli altipiani centrali in particolare il monastero di Tu Vien situato nella localita di Bat Nha \,l’altopiano di Phuong Boi e il tempio di Tu Duc nella provincia meridionale  di Cam Ranh. \nAll’arrivo a Saigon e’ prevista la visita guidata alla scuola di servizio sociale fondata da Thay a Sai gon dove fu istituito l’Ordine dell”Interessere e la prima comunita’ Tiep Hien. \nSaranno incentivate pratiche di gruppo care alla tradizione di”Plum Village” come momenti di incontro\, ascolto e scambio tra i partecipanti al gruppo. \nSono previste infatti sezioni di meditazione\, pratiche di risveglio del corpo e momenti di condivisione. \nIl viaggio prevede un numero massimo di partecipanti di 20 persone affiancate da un accompagnatore italiano con familiarita’ alle pratiche spirituali di riferimento  ed una guida turistica professionale locale. \nI servizi legati all’esperienze turistiche\, dove possibile sono stati scelti seguendo criteri di rispetto e sostenibilita’ ambientale  favorendo fornitori locali guidati da principi d’iniziativa economica a responsabilita’ sociale. \nNumero massimo partecipanti: 20 \n \nPer maggiori informazioni scrivere a Fabio Cappiello: fabio.hanoi@gmail.com
URL:https://www.interessere.it/evento/in-viaggio-da-thay-vietnam-10-25-febbraio-2025/
LOCATION:Vietnam\, Duong Xuan Thuong III village\, Thủy Xuân\, Thành phố Huế\, Thừa Thiên\, Huế\, Vietnam
CATEGORIES:Viaggio
ATTACH;FMTTYPE=image/jpeg:https://www.interessere.it/wp-content/uploads/2023/09/Cerchio-Dinh-Quan-scaled.jpg
GEO:16.43961849762;107.57185333864
X-APPLE-STRUCTURED-LOCATION;VALUE=URI;X-ADDRESS=Vietnam Duong Xuan Thuong III village Thủy Xuân Thành phố Huế Thừa Thiên Huế Vietnam;X-APPLE-RADIUS=500;X-TITLE=Duong Xuan Thuong III village\, Thủy Xuân\, Thành phố Huế\, Thừa Thiên:geo:107.57185333864,16.43961849762
END:VEVENT
END:VCALENDAR