BEGIN:VCALENDAR
VERSION:2.0
PRODID:-//Comunit&agrave; italiana dell'interessere - ECPv6.15.20//NONSGML v1.0//EN
CALSCALE:GREGORIAN
METHOD:PUBLISH
X-ORIGINAL-URL:https://www.interessere.it
X-WR-CALDESC:Eventi per Comunit&agrave; italiana dell'interessere
REFRESH-INTERVAL;VALUE=DURATION:PT1H
X-Robots-Tag:noindex
X-PUBLISHED-TTL:PT1H
BEGIN:VTIMEZONE
TZID:Europe/Rome
BEGIN:DAYLIGHT
TZOFFSETFROM:+0100
TZOFFSETTO:+0200
TZNAME:CEST
DTSTART:20240331T010000
END:DAYLIGHT
BEGIN:STANDARD
TZOFFSETFROM:+0200
TZOFFSETTO:+0100
TZNAME:CET
DTSTART:20241027T010000
END:STANDARD
BEGIN:DAYLIGHT
TZOFFSETFROM:+0100
TZOFFSETTO:+0200
TZNAME:CEST
DTSTART:20250330T010000
END:DAYLIGHT
BEGIN:STANDARD
TZOFFSETFROM:+0200
TZOFFSETTO:+0100
TZNAME:CET
DTSTART:20251026T010000
END:STANDARD
BEGIN:DAYLIGHT
TZOFFSETFROM:+0100
TZOFFSETTO:+0200
TZNAME:CEST
DTSTART:20260329T010000
END:DAYLIGHT
BEGIN:STANDARD
TZOFFSETFROM:+0200
TZOFFSETTO:+0100
TZNAME:CET
DTSTART:20261025T010000
END:STANDARD
END:VTIMEZONE
BEGIN:VEVENT
DTSTART;TZID=Europe/Rome:20250611T183000
DTEND;TZID=Europe/Rome:20250615T140000
DTSTAMP:20260425T141500
CREATED:20250212T152949Z
LAST-MODIFIED:20250212T153113Z
UID:10000548-1749666600-1749996000@www.interessere.it
SUMMARY:Centro Avalokita\, 11 - 15 giugno 2025: “La consapevolezza nelle organizzazioni e nelle aziende” - Ritiro offerto da Kai Romhardt
DESCRIPTION:Mercoledì 11 – Domenica 15 giugno 2025\n“La consapevolezza nelle organizzazioni e nelle aziende”\n\nRitiro di consapevolezza offerto da\nKAI ROMHARDT\ndel Network for Mindful Business\n(Rete per una economia consapevole) e\nautore del libro “L’economia siamo noi”\n\n\nSe pratichiamo il Dharma\, forse ci saremo chiesti in che modo armonizzare la nostra vita spirituale con la realtà del nostro ambiente lavorativo.\nCome portare la piena consapevolezza negli affari e nei rapporti di lavoro?\nCome percorrere la via della comprensione e della compassione durante le giornate in ufficio?\nIn che modo praticare come ‘parte di una collettività’ anche in contesti non spirituali?\nCome riuscire a seminare semi di consapevolezza nelle organizzazioni  – aziende ed enti pubblici ‒ di cui facciamo parte? \nColtivando la vera consapevolezza basata sui principi del Buddhismo possiamo modificare la percezione che abbiamo dell’impresa o dell’organizzazione a cui dedichiamo le nostre energie vitali. Siamo convinti che al lavoro ci si possa incontrare su un piano di rispetto ‒ perfino di affetto ‒ mirando insieme a risultati significativi. \nIn questo ritiro condivideremo percorsi ed esperienze personali. Con una vera e propria pratica di gruppo nella comunità del ritiro esploreremo metodi e pratiche per introdurre la pratica di consapevolezza nei contesti professionali collettivi. Con gli Addestramenti per un business consapevole offriremo ai partecipanti principi etici in grado di sostenerci nel lavoro di tutti i giorni\, aiutandoci a portare consapevolezza e compassione nella nostra attività quotidiana\, nell’azienda o nell’ente pubblico in cui lavoriamo. \nEsploreremo una varietà di temi\, fra i quali: \n> In che modo integrare la consapevolezza nel lavoro di tutti i giorni?\n> Che cosa possiamo imparare dalle organizzazioni che hanno posto al centro la pratica di consapevolezza\n> Quando mi sento pronto a condividere le pratiche di consapevolezza sul posto di lavoro?\n> È possibile smettere di correre e rendere più calmi ritmi lavorativi ora frenetici?\n> Che cos’è “una buona riunione”?\n> Che cosa significa interessere nel contesto di aziende e organizzazioni?\n> Quali effetti possono generare sui risultati la coltivazione della consapevolezza\, i principi etici e una cultura aziendale condivisa?\n> Da dove cominciare e come?\n> Quali metodi di training mentale si sono dimostrati efficaci\, nelle aziende? Quali sono esempi ben riusciti di pratica di consapevolezza in azienda?\n> Come portare più leggerezza nei nostro ambiente professionale?\n> Come affrontare stati emotivi difficili nel contesto lavorativo?\n> Come affrontare frustrazioni e aspettative deluse? Quali sono obiettivi realistici? \nDaremo il benvenuto alla ricca varietà di domande\, intuizioni e problematiche che i partecipanti porteranno con sé.  Insieme a noi\, contribuite a tracciare una mappa verso una maggiore consapevolezza negli affari\, negli organismi nonprofit\, nelle associazioni\, nelle comunità. \nIn questo ritiro potremo conoscere e approfondire modi e metodi\, campi di pratica\, modalità di lavoro e orientamenti etici che ci aiuteranno a progettare e trasformare in modo significativo gli ambienti di lavoro. In questo saremo sostenuti dalle esperienze di una comunità piena di benevolenza. \nDopo 20 anni di esperienze e di attività di ispirazione e trasformazione nei Paesi di lingua tedesca\, la Rete per un’economia consapevole (Netzwerk Achtsame Wirtschaft e.V.) presenta oggi questo ritiro come base di partenza per condividere esperienze e risorse anche in Italia. \n  \nKai Romhardt è un Insegnante di Dharma nella tradizione di Plum Village.\nDottore in Management e scienze sociali (Università di Ginevra) con Master in Management e Sviluppo organizzativo (Università di San Gallo)\, attivo per un decennio prima in ambiti aziendali e poi in proprio come consulente aziendale\, all’inizio degli anni 2000 ha passato due anni a Plum Village praticando sotto la guida del Maestro Thich Nhat Hanh e nel 2002 ha ricevuto l’ordinazione a membro laico dell’Ordine dell’Interessere.\nÈ autore di sette libri sui vari aspetti della pratica di consapevolezza e sul loro impatto sulla nostra vita\, le nostre conoscenze e modalità di pensiero e di lavoro. Di questi\, sono disponibili\, in italiano L’economia siamo noi – Un approccio zen per trasformare il nostro rapporto con il lavoro\, il denaro e il tempo libero (ed. Terra Nuova)\, in inglese lo stesso titolo We Are the Economy (ed. Parallax Press) e Managing Knowledge (ed. Wiley).\nNel 2004 ha fondato la Rete per un’economia consapevole (Netzwerk Achtsame Wirtschaft – Network for Mindful Business)\, che opera per un mondo economico e imprenditoriale più sano piantando semi di consapevolezza in vari campi\, a partire dalla nostra pratica personale. Attualmente la Rete è attiva in oltre 15 città in Germania\, Svizzera e Austria e nel 2020 ha cominciato a espandersi anche in altri Paesi.\nNel 2004 Kai ha fondato il sangha (comunità di pratica) di Berlino-Zehlendorf insieme a sua moglie Bettina\, a sua volta Insegnante di Dharma nella tradizione di Plum Village. Il sangha è tuttora attivo e fiorente e pratica in locali propri nella zona sud-occidentale di Berlino.\nNel 2010 Kai ha ricevuto da Thich Nhat Hanh la Trasmissione della Lampada del Dharma.\nOltre a occuparsi del sangha e della Rete\, Kai offre ritiri ed è attivo come conferenziere\, autore\, consulente per vari organismi aziendali e trainer per persone in evoluzione. Ama scrivere poesie. \nPer chi comprende e parla inglese\, prima del ritiro c’è l’opportunità di partecipare a una serie di incontri online organizzati dal Network for Mindful Business dal titolo: Online Impulses: Mindfulness and the Dharma at Work and in Organizations \nUlteriori informazioni\nIn tedesco:\nwww.achtsame-wirtschaft.de\nwww.romhardt.de \nIn inglese:\nhttp://network-mindful-business.org\nhttps://www.mindful-business-commitment.net \n\nIn questa pagina puoi trovare maggiori informazioni suol ritiro.
URL:https://www.interessere.it/evento/centro-avalokita-11-15-giugno-2025-la-consapevolezza-nelle-organizzazioni-e-nelle-aziende-ritiro-offerto-da-kai-romhardt/
LOCATION:Centro Avalokita\, Frazione Villa Rossi 32\, Castelli\, Teramo\, 64041\, Italia
CATEGORIES:Ritiro
ATTACH;FMTTYPE=image/jpeg:https://www.interessere.it/wp-content/uploads/2025/02/wake-up-together.jpg
ORGANIZER;CN="Centro Avalokita":MAILTO:centro@avalokita.it
END:VEVENT
BEGIN:VEVENT
DTSTART;TZID=Europe/Rome:20250613T200000
DTEND;TZID=Europe/Rome:20250615T163000
DTSTAMP:20260425T141500
CREATED:20250305T100737Z
LAST-MODIFIED:20250310T110225Z
UID:10000559-1749844800-1750005000@www.interessere.it
SUMMARY:GIOCANDO SI IMPARA A….CRESCERE consapevolezza per nutrite resilienza e intelligenza emotiva
DESCRIPTION:ritiro di meditazione per insegnanti\nsecondo gli insegnamenti di Thich Nhat Hanh \ncon Francesca Germani\, Marina De Vecchi ed Emanuela Sandini\n“Caro collega\, cara collega\,\nsono un’insegnante\, amo il mio lavoro\, e so bene che anche tu ami il tuo. Tutti noi vogliamo aiutare i giovani a essere felici e a rendere felici gli altri.\nLa nostra missione di insegnanti non si limita a trasmettere la conoscenza\, ma consiste anche nel formare degli esseri umani\, contribuendo così allo sviluppo della dignità e della bellezza dell’umanità\, perché questa si prenda cura del nostro prezioso pianeta.”\nThích Nhất Hạnh: Lettera a un giovane insegnante da “Insegnanti felici cambiano il mondo” \nTrascorriamo questi giorni nella “Terra Felice”\, luogo di vita consapevole a Valle San Floriano nelle colline vicine a Marostica (VI): una casa e un orto-giardino di pace\, pratica\, cura della Natura e degli esseri viventi.\nIn sintonia con l’ambiente ci nutriamo dello stare insieme immersi nel verde\, di cibo vegetariano o vegano salutare\, coltivato e preparato con amore\, del momento presente così com’è.  \nApprofondiamo la pratica della meditazione seduta e camminata\, il rilassamento profondo\, la condivisione delle esperienze e il contatto con la Natura. \nFrancesca Germani incontra nel 1985 la “Pratica Respiratoria del M° Tsuda” e fonda il Dojo Bodai\, tuttavia è l’incontro con il M°Thich Nath Hanh che risveglia il senso della cura e la gentilezza amorevole verso la vita.\nHa lavorato come arteterapeuta con bambini e ragazzi\, nel carcere e in Strutture di Salute Mentale.\nE’ socia fondatrice del “Centro Avalokita centro di meditazione e vita consapevole” e fa parte della Comunità dell’Interessere. Dal 2008 condivide la pratica nelle scuole a beneficio di bambini\, docenti e genitori.\nLaureata in Scienze dell’Educazione\, è insegnante mindfulness e istruttrice MBSR qualificata. \nRosa Marina De Vecchi (Verona) sono insegnante di scuola primaria a Verona\, incontro Thích Nhất Hạnh nel 2005 e i suoi insegnamenti guidano la mia vita. Cerco di portarli nel mondo della scuola e non solo.  Nel 2016 a Plum Village entro a far parte dell’ Ordine laico dell’Interessere. Sono appassionata di yoga e di Qi gong con i bastoni di bambù. La mia pratica è vivere in connessione con tutto\, con gioia e gratitudine. Amo stare nella natura e condividere esperienze di ben-essere. \nEmanuela Sandini ha incontrato Thich Nhat Hanh a Plum Village nel 1996\, trovando un cammino di guarigione attraverso la meditazione in ogni attimo della vita quotidiana. Laureata in Lettere e Filosofia\, arteterapeuta e insegnante di yoga\, fa parte della Comunità dell’Interessere come membro laico e facilita gruppi di meditazione. Dal 2003 condivide la pratica nei programmi per bambini durante i ritiri per famiglie e impara con il gioco a sperimentare la presenza mentale. Vive a Terra Felice imparando e collaborando con la Natura. \nOrari e costi di partecipazione: Il ritiro inizia venerdì 13 giugno alle ore 20.00 e si conclude domenica 15 giugno alle ore 16.30.\nLe giornate si aprono con la meditazione del mattino alle 6\,30 e si concludono intorno alle 21. \nContributo di partecipazione al ritiro:\nL’offerta suggerita è di 150 € a persona\, per l’intero ritiro.\nInsieme Consapevolmente è un’associazione a promozione sociale senza scopo di lucro che vive grazie ai contributi di ciascun partecipante e se hai la possibilità e vorrai lasciare qualcosa in più te ne saremo grati. Desideriamo che il fattore economico non sia limitante per la partecipazione ed è possibile contattarci direttamente per una borsa di studio. \nL’iscrizione annuale all’Associazione Insieme Consapevolmente aps è di 10€. \nIscrizioni: scrivere a laboratori.consapevolezza@gmail.com\nE’ consigliata la prenotazione anticipata\, i posti sono limitati (15 posti disponibili). \nPer informanzioni telefonare al +39 349 6833495 oppure +39 0424 77497.  \nNel caso tu abbia già prenotato un posto e non possa più partecipare\, preghiamo di comunicarlo appena possibile\, in modo da poter far partecipare qualcun altro della lista d’attesa. Grazie per il tuo sostegno. \nCosa portare:\nun telo o un tappetino da yoga\, scarpe da cammino con suole di gomma sicure\, pantofole per l’interno\, calzettoni (in sala di meditazione saremo senza scarpe e ci sono cuscini\, sedie e panchetti)\, indumenti comodi o tuta\, cappellino da sole\, un quaderno e una penna\,.\nSe lo desideri puoi portare guanti da giardinaggio per un aiuto facoltativo nella “Terra Felice”.\nUn tovagliolo di stoffa per i pasti (per rispettare nostra Madre Terra evitando l’uso di prodotti usa e getta)\nE se vuoi e ti fa piacere\, qualcosa di vegano o vegetariano fatto da te o tipico delle tue zone da condividere.\nPer il pernottamento lenzuolo coprimaterasso\, lenzuolo copripiumino\, federa\, sacco a pelo o coperta\, asciugamani.\nPer favore porta prodotti per l’igiene personale come shampoo o saponi biodegradabili in modo che l’acqua sia sempre più limpida! \nCosa NON portare?\nLasciamo a casa tutto ciò che ci distrae dall’esperienza (computer\, giochi elettronici\, libri di lavoro\, ecc.)\, ricordando che le attività a Terra Felice sono social e digital free. \nPasti: i pasti in consapevolezza\, introdotti da un momento condiviso\, sono vegani o vegetariani\, con bevande analcoliche per dedicare questo tempo alla Madre Terra e a un consumo consapevole.\nLa nostra quotidianità diventa una meditazione facendo a turno nel cucinare e nel prenderci cura gli uni degli altri. \nPrima del ritiro invieremo altre informazioni per stare con agio nel momento presente a Terra Felice. \nCome arrivare a TERRA FELICE\, un oliveto fra le colline di Marostica\, dove ci troviamo negli spazi verdi di una casa rurale presso l’Associazione Insieme Consapevolmente Aps:\nINDIRIZZO: MAROSTICA (VI)–via Sedea 10/A: https://www.google.com/maps/place/Via+Sedea\,+10A\,+36063+Marostica+VI/@45.7685315\,11.6675801\,557m/data=!3m2!1e3!4b1!4m6!3m5!1s0x4778c55e13b3004f:0x696df78876770725!8m2!3d45.7685278!4d11.670155!16s%2Fg%2F11c2dyv66j?entry=ttu&g_ep=EgoyMDI0MDkxOC4xIKXMDSoASAFQAw%3D%3D\nLUOGO D’INCONTRO E PARCHEGGIO: a Terra Felice presso la casa rurale che ci ospita.\nPer chi arrriva in macchina: dal centro di Marostica spostarsi a est delle mura\, verso Bassano\, al semaforo prendere Via Gianni Cecchin verso Asiago\, Crosara\, Valle San Floriano.\nDopo circa 700 m\, quando la strada principale fa una curva stretta verso sinistra\, proseguire diritti in Via Solarola fino alla frazione di Valle San Floriano\, sulla destra trovate via Sedea che sale verso la collina e dopo alcune curve di strada asfaltata\, quando questa torna piana vedete sulla destra il piazzale di Terra Felice – associazione Insieme Consapevolmente.\nPotete lasciare la macchina anche comodamente nel parcheggio di Valle San Floriano\, nel caso non abbiate dimestichezza con strade montane. In questo caso potete prenotare una navetta qualche giorno prima del ritiro per accogliervi e portarvi con le valige a Terra Felice.\nPer chi arriva in treno:\ndalla stazione di Vicenza prendere il bus fino a Marostica stazione autocorriere.\nOppure arrivando a Bassano del Grappa prendere il bus sempre fino a Marostica.\nOrari bus: https://www.svt.vi.it/sites/default/files/2022-07/estivo-2022-1005.pdf.\nComunicare almeno un giorno prima l’orario di arrivo entro le ore 14.00 per prenotare la navetta fino a Terra Felice.\nGrati di poter condividere la vita piena nel momento presente!
URL:https://www.interessere.it/evento/giocando-si-impara-a-crescere-consapevolezza-per-nutrite-resilienza-e-intelligenza-emotiva/
LOCATION:Terra Felice\, Via Sedea 10/C MAROSTICA (VI)\, Via Sedea 10/C\, Marostica
CATEGORIES:Fine settimana
ATTACH;FMTTYPE=image/jpeg:https://www.interessere.it/wp-content/uploads/2025/03/93B6AAD6-1458-4AC5-84BE-0D203327C10B_1_105_c.jpg
ORGANIZER;CN="sangha di Marostica-associazione Insieme consapevolmente":MAILTO:laboratori.consapevolezza@gmail.com
END:VEVENT
BEGIN:VEVENT
DTSTART;TZID=Europe/Rome:20250615T100000
DTEND;TZID=Europe/Rome:20250615T120000
DTSTAMP:20260425T141500
CREATED:20250612T095213Z
LAST-MODIFIED:20250613T101005Z
UID:10000630-1749981600-1749988800@www.interessere.it
SUMMARY:Fermiamoci: è il momento di essere pace
DESCRIPTION:A sostegno della Marcia Globale verso Gaza (info qui: https://marchtogaza.net/)\nnoi che non andiamo ci riuniamo e camminiamo in pace e sorellanza portando\nnel cuore chi soffre in Palestina per l’oppressione e lo sterminio.\nPratichiamo il silenzio e il raccoglimento seguendo l’esempio\ndel Maestro Zen Thich Nhat Hanh\, costruttore di pace.\nNessuna bandiera\, nessuno slogan\, un solo messaggio:\nstop alla violenza\, onoriamo la vita.
URL:https://www.interessere.it/evento/fermiamoci-e-il-momento-di-essere-pace/
LOCATION:Lungomare del Foro Italico – Palermo
CATEGORIES:Meditazione camminata
ATTACH;FMTTYPE=image/jpeg:https://www.interessere.it/wp-content/uploads/2025/06/fermiamoci.jpg
END:VEVENT
BEGIN:VEVENT
DTSTART;TZID=Europe/Rome:20250615T190000
DTEND;TZID=Europe/Rome:20250615T200000
DTSTAMP:20260425T141500
CREATED:20250609T083721Z
LAST-MODIFIED:20250610T072348Z
UID:10000628-1750014000-1750017600@www.interessere.it
SUMMARY:Domenica 15 giugno\, ore 19 – Recitazione online dei 14 Addestramenti alla consapevolezza
DESCRIPTION:Domenica 15 giugno 2025\, ore 19\nRecitazione online dei 14 Addestramenti alla consapevolezza\nDomenica 15 giugno 2025 alle ore 19\, come Comunità italiana dell’Interessere\, desideriamo invitare tutta la comunità italiana di pratica e\, più in generale\, chiunque sia interessato alla Recitazione online dei Quattordici Addestramenti alla consapevolezza. \nLa partecipazione è infatti aperta a tutti\, non è necessario aver già ricevuto la Trasmissione dei 14 Addestramenti per poter partecipare a questa Recitazione. \nÈ possibile partecipare attraverso il seguente collegamento Zoom: \nhttps://us06web.zoom.us/j/87585891548?pwd=EQz3dUl8931vasI3aIUHwMMQj0vrEL.1 \noppure \nID riunione: 875 8589 1548\nCodice di accesso: 111026 \nVi invitiamo a collegarvi con cinque minuti di anticipo\, in modo da prepararci alla Recitazione. \nSiamo felici di avere presto l’occasione di praticare insieme!\nLa comunità italiana dell’Interessere
URL:https://www.interessere.it/evento/domenica-15-giugno-ore-19-recitazione-online-dei-14-addestramenti-alla-consapevolezza/
LOCATION:Online\, Online
CATEGORIES:Evento online
ATTACH;FMTTYPE=image/jpeg:https://www.interessere.it/wp-content/uploads/2025/06/FB_IMG_1570124177718.jpg
ORGANIZER;CN="Ordine dell'Interessere italiano":MAILTO:info@interessere.it
END:VEVENT
END:VCALENDAR