BEGIN:VCALENDAR
VERSION:2.0
PRODID:-//Comunit&agrave; italiana dell'interessere - ECPv6.15.20//NONSGML v1.0//EN
CALSCALE:GREGORIAN
METHOD:PUBLISH
X-WR-CALNAME:Comunit&agrave; italiana dell'interessere
X-ORIGINAL-URL:https://www.interessere.it
X-WR-CALDESC:Eventi per Comunit&agrave; italiana dell'interessere
REFRESH-INTERVAL;VALUE=DURATION:PT1H
X-Robots-Tag:noindex
X-PUBLISHED-TTL:PT1H
BEGIN:VTIMEZONE
TZID:Europe/Rome
BEGIN:DAYLIGHT
TZOFFSETFROM:+0100
TZOFFSETTO:+0200
TZNAME:CEST
DTSTART:20240331T010000
END:DAYLIGHT
BEGIN:STANDARD
TZOFFSETFROM:+0200
TZOFFSETTO:+0100
TZNAME:CET
DTSTART:20241027T010000
END:STANDARD
BEGIN:DAYLIGHT
TZOFFSETFROM:+0100
TZOFFSETTO:+0200
TZNAME:CEST
DTSTART:20250330T010000
END:DAYLIGHT
BEGIN:STANDARD
TZOFFSETFROM:+0200
TZOFFSETTO:+0100
TZNAME:CET
DTSTART:20251026T010000
END:STANDARD
BEGIN:DAYLIGHT
TZOFFSETFROM:+0100
TZOFFSETTO:+0200
TZNAME:CEST
DTSTART:20260329T010000
END:DAYLIGHT
BEGIN:STANDARD
TZOFFSETFROM:+0200
TZOFFSETTO:+0100
TZNAME:CET
DTSTART:20261025T010000
END:STANDARD
END:VTIMEZONE
BEGIN:VEVENT
DTSTART;TZID=Europe/Rome:20250702T153000
DTEND;TZID=Europe/Rome:20250706T170000
DTSTAMP:20260424T000302
CREATED:20250505T104533Z
LAST-MODIFIED:20250506T094749Z
UID:10000618-1751470200-1751821200@www.interessere.it
SUMMARY:Badia di Torrechiara\, Langhirano (PR) – 2-6 luglio 2025: “Ascolta\, Shariputra!” – Ritiro di consapevolezza con Diana Petech
DESCRIPTION:Badia di Torrechiara – Santa Maria della Neve\nLanghirano (Parma)\n2 – 6 luglio 2025 \n“Ascolta\, Shariputra!”\n Ritiro di consapevolezza nella tradizione di Plum Village\ncon Diana Petech \n Studiare il Sutra del Cuore non è un esercizio intellettuale: riguarda la nostra liberazione.\n Thich Nhat Hanh\, L’altra riva del fiume\, cap.6 \nNell’agosto 2014\, poche settimane prima che si concludesse la sua attività di insegnamento verbale\,Thich Nhat Hanh (“Thây”) porta a termine un’impresa di enorme coraggio e libertà di pensiero: la ri-traduzione in inglese da fonti cinesi e sanscrite del Sutra del Cuore della Prajñaparamita\, vero pilastro della tradizione buddhista\, offrendola poi ai suoi studenti con una breve lettera di spiegazione. \nNei due ritiri invernali precedenti aveva approfondito gli insegnamenti del Sutra e il percorso che poi l’ha spinto a realizzarne una nuova versione e a intitolarla “La comprensione profonda che conduce all’altra riva”. Quei discorsi\, originariamente in vietnamita\, sono raccolti con altri nel libro L’altra riva del fiume\, edito da Terra Nuova\, con prefazione di Sister Chân Dúc (Sr. Annabel). È un libro profondo\, diretto e audace\, che smonta equivoci\, illumina di intuizioni nuove e acute la storia del Sutra e il suo insegnamento\, e sintetizza l’intero insegnamento di Thây. Tradurre questo capolavoro ha costituito un’esperienza profonda e illuminante; il ritiro\, offerto sulla base di quell’esperienza\, mira a condividerne i passaggi essenziali\, integrando l’insegnamento dell’interessere nella nostra esistenza quotidiana: non più idea astratta o raffinata teoria ma strumento concreto di ampliamento di visione e guarigione.\nRitiro di studio\, per praticanti con una conoscenza di base del Dharma e una pratica meditativa personale di una certa costanza. \nQUANDO: il ritiro si apre il 2 luglio dalle 14 alle 15\,30 con l’accoglienza\, la registrazione e la sistemazione nelle stanze; inizia in sala alle ore 16\,00. Si conclude con il pranzo di domenica 6. \nDOVE:  Badia di Torrechiara\, Via della Badia\, 28 – 43013 Langhirano (PR)\, https://www.monasteriemiliaromagna.it/it/monastero/3902-chiesa-ed-ex-monastero-detta-la-badia  La struttura dispone di 9 singole\, 3 doppie\, 1 matrimoniale e 1 tripla con servizi in camera; 2 singole e 4 doppie con servizi esterni. È pienamente accessibile a persone con difficoltà motorie. \nCIBO: i pasti saranno vegetariani. Saranno predisposte pietanze alternative (semplici) per chi ha segnalato intolleranze alimentari in fase di iscrizione. È prevista una pausa ”tisana e merenda” a metà pomeriggio; è benvenuto ogni contributo in forma di tè o tisane in bustine e biscotti! \nCOSTI  E ISCRIZIONI:  La quota di iscrizione per i 4 giorni in pensione completa e la quota-corso è di € 352 nelle camere con bagno privato e € 340 con bagno in corridoio. Gli importi per l’alloggio\, fissati dalla struttura che ci ospita\, non sono modificabili. L’insegnante mette a disposizione due quote-corso gratuite per chi fosse motivato a partecipare ma avesse un reale bisogno di sostegno economico\, da richiedere all’indirizzo indicato per l’iscrizione. L’importo in quel caso sarà di € 268 nella sistemazione più economica. \nLe iscrizioni si aprono il 6 maggio. Ci si iscrive con una e-mail a Cristina\, sangha@studiopandolfi.com indicando nome\, cognome e indirizzo di residenza\, specificando il tipo di sistemazione preferito (per le stanze a due o più\, con i dati degli altri partecipanti se già noti) ed eventuali intolleranze alimentari.\nAllo stesso indirizzo si possono avere informazioni sul ritiro. Si riceverà una’e-mail di conferma della disponibilità della sistemazione richiesta (o se questa fosse esaurita con indicata la possibile alternativa)\, con le coordinate bancarie per il bonifico\, alla ricezione del quale l’iscrizione risulta completata. \nSi prega di completare l’iscrizione entro il 18 giugno. A esaurimento dei posti disponibili verrà istituita una lista d’attesa. \nEventuali disdette vanno comunicate allo stesso indirizzo. La quota può essere fatta valere per un  eventuale nuovo partecipante indicato dalla persona che rinuncia. In caso di rinuncia senza persona sostitutiva\, se comunicata entro il 18 giugno è prevista la restituzione della quota versata; dal 18 al 26 giugno (incluso)\,  il rimborso del 70% di quanto versato; dal 27 giugno in poi nessun rimborso. \nCHE COSA PORTARE: Per la pratica: il proprio cuscino o panchetto da meditazione; un sottocuscino o tappetino da yoga o plaid da utilizzare a terra; uno scialle per il rilassamento profondo. La struttura mette a disposizione numerose sedie; chi utilizza la sedia è invitato a portare ciò che di solito gli/le consente di meditare in una postura eretta e confortevole. \nAltri suggerimenti:\n– abiti comodi; pantofole per gli spazi interni; calze spesse o antiscivolo per la sala di meditazione;\nscarpe sportive per camminare all’aperto; eventuale cappello per il sole\, ombrello per la pioggia;\n– quaderno e penna;\n– repellenti per le zanzare;\n– tappi per le orecchie (per chi sarà in camere a più letti). \nVi aspettiamo con gioia! \nDiana\, Cristina e Luigi
URL:https://www.interessere.it/evento/ascolta-shariputra-ritiro-di-consapevolezza-con-diana-petech-nella-tradizione-di-plum-village-badia-di-torrechiara-santa-maria-della-neve-langhirano-parma-2-6-luglio/
LOCATION:Badia di Torrechiara\, Via della Badia 28\, Langhirano\, 43013
CATEGORIES:Ritiro
ATTACH;FMTTYPE=image/jpeg:https://www.interessere.it/wp-content/uploads/2025/05/Immagine1.jpg
END:VEVENT
BEGIN:VEVENT
DTSTART;TZID=Europe/Rome:20250705T100000
DTEND;TZID=Europe/Rome:20250705T170000
DTSTAMP:20260424T000302
CREATED:20250612T153403Z
LAST-MODIFIED:20250612T173237Z
UID:10000632-1751709600-1751734800@www.interessere.it
SUMMARY:"Insieme essere pace\, per costruire la pace": Sabato 5 Luglio\, Giornata di consapevolezza con Adriana Rocco
DESCRIPTION:Insieme essere pace\nPer costruire la pace\nSabato 5 Luglio ore 10.00 – 17.00\nSpazio Nu – Pontedera (Pisa) Via Firenze \nGiornata di consapevolezza\nnella tradizione del Maestro Zen Thich Nhat Hanh\ncon Adriana Rocco \nAbbiamo bisogno di pace così come abbiamo bisogno di aria per respirare.\nAbbiamo bisogno di sentirci e sentire\, ascoltarci e ascoltare\,\naver cura della Vita in noi e intorno a noi. \nCon fiducia e determinazione dedichiamo questa giornata a fermarci\, respirare\, a\nriconoscere i nostri bisogni più profondi\, liberando l’energia della calma\, dell’ascolto\ne della comprensione\, prima di tutto di noi stessi. \nPer ricordare di essere umani insieme\, senza più separazione\, giovani e meno giovani\ndi tutte le età\, generiamo una nuova Presenza come offerta di Pace. \nQuesto incontro fa parte di un percorso-laboratorio di\n“Educazione all’Arte di aver cura di sé per aver cura degli altri”.\ndedicato a tutte/i \, giovani e meno giovani\, studentesse/i\, insegnanti\, genitori \nContributo libero e consapevole \nPer informazioni e per confermare la partecipazione qualche giorno prima:\nspazionu@gmail.com\nadrianarocco41@gmail.com – 338 2416345
URL:https://www.interessere.it/evento/insieme-essere-pace-per-costruire-la-pace/
LOCATION:Spazio Nu – Pontedera (Pisa)\, Via Firenze\, 42\, Pontedera\, 56025\, Italy
CATEGORIES:Giornata di consapevolezza
ATTACH;FMTTYPE=image/jpeg:https://www.interessere.it/wp-content/uploads/2025/02/Peace_is_the_Way.jpg
END:VEVENT
END:VCALENDAR