BEGIN:VCALENDAR
VERSION:2.0
PRODID:-//Comunit&agrave; italiana dell'interessere - ECPv6.15.20//NONSGML v1.0//EN
CALSCALE:GREGORIAN
METHOD:PUBLISH
X-WR-CALNAME:Comunit&agrave; italiana dell'interessere
X-ORIGINAL-URL:https://www.interessere.it
X-WR-CALDESC:Eventi per Comunit&agrave; italiana dell'interessere
REFRESH-INTERVAL;VALUE=DURATION:PT1H
X-Robots-Tag:noindex
X-PUBLISHED-TTL:PT1H
BEGIN:VTIMEZONE
TZID:Europe/Rome
BEGIN:DAYLIGHT
TZOFFSETFROM:+0100
TZOFFSETTO:+0200
TZNAME:CEST
DTSTART:20240331T010000
END:DAYLIGHT
BEGIN:STANDARD
TZOFFSETFROM:+0200
TZOFFSETTO:+0100
TZNAME:CET
DTSTART:20241027T010000
END:STANDARD
BEGIN:DAYLIGHT
TZOFFSETFROM:+0100
TZOFFSETTO:+0200
TZNAME:CEST
DTSTART:20250330T010000
END:DAYLIGHT
BEGIN:STANDARD
TZOFFSETFROM:+0200
TZOFFSETTO:+0100
TZNAME:CET
DTSTART:20251026T010000
END:STANDARD
BEGIN:DAYLIGHT
TZOFFSETFROM:+0100
TZOFFSETTO:+0200
TZNAME:CEST
DTSTART:20260329T010000
END:DAYLIGHT
BEGIN:STANDARD
TZOFFSETFROM:+0200
TZOFFSETTO:+0100
TZNAME:CET
DTSTART:20261025T010000
END:STANDARD
END:VTIMEZONE
BEGIN:VEVENT
DTSTART;TZID=Europe/Rome:20250712T180000
DTEND;TZID=Europe/Rome:20250906T140000
DTSTAMP:20260424T000300
CREATED:20250607T175100Z
LAST-MODIFIED:20250607T175749Z
UID:10000627-1752343200-1757167200@www.interessere.it
SUMMARY:Baia di Sorgeto (Isola d'Ischia)\, Luglio - Settembre 2025: Settimane di rigenerazione con Adriana Rocco
DESCRIPTION:Baia di Sorgeto (Isola d’Ischia)\n12 – 19 luglio\n2 – 9 agosto\n30 agosto – 6 settembre \nSettimane di rigenerazione\nnella tradizione di Thich Nhat Hanh\ncon Adriana Rocco \nPer risvegliarci\, purificarci\, nutrirci\nnello spirito del Buddhismo Applicato alla vita quotidiana \nIn questo storico appuntamento annuale con lo splendore dell’isola vulcanica anche quest’anno vogliamo offrire alla Terra e al Mare la nostra meraviglia di essere Vivi pur in mezzo alla bufera\, e ricevere in cambio il dono della guarigione.\nIl cuore dell’incontro è coltivare l’arte di fermarsi\, sentirsi respirare\, riposare\, purificare\, aver cura e nutrire il corpo\, la mente\, l’anima\, per poter poi continuare a praticare in ogni situazione della vita. Scopriamo insieme che la salute\, la pace e la gioia sono possibili. In questo spirito facciamo piccoli “pellegrinaggi” a piedi in luoghi e tempi magici – nel silenzio delle stelle verso il sorgere del sole sul Monte Epomeo\, nella luce dell’aurora verso le sorgenti calde nel mare nella baia di Sorgeto. Con gratitudine per il dono della Vita. \nOspitalità: pensione completa in camera a 2 – oppure singola su richiesta (max. 12 partecipanti) \nInformazioni e prenotazioni: Adriana 338 2416345 – adrianarocco41@gmail.com \nAdriana da più di trent’anni dedica la sua vita a condividere l’esperienza del cammino verso la salute e la pace per la guarigione di se’ e della relazione con gli altri\, attraverso “Il Corpo che Medita” \, un programma itinerante per la guarigione di corpo\, mente\, spirito. Nel corso della sua vita ha ricevuto in India gli insegnamenti trasmessi da Patanjali negli Yoga Sutra\, e in Europa l’essenza del Buddhismo Applicato alla vita quotidiana da Thich Nhat Hanh\, da cui ha ricevuto il compito di trasmetterne a sua volta la preziosità. \n  \n  \n  \n  \n  \n  \n 
URL:https://www.interessere.it/evento/baia-di-sorgeto-isola-dischia-luglio-settembre-2025-settimane-di-rigenerazione-con-adriana-rocco/
LOCATION:Sorgeto\, Isola d’Ischia
CATEGORIES:Ritiro
ATTACH;FMTTYPE=image/jpeg:https://www.interessere.it/wp-content/uploads/2025/06/La-baia-di-Sorgeto-a-Ischia-un-parco-termale-a-cielo-aperto.jpg
ORGANIZER;CN="Adriana Rocco":MAILTO:adrianarocco41@gmail.com
END:VEVENT
BEGIN:VEVENT
DTSTART;TZID=Europe/Rome:20250814T093000
DTEND;TZID=Europe/Rome:20250818T160000
DTSTAMP:20260424T000300
CREATED:20250613T035506Z
LAST-MODIFIED:20250730T222703Z
UID:10000634-1755163800-1755532800@www.interessere.it
SUMMARY:14-18 agosto @Pardesa: Paesaggi abbondanti corso-ritiro
DESCRIPTION:Paesaggi abbondanti: Permacultura della Terra e della Mente\n14-18 agosto 2025\ncorso-ritiro nella tradizione di Thich Nhat Hanh\ncon Fabio Pinzi e Bar Zecharya\nal centro di pratica Pardesa \nLa permacultura mira alla progettazione di insediamenti resilienti\, sostenibili e abbondanti\, sia in ambito agricolo che urbano\, sia a livello individuale che della società. Similmente il Dharma\, gli antichi e moderni insegnamenti della tradizione buddhista\, hanno come scopo la coltivazione del potenziale umano\, individuale e collettivo\, a partire dall’osservazione e dalla cura della mente-cuore. \nIl corso-ritiro “Paesaggi abbondanti” è una collaborazione fresca e innovativa che unisce questi due mondi attraverso momenti teorici e pratici\, per renderli applicabili al nostro stile di vita. Esploreremo i molti punti di contatto fra permacultura e Dharma e sperimenteremo come creare le condizioni per una maggiore fioritura e libertà\, individuale e collettiva\, sia sulla Terra che nella mente. \nIl corso-ritiro si svolgerà nella modalità di un vero e proprio ritiro di presenza mentale\, con giornate scandite da momenti di osservazione silenziosa e meditazione\, lezioni di teoria\, pratica nel campo\, pasti in consapevolezza\, escursioni in natura e anche spazio per cantare e gioire. Ci troveremo a Pardesa\, centro di pratica di presenza mentale e luogo unico che unisce la cura della Terra alla cura della mente\, e indaga la connessione fra le due. \nRequisiti\nNon è richiesta alcuna conoscenza specifica. Si richiede una piena partecipazione alla vita comunitaria del centro di pratica. Essa comprende il rispetto degli orari delle attività\, i periodi di silenzio come pratica\, le meditazioni e i momenti di condivisione\, elementi che arricchiscono e costituiscono parte integrante dell’esperienza. \nIl contenuto del ritiro\nPartendo dai 12 principi di permacultura formulati da David Holmgren\, indagheremo modelli ed esempi pratici tratti da varie fonti\, per esempio i più efficienti sistemi progettati in permacultura come la food forest accanto ad esempi laici e monastici della tradizione buddhista\, compresa quella zen di Thich Nhat Hanh. \nOrario di esempio\nGli orari delle attività possono variare. Un orario d’esempio è: \n5.45 sveglia\n6.30 meditazione mattutina\n7.30 colazione\n8.45 presentazione della giornata e servizio alla comunità\n10.00 permacultura della mente\n12.30 pranzo\n16.00 permacultura della terra\n19.00 cena\n20.30 meditazione serale\nnobile silenzio (fino alle 8.45 del giorno successivo) \nI docenti\nFabio Pinzi è tra i maggiori esperti di Permacultura in Italia. Laureato in Scienze Agrarie a Firenze\, ha collaborato con il Natural Focal Point della FAO per la conservazione del patrimonio genetico in via di estinzione. È progettista accreditato in permacultura presso l’Accademia Italiana di Permacultura e insegna da diversi anni presso la Scuola di Pratiche sostenibili di San Giuliano Milanese. \nBar Zecharya\, insegnante di Dharma nella tradizione zen fondata da Thich Nhat Hanh\, facilita gruppi in Italia\, in Israele e Palestina e negli Stati Uniti. Pratica in questa tradizione da quasi trent’anni\, e dal 2018 è custode de centro di pratica Pardesa. Bar ha conosciuto la permacultura nel 2014\, trovandola un’espressione concreta di un cammino spirituale che mette al suo centro la nostra interconnessione con la Terra. Nel 2025 riceve il diploma in permacultura dall’Accademica Italiana di Permacultura. \nOrari\nIl corso-ritiro si svolgerà da giovedì 14 agosto (arrivo alle ore 9.30)\, e si concluderà lunedì 18 agosto alle ore 16.00. \nIscrizione\nPer iscrizione e maggiori informazioni: Paesaggi abbondanti \n  \nfoto copertina: “Il giardino della mente” (Maria Giulia Terenzi)
URL:https://www.interessere.it/evento/14-18-agosto-pardesa-paesaggi-abbondanti-corso-ritiro/
LOCATION:Pardesa\, Livergnano\, Pianoro\, 40065
CATEGORIES:Ritiro
ATTACH;FMTTYPE=image/jpeg:https://www.interessere.it/wp-content/uploads/2025/06/ilgiardinodellamente.jpg
ORGANIZER;CN="La Natura della Mente APS":MAILTO:info@lanaturadellamente.it
END:VEVENT
BEGIN:VEVENT
DTSTART;TZID=Europe/Rome:20250816T183000
DTEND;TZID=Europe/Rome:20250823T140000
DTSTAMP:20260424T000300
CREATED:20250327T182533Z
LAST-MODIFIED:20250327T182959Z
UID:10000607-1755369000-1755957600@www.interessere.it
SUMMARY:Centro Avalokita\, 16 - 23 agosto 2025: "Insegnanti felici cambiano il mondo"\, Ritiro per insegnanti ed educatori offerto da Caromai Bouquet e Richard Brady
DESCRIPTION:Sabato 16 – Sabato 23 agosto 2025\n“Insegnanti felici cambiano il mondo”\nColtivare un cuore aperto e una mente chiara\nper affrontare le sfide che la vita ci presenta\nRitiro per insegnanti ed educatori\nofferto da Caromai Bouquet e Richard Brady\n\n\n\n\nQuesto ritiro intesse pratiche di consapevolezza nei diversi momenti della vita quotidiana\, coltivando l’arte di vivere in consapevolezza. Gli educatori si dedicheranno a pratiche nutrienti quali il silenzio e la consapevolezza in ogni aspetto della vita quotidiana: mangiando\, meditando\, camminando\, ascoltando\, parlando\, riposando. La consapevolezza\, intesa come via di pratica\, promuove la coscienza di sé e dell’ambiente\, favorendo lo sviluppo di una maggiore compassione\, pace\, comprensione e felicità fino a una trasformazione e guarigione personale e della società. Nel ritiro gli educatori approfondiranno la risoluzione dei conflitti\, le modalità per sviluppare attenzione\, alcune pratiche di auto-aiuto\, tutti strumenti specifici per il lavoro in classe e nei contesti scolastici. \nIl ritiro è equiparato al primo livello dei ritiri delle Wake Up Schools (https://wakeupschools.org/)\, a fine ritiro a chi ne farà richiesta verrà consegnato il relativo attestato di partecipazione. \nGli insegnamenti verranno offerti in Inglese e tradotti in Italiano. Caromai Bouquet offrirà i propri insegnamenti in presenza\, mentre Richard Brady offrirà il proprio contributo collegandosi online con i partecipanti. \n\n\n\n\n\n\n\nRichard Brady ha insegnato matematica alle scuole superiori per trentasette anni. Ha iniziato a praticare nella tradizione di Plum Village nel 1989 e ha fondato la rete internazionale “Mindfulness in Education Network” nel 2001. Nello stesso anno ha ricevuto la Trasmissione della lampada dal maestro zen Thich Nhat Hanh per essere un insegnante di Dharma nella sua tradizione\, con un’attenzione particolare a coltivare la consapevolezza nei giovani. Attualmente offre ritiri\, scrive libri sulla pratica della consapevolezza\, è consulente educativo e coordinatore del programma Wake Up Schools Level II in Nord America e del Sangha Happy Teacher NA di Wake Up Schools. Ha condotto ritiri di consapevolezza per educatori negli Stati Uniti\, in Italia e in Germania. È redattore di “Tuning In: Mindfulness in Teaching and Learning” (2009) e autore di “Walking the Teacher’s Path with Mindfulness: Stories for Reflection and Action” (2021). Altri scritti di Richard sono disponibili su www.mindingourlives.net. \n\n\n\n\n\n\n\nCaromai Bouquet è una praticante di consapevolezza e meditazione. Ha trascorso 18 anni come monaca in vari Centri di pratica internazionali di Plum Village. Durante questi anni ha offerto ritiri e fornito formazione a persone provenienti da diversi settori\, tra cui educatori\, operatori sanitari\, ecologisti e attivisti sociali nelle Americhe\, in Asia e in Europa. Ha anche lavorato molto con bambini e adolescenti e ha un interesse particolare per la promozione dell’inclusività (razziale e per la comunità LGBTIQ+ in particolare). Attualmente lavora in Svizzera dove tiene seminari e formazione sulla consapevolezza nelle scuole per gli insegnanti e in contesti clinici\, terapeutici e aziendali. Collabora con l’Eurasia Learning Institute e con l’Happy School Program per condividere la pratica con gli insegnanti (fa parte dei facilitatori della formazione online dell’Happy School International) e insegna consapevolezza in Vietnam ai dirigenti di grandi aziende vietnamite. Organizza regolarmente ritiri in Francia e in Svizzera. \n\n\n\n\nISCRIZIONI\nPuoi iscriverti a questo ritiro a partire dal 16 giugno\, scrivendo a centro@avalokita.it\, indicando nome\, cognome\, recapito telefonico e luogo di provenienza\, grazie. Per informazioni o chiarimenti puoi chiamare il numero 340.6397190 (lunedì e venerdì 12 – 14; mercoledì 8 – 10). \nSISTEMAZIONE\nIl Centro dispone di una sistemazione in stanze multiple da 2\, 3 o 4 posti\, con letti singoli e letti a castello\, e bagni comuni (uomini e donne separati)\, situate al primo piano. È disponibile anche una stanza priva di barriere architettoniche. \nQUOTE DI PARTECIPAZIONE\nLa quota di partecipazione per questo ritiro è di 560 euro\, e comprende vitto\, alloggio\, quote-corso per gli insegnanti\, spese di viaggio di una di loro. Resta aperta la possibilità\, che come Centro abbiamo sempre offerto\, di scriverci a centro@avalokita.it e chiedere un sostegno alla propria partecipazione\, quando in noi c’è una forte motivazione ma la situazione economica del momento non ci sostiene in questo! \nPROGRAMMA GIORNALIERO ORIENTATIVO\n06.00 Sveglia\n06.30 Meditazione\n07.30 Pratiche di movimento in consapevolezza\n08.15 Colazione\n09.30 Incontro della comunità e prendersi cura del Centro\n11.00 Laboratorio\n13.00 Pranzo e riposo\n15.30 Meditazione camminata/Pratiche di consapevolezza\n18.30 Cena\n20.00 Meditazione e silenzio \nIn questa pagina puoi trovare maggiori informazioni.
URL:https://www.interessere.it/evento/centro-avalokita-16-23-agosto-2025-insegnanti-felici-cambiano-il-mondo-ritiro-per-insegnanti-ed-educatori-offerto-da-caromai-bouquet-e-richard-brady/
LOCATION:Centro Avalokita\, Frazione Villa Rossi 32\, Castelli\, Teramo\, 64041\, Italia
CATEGORIES:Ritiro
ATTACH;FMTTYPE=image/jpeg:https://www.interessere.it/wp-content/uploads/2025/03/happy-teachers.jpg
ORGANIZER;CN="Centro Avalokita":MAILTO:centro@avalokita.it
END:VEVENT
BEGIN:VEVENT
DTSTART;TZID=Europe/Rome:20250817T190000
DTEND;TZID=Europe/Rome:20250817T200000
DTSTAMP:20260424T000300
CREATED:20250812T121731Z
LAST-MODIFIED:20250812T121731Z
UID:10000654-1755457200-1755460800@www.interessere.it
SUMMARY:Domenica 17 agosto 2025 ore 19: Recitazione online dei 5 Addestramenti alla Consapevolezza
DESCRIPTION:Domenica 17 agosto 2025\ndalle ore 19 alle ore 20\nRecitazione online dei 5 Addestramenti alla Consapevolezza \n“I Cinque Addestramenti sono uno dei modi più concreti per praticare la consapevolezza. Non sono settari e la loro natura è universale. Sono vere e proprie pratiche di compassione e comprensione.” (Thich Nhat Hanh) \nDomenica 17 agosto alle ore 19\, come Comunità italiana dell’Ordine dell’Interessere\, invitiamo tutta la comunità italiana di pratica e\, più in generale\, chiunque sia interessato alla Recitazione online dei Cinque Addestramenti alla Consapevolezza. \nLa partecipazione è aperta a tutti\, non è necessario aver già ricevuto la Trasmissione dei 5 Addestramenti per poter partecipare. \nÈ possibile partecipare attraverso il seguente link Zoom:\nhttps://us06web.zoom.us/j/87585891548?pwd=EQz3dUl8931vasI3aIUHwMMQj0vrEL.1 \noppure: ID riunione : 875 8589 1548\nCodice di accesso : 111026 \nVi invitiamo a collegarvi con cinque minuti di anticipo\, in modo da prepararci alla Recitazione. \nSiamo felici di avere presto l’occasione di praticare insieme!\nLa comunità italiana dell’Ordine dell’Interessere
URL:https://www.interessere.it/evento/domenica-17-agosto-2025-ore-19-recitazione-online-dei-5-addestramenti-alla-consapevolezza/
LOCATION:Online\, Online
CATEGORIES:Recitazione online
ATTACH;FMTTYPE=image/jpeg:https://www.interessere.it/wp-content/uploads/2025/08/Buddha-con-fiore.jpg
ORGANIZER;CN="Ordine dell'Interessere italiano":MAILTO:info@interessere.it
END:VEVENT
END:VCALENDAR