BEGIN:VCALENDAR
VERSION:2.0
PRODID:-//Comunit&agrave; italiana dell'interessere - ECPv6.15.20//NONSGML v1.0//EN
CALSCALE:GREGORIAN
METHOD:PUBLISH
X-ORIGINAL-URL:https://www.interessere.it
X-WR-CALDESC:Eventi per Comunit&agrave; italiana dell'interessere
REFRESH-INTERVAL;VALUE=DURATION:PT1H
X-Robots-Tag:noindex
X-PUBLISHED-TTL:PT1H
BEGIN:VTIMEZONE
TZID:Europe/Rome
BEGIN:DAYLIGHT
TZOFFSETFROM:+0100
TZOFFSETTO:+0200
TZNAME:CEST
DTSTART:20240331T010000
END:DAYLIGHT
BEGIN:STANDARD
TZOFFSETFROM:+0200
TZOFFSETTO:+0100
TZNAME:CET
DTSTART:20241027T010000
END:STANDARD
BEGIN:DAYLIGHT
TZOFFSETFROM:+0100
TZOFFSETTO:+0200
TZNAME:CEST
DTSTART:20250330T010000
END:DAYLIGHT
BEGIN:STANDARD
TZOFFSETFROM:+0200
TZOFFSETTO:+0100
TZNAME:CET
DTSTART:20251026T010000
END:STANDARD
BEGIN:DAYLIGHT
TZOFFSETFROM:+0100
TZOFFSETTO:+0200
TZNAME:CEST
DTSTART:20260329T010000
END:DAYLIGHT
BEGIN:STANDARD
TZOFFSETFROM:+0200
TZOFFSETTO:+0100
TZNAME:CET
DTSTART:20261025T010000
END:STANDARD
END:VTIMEZONE
BEGIN:VEVENT
DTSTART;TZID=Europe/Rome:20250918T170000
DTEND;TZID=Europe/Rome:20250921T160000
DTSTAMP:20260423T080935
CREATED:20250812T170442Z
LAST-MODIFIED:20250812T170809Z
UID:10000656-1758214800-1758470400@www.interessere.it
SUMMARY:18-21 September @Pardesa: Spiritual action\, peaceful action: Mindfulness retreat at Pardesa
DESCRIPTION:Spiritual action\, peaceful action: Mindfulness retreat at Pardesa\n18-21 September 2025\nMindfulness retreat in nature\nin the tradition of Thich Nhat Hanh\nat Pardesa practice center in northern Italy\nwith Dharma teachers Bar Zecharya and Dorit Shippin \nQuesto ritiro si terrà in lingua inglese / The retreat will be held in English. \nIn this world\, hatred has never been defeated by hatred.\nOnly love can overcome hatred.\nThis is an ancient and eternal law.\n– The Dhammapada \nHow can individual and collective action support peace: in ourselves\, in our relationships and in society? How to connect our inner and outer worlds in a way that they support each other in creating awareness\, freedom and healing? You are invited to join us for a retreat where we’ll be guided by the teachings of Thich Nhat Hanh\, the experience of our teachers\, and the collective practice of mindfulness that we’ll generate together. \nImmersed in the natural beauty surrounding Pardesa practice center\, we will co-create a daily atmosphere of practice: sitting and walking meditation\, mindful meals\, moments of silence and reflection\, and also time for singing and for sharing from the heart. \nParticipation\nNo specific skills or experience are required. Retreatants are expected to participate fully in the community life of the practice center. This includes arriving on time for activities and respecting the practice of silence for the duration of the retreat\, meditations\, service for the community and sharing. All these elements enrich and are an integral part of our retreat experience. We trust in the sense of responsibility of all practitioners to take care of the collective energy of mindfulness throughout the retreat\, including in public places\, personal rooms and during moments of rest. \nDaily schedule\nThe schedule may vary. As an example: \n6:00 am wake up\n6:30 am formal morning meditation\n7:30 am breakfast\n8:45 am morning circle and service to the community\n10:00 am Dharma talk\n11:00 am walking meditation\n12:30 pm lunch\n3:00 pm deep relaxation\n4:00 pm community practice/sharing\n6:30 pm light dinner\n8:00 pm formal evening meditation\nnoble silence (until 8:45 am the following day) \nOur teachers\nDorit Shippin was ordained into the Order of Interbeing in April 2015\, and as a Dharma Teacher in Plum Village\, France in 2022. Since 1984 she has been a member and resident of Oasis Of Peace\, a coexistence village of Jewish Israelis and Palestinian citizens of Israel\, and served as director of its Pluralistic Spiritual Center. Together with Hagit Harmon she helped to organize Jewish Palestinian delegations to Plum Village in a project called Peace Begins Here Today she is involved in the building and creating “Garden Of Hope”\, a peace and dialogue mindfulness center in the West Bank\, Palestine\, together with its Palestinian founder\, Issa Souf. \nBar Zecharya\, Dharma teacher in the zen tradition founded by Thich Nhat Hanh\, serves as the caretaker of Pardesa since 2018. Topics dear to him include: how we relate to the Earth and to the climate crisis; practicing in contexts and moments of conflict; understanding and working with the mind\, the ego and consciousness; living fully our aspirations; and the art of stopping and healing. \nPardesa\nis a mindfulness center in the tradition of the Venerable Thich Nhat Hanh. Founded in 2018\, Pardesa is a unique place that combines care for the mind with care for the Earth. As much as possible\, all activities take place outdoors and in contact with nature. In addition to the depth and simplicity of this way of life\, it also gives us the opportunity to cultivate a spirit of adaptation and of flowing with the conditions that nature provides. \nYou are invited to read Daily life at Pardesa \nPractical information and retreat cost\nThe retreat will take place from Thursday 18 September (arrival at 5:00 pm) until Sunday 21 September (departure at 4:00 pm).\nPartial participation is not allowed\, in order to take care of the energy of the group throughout the retreat. \nWe will be helping to coordinate rides from the Pianoro train station at 4:30pm on Thursday\, and departing from Pianoro at 4:30pm on Sunday. \nRegistration and more information\nFor registration and more information: Spiritual action\, peaceful action
URL:https://www.interessere.it/evento/18-21-september-pardesa-spiritual-action-peaceful-action-mindfulness-retreat-at-pardesa/
LOCATION:Pardesa\, Livergnano\, Pianoro\, 40065
CATEGORIES:Ritiro
ATTACH;FMTTYPE=image/jpeg:https://www.interessere.it/wp-content/uploads/2025/08/saffron.jpeg
ORGANIZER;CN="La Natura della Mente APS":MAILTO:info@lanaturadellamente.it
END:VEVENT
BEGIN:VEVENT
DTSTART;TZID=Europe/Rome:20250921T190000
DTEND;TZID=Europe/Rome:20250921T200000
DTSTAMP:20260423T080935
CREATED:20250915T072943Z
LAST-MODIFIED:20250915T072943Z
UID:10000663-1758481200-1758484800@www.interessere.it
SUMMARY:Domenica 21 settembre 2025\, ore 19 Recitazione online dei 14 Addestramenti alla consapevolezza
DESCRIPTION:Domenica 21 settembre alle ore 19\, come Comunità italiana dell’Interessere\, desideriamo invitare tutta la comunità italiana di pratica e\, più in generale\, chiunque sia interessato\, alla Recitazione online dei Quattordici Addestramenti alla consapevolezza. \nLa partecipazione\, infatti\, è aperta a tutti\, non è necessario aver ricevuto la Trasmissione dei 14 Addestramenti per poter partecipare a questa Recitazione. \nÈ possibile partecipare attraverso il seguente collegamento Zoom: \nhttps://us06web.zoom.us/j/87585891548?pwd=EQz3dUl8931vasI3aIUHwMMQj0vrEL.1\nID riunione: 875 8589 1548\nCodice di accesso: 111026 \nVi invitiamo a collegarvi con cinque minuti di anticipo\, in modo da prepararci alla Recitazione. \nSiamo felici di avere presto l’occasione di praticare insieme! \nLa comunità italiana dell’Interessere
URL:https://www.interessere.it/evento/domenica-21-settembre-2025-ore-19-recitazione-online-dei-14-addestramenti-alla-consapevolezza/
LOCATION:Online\, Online
CATEGORIES:Evento online
ATTACH;FMTTYPE=image/jpeg:https://www.interessere.it/wp-content/uploads/2025/09/Buddha-con-fiore.jpg
ORGANIZER;CN="Ordine dell'Interessere italiano":MAILTO:info@interessere.it
END:VEVENT
END:VCALENDAR