BEGIN:VCALENDAR
VERSION:2.0
PRODID:-//Comunit&agrave; italiana dell'interessere - ECPv6.15.20//NONSGML v1.0//EN
CALSCALE:GREGORIAN
METHOD:PUBLISH
X-ORIGINAL-URL:https://www.interessere.it
X-WR-CALDESC:Eventi per Comunit&agrave; italiana dell'interessere
REFRESH-INTERVAL;VALUE=DURATION:PT1H
X-Robots-Tag:noindex
X-PUBLISHED-TTL:PT1H
BEGIN:VTIMEZONE
TZID:Europe/Rome
BEGIN:DAYLIGHT
TZOFFSETFROM:+0100
TZOFFSETTO:+0200
TZNAME:CEST
DTSTART:20240331T010000
END:DAYLIGHT
BEGIN:STANDARD
TZOFFSETFROM:+0200
TZOFFSETTO:+0100
TZNAME:CET
DTSTART:20241027T010000
END:STANDARD
BEGIN:DAYLIGHT
TZOFFSETFROM:+0100
TZOFFSETTO:+0200
TZNAME:CEST
DTSTART:20250330T010000
END:DAYLIGHT
BEGIN:STANDARD
TZOFFSETFROM:+0200
TZOFFSETTO:+0100
TZNAME:CET
DTSTART:20251026T010000
END:STANDARD
BEGIN:DAYLIGHT
TZOFFSETFROM:+0100
TZOFFSETTO:+0200
TZNAME:CEST
DTSTART:20260329T010000
END:DAYLIGHT
BEGIN:STANDARD
TZOFFSETFROM:+0200
TZOFFSETTO:+0100
TZNAME:CET
DTSTART:20261025T010000
END:STANDARD
END:VTIMEZONE
BEGIN:VEVENT
DTSTART;TZID=Europe/Rome:20250928T133000
DTEND;TZID=Europe/Rome:20251011T100000
DTSTAMP:20260423T005121
CREATED:20250728T174639Z
LAST-MODIFIED:20250810T194203Z
UID:10000648-1759066200-1760176800@www.interessere.it
SUMMARY:28 settembre - 11 ottobre 2025: "Sul sentiero di Francesco con i monaci di Plum Village"\, Ritiro di meditazione ed escursionismo nella tradizione di Thich Nhat Hanh
DESCRIPTION:28 settembre – 11 ottobre 2025 | Italia\, Umbria \nSUL SENTIERO DI FRANCESCO CON I MONACI DI PLUM VILLAGE. \nRitiro di Meditazione e Escursionismo nella tradizione di Thich Nhat Hanh\nApprezzare la campagna e stare nella natura \nIl Miracolo è camminare sul Pianeta Terra”\nLa gente di solito considera camminare sull’acqua o nell’aria sottile un miracolo. Ma penso che il vero miracolo non sia camminare né sull’acqua né nell’aria sottile\, ma camminare sulla terra. Ogni giorno siamo impegnati in un miracolo che non riconosciamo nemmeno: un cielo blu\, nuvole bianche\, foglie verdi\, gli occhi neri e curiosi di un bambino — i nostri stessi due occhi. Tutto è un miracolo.” (Maestro Zen Thich Nhat Hanh) \nINFORMAZIONI IMPORTANTI: \nSi tratta di due pellegrinaggi distinti sullo stesso percorso\, che si terranno uno consecutivo all’altro\, della durata di 6 giorni ciascuno. È possibile iscriversi ad una o ad entrambe le settimane. I giorni di inizio dei due pellegrinaggi sono il 28 settembre e il 5 ottobre. \nSETTIMANA I:\nGiorno di Arrivo: Domenica 28 settembre 2025\n(Incontro alla stazione ferroviaria di Arezzo nel primo pomeriggio (13:45) dove un servizio navetta ci porterà a Città di Castello\, il punto di partenza del viaggio\, oppure direttamente a Città di Castello: via fraternità 1).\nGiorno di Partenza: Sabato 4 ottobre\nDopo colazione sabato mattina\, dobbiamo lasciare le stanze entro le 10.00.\nI servizi navetta non sono forniti. Per coloro che devono viaggiare\, possono organizzare il loro trasporto. Ecco il link per i mezzi pubblici (treno) \nSETTIMANA II:\nGiorno di Arrivo: Domenica 5 ottobre\n(Incontro alla stazione ferroviaria di Arezzo nel primo pomeriggio (13:45) dove un servizio navetta ci porterà a Città di Castello\, il punto di partenza del viaggio\, oppure direttamente a Città di Castello: via fraternità 1).\nGiorno di Partenza: Sabato 11 ottobre (dopo colazione\, intorno alle 10:00)\nDopo colazione sabato mattina\, dobbiamo lasciare le stanze entro le 10.00. I servizi navetta non sono forniti. Per coloro che devono viaggiare\, possono organizzare il loro trasporto. Ecco il link (treno) per i mezzi pubblici. \nBuona condizione fisica per camminare/escursionismo\nUno zaino\, buone scarpe per camminare\, impermeabili in caso di pioggia. Cammineremo per circa 5 ore ogni giorno. \nQuesto è il percorso di entrambe le settimane:\n1. Città di Castello – Candeggio\, 15 km\n2. Candeggio – Pietralunga\, 17 km\n3. Pietralunga – San Pietro in Vigneto\, 16 km\n4. San Pietro in Vigneto – Valfabbrica\, 16 km\n5. Valfabbrica – Assisi\, 14\,5 km \nLingua: Inglese con traduzione in italiano \nOrganizzatore: Fabio Cappiello\nMonaco ospite e traduttore: Br. Dao Phuong\nFratelli che guidano il pellegrinaggio: Br. Phap Ly\, Br. Duc Hien\, Br. Duc Tru \nPasti: 3 pasti al giorno (vegano)\nPer tutte le persone di 18 anni e oltre \nDI COSA SI TRATTA QUESTO RITIRO?\nCon l’arrivo dell’autunno\, ti invitiamo a unirti a noi per un pellegrinaggio trasformativo di 6 giorni lungo il Sentiero Spirituale di San Francesco nel cuore d’Italia. Questo è un momento perfetto per immergersi nella bellezza serena della natura mentre le foglie diventano dorate e l’aria diventa frizzante.\nGuidato da monaci esperti di Plum Village\, questo ritiro di meditazione/pellegrinaggio è progettato per favorire una profonda connessione con la natura.\nOgni giorno cammineremo per circa 5-6 ore\, per la maggior parte del tempo in silenzio\, permettendoti di abbracciare la tranquillità dei paesaggi\, delle dolci colline e boschi antichi.\nLe attività includeranno meditazioni sedute e camminate\, momenti di rilassamento profondo\, pasti in consapevolezza\, tutte mirate a coltivare consapevolezza e gratitudine. Attraverso insegnamenti sulla compassione e sull’etica\, esploreremo come vivere in armonia con noi stessi e con il mondo che ci circonda.\nMentre camminiamo lungo i sentieri sacri una volta percorsi da San Francesco\, lascia che la bellezza della campagna italiana ti abbracci\, ricordandoti i miracoli che ci circondano. Insieme\, condivideremo dal cuore\, creando uno spazio accogliente per la riflessione personale e la connessione comunitaria. Unisciti a noi in questo viaggio di rinnovamento e risveglio spirituale nel mezzo dello splendore della natura. \nCONTRIBUTO\nIl contributo per il Pellegrinaggio dipende dalla tua situazione finanziaria\, con la tua prenotazione confermata dopo il pagamento. Se puoi\, ti incoraggiamo a scegliere un contributo più elevato\, poiché ciò supporta la nostra missione di pace e una donazione maggiore per le comunità monastiche.\nInoltre\, un contributo maggiore aiuterà i partecipanti che affrontano difficoltà finanziarie. Anche se non offriamo una riduzione del 100%\, forniamo riduzioni basate sulle esigenze individuali. Se hai davvero bisogno di assistenza\, dopo la prenotazione\, anche se la tariffa per la borsa di studio non è più disponibile\, sentiti libero di contattarci per ricevere supporto.\nNon vogliamo che le difficoltà finanziarie siano un ostacolo alla pratica.\nGrazie mille per la tua generosità e supporto. \nCONTRIBUTI DA POTER SCEGLIERE:\n695 €: prezzo ridotto: per coprire i costi e una donazione di base\n835 €: per coprire i costi di base più una donazione per i monaci e per supportare coloro che non possono coprire l’intero costo.\n975 €: per coprire i costi di base più una donazione per il monastero e un maggiore supporto per coloro che non possono coprire l’intero costo. \nPer maggiori informazioni e per registrarsi:\nContatta Fabio Cappiello.\nemail: fabio.hanoi@gmail.com\nWhatsapp:+84 869552213\nTel+39 351 4 220408
URL:https://www.interessere.it/evento/28-settembre-11-ottobre-2025-sul-sentiero-di-francesco-con-i-monaci-di-plum-village-ritiro-di-meditazione-ed-escursionismo-nella-tradizione-di-thich-nhat-hanh/
CATEGORIES:Trekking consapevole
ATTACH;FMTTYPE=image/jpeg:https://www.interessere.it/wp-content/uploads/2025/03/camaldoli-10-1.jpg
END:VEVENT
BEGIN:VEVENT
DTSTART;TZID=Europe/Rome:20251008T150000
DTEND;TZID=Europe/Rome:20251014T140000
DTSTAMP:20260423T005121
CREATED:20250613T040849Z
LAST-MODIFIED:20250804T093150Z
UID:10000636-1759935600-1760450400@www.interessere.it
SUMMARY:8-14 ottobre @Pardesa: Settimana di volontariato per giovani
DESCRIPTION:Settimana di volontariato per giovani\nun esperienza di presenza mentale\ne di vita comunitaria\n8-14 ottobre 2025\nal centro di pratica Pardesa \nIn alcuni periodi dell’anno ospitiamo chi voglia fare esperienza di volontariato in un ambiente di presenza mentale dando anche un contributo al terreno e alle colture del nostro centro. \nOffriamo la nostra generosità e il nostro servizio alla Terra\, al terreno e alle persone che praticheranno a Pardesa nel futuro\, e allo stesso tempo impariamo facendo\, sia su permacultura ed ecologia applicata che sulla presenza mentale. Le attività comprendono: \n\ncreare compost\npotatura\nraccolta nel frutteto e nell’orto\ncostruire con legno\nspalare\, spostare cariole\, vangare\, eccetera\npreparare gli spazi del centro (sala da meditazione\, camere\, ecc) per ritiri e corsi\n\nI periodi di volontariato richiedono la disponibilità a partecipare alle pratiche di presenza mentale\, compreso il nobile silenzio la sera e il mattino presto. \nVisto l’impegno fisico delle attività agricole questa esperienza di volontariato è pensata tipicamente per persone fra i 20 e i 40 anni d’età. \nOrario tipico\nGli orari delle attività possono variare. Di seguito\, un orario d’esempio: \n7.00 sveglia\n7.30 meditazione formale mattutina\n8.15 colazione\ntempo personale\n11.00 attività di permacultura nel campo oppure all’interno\n12.30 pranzo in presenza mentale\n15.00 attività di permacultura nel campo oppure all’interno\n18.30 cena in presenza mentale\n20.00 meditazione formale serale\nnobile silenzio (fino a dopo colazione) \nProssimi periodi di volontariato\nSono già in programma le prossime date: \n1-7 settembre\n8-14 ottobre \nIscrizione\nPer iscrizione e maggiori informazioni vedi Volontariato a Pardesa
URL:https://www.interessere.it/evento/15-21-ottobre-pardesa-settimana-di-volontariato-per-giovani/
LOCATION:Pardesa\, Livergnano\, Pianoro\, 40065
ATTACH;FMTTYPE=image/jpeg:https://www.interessere.it/wp-content/uploads/2025/06/lavoriamo-1.jpg
ORGANIZER;CN="La Natura della Mente APS":MAILTO:info@lanaturadellamente.it
END:VEVENT
BEGIN:VEVENT
DTSTART;TZID=Europe/Rome:20251008T163000
DTEND;TZID=Europe/Rome:20251012T140000
DTSTAMP:20260423T005121
CREATED:20250806T155439Z
LAST-MODIFIED:20250806T160618Z
UID:10000652-1759941000-1760277600@www.interessere.it
SUMMARY:Chi vince? La pratica nei conflitti
DESCRIPTION:Centro Avalokita\nMercoledì 8 – Domenica 12 ottobre 2025\nChi vince?\nLa pratica nei conflitti\nRitiro di consapevolezza\nofferto da Diana Petech e Miriam Pochettino\nSotterranei o aperti\, i conflitti sembrano far parte delle dinamiche inevitabili nelle relazioni umane. E la nostra cultura ci abitua a considerarli campi di battaglia da cui si può uscire solo o vincitori o vinti. \nIl Buddha\, attraverso gli insegnamenti di Thich Nhat Hanh (Thây)\, ci insegna in che modo prevenirli e\, in caso\, farne invece campi di pratica per coltivare l’armonia\, dove a vincere non è più uno dei due contendenti ma la sincerità\, la cura del rapporto e la determinazione a crescere insieme. \nIl ritiro\, di complessivi quattro giorni (dal mercoledì pomeriggio alla domenica dopo pranzo)\, intende esplorare questo terreno accidentato e fertile\, condividendo esperienze e strumenti di pratica ed esercitandoci nell’arte di coltivare l’armonia vera in noi e fra noi. \nSISTEMAZIONE\nIl Centro dispone di una sistemazione in stanze multiple da 2\, 3 o 4 posti (uomini e donne separati)\, con letti singoli e letti a castello\, alcune con bagno in camera altre con bagno in comune. È disponibile anche una stanza priva di barriere architettoniche. Non sono al momento disponibili stanze singole. \nQUOTE DI PARTECIPAZIONE\nLa quota di partecipazione per questo ritiro è di 340 euro e comprende vitto\, alloggio e quota corso.\nResta aperta la possibilità\, che come Centro abbiamo sempre offerto\, di scriverci a centro@avalokita.it e chiedere un sostegno alla propria partecipazione\, quando in noi c’è una forte motivazione ma la situazione economica del momento non ci sostiene in questo! \nISCRIZIONI\nPuoi iscriverti a questo ritiro scrivendo compilando il modulo che trovi nella pagina: https://avalokita.it/chi-vince-la-pratica-nei-conflitti-ritiro-di-consapevolezza-offerto-da-diana-petech-e-miriam-pochettino/
URL:https://www.interessere.it/evento/chi-vince-la-pratica-nei-conflitti/
LOCATION:Centro Avalokita\, Frazione Villa Rossi 32\, Castelli\, Teramo\, 64041\, Italia
CATEGORIES:Ritiro
ATTACH;FMTTYPE=image/jpeg:https://www.interessere.it/wp-content/uploads/2025/08/chi.vince_.jpg
ORGANIZER;CN="Centro Avalokita":MAILTO:centro@avalokita.it
END:VEVENT
BEGIN:VEVENT
DTSTART;TZID=Europe/Rome:20251010T190000
DTEND;TZID=Europe/Rome:20251012T140000
DTSTAMP:20260423T005121
CREATED:20250907T112353Z
LAST-MODIFIED:20250910T161643Z
UID:10000659-1760122800-1760277600@www.interessere.it
SUMMARY:"Il Vero Amore Guarisce"
DESCRIPTION:In ogni epoca l’essere umano ha fatto cose raccapriccianti e cose sublimi\, ha creato ponti e divisioni\, ha seminato paura\, odio\, egoismo e distruzione\, e anche fraternità\, coraggio\, bellezza\, altruismo e amore. Il tempo in cui viviamo nel suo insieme di luci e ombre è il risultato dei semi coltivati nel passato. Questo vale per la famiglia umana e per ogni nostra vita individuale\, le due cose con sono separate. L’essere umano ha bisogno di evolversi. Il cambiamento della coscienza collettiva passa attraverso la trasformazione della coscienza individuale. Il Vero Amore è una chiave fondamentale per questo cammino e per costruire una vita felice per ogni essere vivente. Inizia dalla tua vita quotidiana\, dal rapporto con te stessa\, con te stesso e con gli “altri”. Per percorrere il sentiero del Vero Amore occorre aprire il Cuore. \nStaremo insieme due giorni per praticare la presenza mentale e la consapevolezza. Mediteremo\, rifletteremo e condivideremo sui Quattro incommensurabili stati mentali del Vero Amore: Gentilezza amorevole\, gioia\, compassione\, equanimità. \nPraticheremo la meditazione silenziosa e guidata\, la meditazione camminata\, il mangiare in consapevolezza\, il rilassamento profondo\, la condivisione\, il gioco e ascolteremo insegnamenti secondo la scuola di Plum Village. \nQuesto è l’amore proposto dal Buddha\, l’amore che non fa soffrire\, l’amore che dà sollievo\, che nutre\, e questi stati possono essere sviluppati all’infinito: è per questo che si chiama l’amore senza frontiere. Potete cominciare ad amare una persona\, ma se è il vero amore\, questo abbraccia tutto\, tutti gli esseri. Non solo gli uomini\, ma anche gli animali\, le piante e i minerali\, ecc. E’ l’amore senza frontiere\, proposto dal Buddha. Thich Nhat Hanh-  Discorso sull’Amore Vero- Plum Village\, 27 luglio 2009 \nIl ritiro inizierà dalla cena del venerdì e si concluderà con il pranzo della domenica. I pasti saranno vegetariani\, se avete intolleranze fatecelo sapere al momento dell’iscrizione. Sarà possibile per chi viene da fuori dormire presso il podere. Il costo del ritiro per chi alloggerà è di 100/110€ (A seconda della sistemazione) Per chi non alloggerà è di 70€. \nIl costo è comprensivo di una offerta (dana) minima di 30 € per insegnamento. Tale offerta verrà devoluta interamente per l’ampliamento del Centro laico di meditazione e vita consapevole Avalokita fondato sugli insegnamenti del Maestro Dhyana Thich Nhat Hanh. Il centro situato in Abruzzo https://avalokita.it/ \nPer informazioni sull’alloggio e iscrizioni (entro il 4 Ottobre): Bodhisu whatsapp 3357072131 \nPer informazioni sul ritiro: Leonardo 3311086040 \nPortare una coperta o plaid e un cuscino o panchetto per la meditazione.
URL:https://www.interessere.it/evento/il-vero-amore-guarisce/
LOCATION:Casole d’Elsa (Siena)\, Podere Avere Gli Arcangeli Loc. Pievescola\, 53031 Casole d'Elsa
CATEGORIES:Ritiro
ATTACH;FMTTYPE=image/jpeg:https://www.interessere.it/wp-content/uploads/2025/09/Il-vero-Amore-guarisce-1.jpeg
ORGANIZER;CN="Leonardo Maraviglia":MAILTO:maraviglia07@gmail.com
END:VEVENT
BEGIN:VEVENT
DTSTART;TZID=Europe/Rome:20251012T093000
DTEND;TZID=Europe/Rome:20251012T170000
DTSTAMP:20260423T005121
CREATED:20251001T183520Z
LAST-MODIFIED:20251002T075706Z
UID:10000668-1760261400-1760288400@www.interessere.it
SUMMARY:12 ottobre: Il consumo consapevole
DESCRIPTION:Il consumo consapevole\nGiornata di pratica di presenza mentale\ndomenica 12 ottobre 2025\nal centro di pratica Pardesa \nOgnuna delle nostre azioni esercita un’influenza sull’umanità intera\, sull’universo intero. Mantenere sano il proprio corpo è un atto di gentilezza per i propri antenati e genitori\, per le generazioni future e per la società. La salute non riguarda soltanto il corpo: è anche la salute mentale. La consapevolezza dei consumi porta alla salute e alla guarigione\, per noi come per il nostro pianeta.\n– Thich Nhat Hanh\, da “L’unico mondo che abbiamo” \nSiamo invitati a una giornata di pratica di presenza mentale\, nella tradizione di Thich Nhat Hanh\, sul tema del consumo consapevole. Con la meditazione seduta e camminata\, un pranzo in consapevolezza\, l’insegnamento e la condivisione\, ci alimenteremo della pace della natura e guarderemo in profondità alla moltitudine di modi secondo i quali alimentiamo il corpo\, la mente e la nostra società. \nInformazioni pratiche\nQuando: domenica 12 ottobre 2025 9:30 – 17.00 \nAiutiamo a coordinare i partecipanti a condividere il viaggio\, con il punto d’incontro alla stazione ferroviaria di Pianoro alle ore 9.10 e la partenza da Pianoro alle ore 17.30. \nDa portare: \n\ncibo vegano da condividere per pranzo\, pronto a servire\ncuscino/panchetto da meditazione (alcuni cuscini sono disponibili in sito)\nborraccia\ncappello/giacca impermeabile dipende dal meteo\nscarpe per camminare\n\nContributo: €20 per sostenere il centro di pratica Pardesa \nNon vogliamo che il fattore economico sia limitante per la partecipazione alle nostre attività. Per eventuali difficoltà contattaci direttamente. \nPer iscrizione e maggiori informazioni: Il consumo consapevole
URL:https://www.interessere.it/evento/12-ottobre-pardesa-il-consumo-consapevole/
LOCATION:Pardesa\, Livergnano\, Pianoro\, 40065
CATEGORIES:Giornata di consapevolezza
ATTACH;FMTTYPE=image/jpeg:https://www.interessere.it/wp-content/uploads/2025/10/con-sumo.jpg
ORGANIZER;CN="La Natura della Mente APS":MAILTO:info@lanaturadellamente.it
END:VEVENT
END:VCALENDAR