BEGIN:VCALENDAR
VERSION:2.0
PRODID:-//Comunit&agrave; italiana dell'interessere - ECPv6.15.20//NONSGML v1.0//EN
CALSCALE:GREGORIAN
METHOD:PUBLISH
X-WR-CALNAME:Comunit&agrave; italiana dell'interessere
X-ORIGINAL-URL:https://www.interessere.it
X-WR-CALDESC:Eventi per Comunit&agrave; italiana dell'interessere
REFRESH-INTERVAL;VALUE=DURATION:PT1H
X-Robots-Tag:noindex
X-PUBLISHED-TTL:PT1H
BEGIN:VTIMEZONE
TZID:Europe/Rome
BEGIN:DAYLIGHT
TZOFFSETFROM:+0100
TZOFFSETTO:+0200
TZNAME:CEST
DTSTART:20220327T010000
END:DAYLIGHT
BEGIN:STANDARD
TZOFFSETFROM:+0200
TZOFFSETTO:+0100
TZNAME:CET
DTSTART:20221030T010000
END:STANDARD
BEGIN:DAYLIGHT
TZOFFSETFROM:+0100
TZOFFSETTO:+0200
TZNAME:CEST
DTSTART:20230326T010000
END:DAYLIGHT
BEGIN:STANDARD
TZOFFSETFROM:+0200
TZOFFSETTO:+0100
TZNAME:CET
DTSTART:20231029T010000
END:STANDARD
BEGIN:DAYLIGHT
TZOFFSETFROM:+0100
TZOFFSETTO:+0200
TZNAME:CEST
DTSTART:20240331T010000
END:DAYLIGHT
BEGIN:STANDARD
TZOFFSETFROM:+0200
TZOFFSETTO:+0100
TZNAME:CET
DTSTART:20241027T010000
END:STANDARD
BEGIN:DAYLIGHT
TZOFFSETFROM:+0100
TZOFFSETTO:+0200
TZNAME:CEST
DTSTART:20250330T010000
END:DAYLIGHT
BEGIN:STANDARD
TZOFFSETFROM:+0200
TZOFFSETTO:+0100
TZNAME:CET
DTSTART:20251026T010000
END:STANDARD
END:VTIMEZONE
BEGIN:VEVENT
DTSTART;TZID=Europe/Rome:20231229T180000
DTEND;TZID=Europe/Rome:20240102T140000
DTSTAMP:20260423T092046
CREATED:20231017T075225Z
LAST-MODIFIED:20231113T123753Z
UID:10000309-1703872800-1704204000@www.interessere.it
SUMMARY:“Guardare con occhi nuovi – per vedere davvero”\, Ritiro di Capodanno offerto dalla Comunità del Centro Avalokita
DESCRIPTION:Ritiro di Capodanno\nCentro Avalokita\nVenerdì 29 dicembre 2023 – 2 gennaio 2024 \n“Guardare con occhi nuovi – per vedere davvero”\nRitiro di consapevolezza offerto dalla Comunità del Centro Avalokita \n“Immaginiamo di guardare il cielo e vedere una bellissima nuvola. Pensiamo: “E’ una splendida nuvola”. Poi\, dopo qualche istante guardiamo nuovamente in su e il cielo è limpido e blu e pensiamo: “Oh\, la nuvola è sparita”. Un attimo le cose sembrano esistere e l’attimo dopo sono andate. \nGuardiamo alle cose in questo modo perché abbiamo la tendenza ad essere intrappolati nei segni\, nelle apparenze e nelle forme familiari e questo ci distrae dal vedere la vera natura della realtà”.\n(Thich Nhat Hanh – The art of living). \n“Dovremmo riuscire ogni giorno a guardare le cose in modo da essere liberi dall’apparenza\, dalla forma. …Se siamo schiavi della forma\, non riusciamo a vedere; …con gli occhi dell’assenza di segni non sei più bloccato dalla forma della nuvola o della pioggia\, o del tè e allora sei libero dalla paura\, dal dolore\, dal rimpianto e scopri che non c’è nascita né morte\, c’è soltanto trasformazione”.\n(Thich Nhat Hanh – Discorso dal Ritiro dei 21 giorni del 17.06.2014). \nIn questo ritiro praticheremo insieme accompagnandoci nel passaggio al nuovo anno nel desiderio di allenarci a sviluppare la capacità di guardare a noi stessi e alla realtà con occhi nuovi. \nThay\, attraverso gli insegnamenti sulle Tre Porte delle Liberazione\, ci ricorda spesso che abbiamo la capacità di trascendere la realtà storica fatta di forma\, idee\, concetti\, categorizzazioni\, per accedere alla dimensione assoluta\, quello spazio ampio\, aperto\, incondizionato. \nLo faremo attraverso gli insegnamenti\, pratiche formali e informali\, laboratori\, momenti di gioco e leggerezza. \nIn questo ritiro ci guideranno Andrea Savardi\, Alessandra David\, Börje Tobiasson\, cofondatori del Centro Avalokita\, membri dell’Ordine dell’Interessere\, Donatella Campoleoni membro dell’Ordine dell’Interessere. \nISCRIZIONI\nPuoi iscriverti a questo ritiro a partire dal 6 novembre scrivendo a centro@avalokita.it o chiamando il 340.6397190 (lunedì e venerdì 12 – 14; mercoledì 8 – 10)\, indicando nome\, cognome\, recapito telefonico e luogo di provenienza\, grazie. \nSISTEMAZIONE\nIl Centro dispone di una sistemazione in stanze multiple da 2\, 3 o 4 posti\, con letti singoli e letti a castello\, e bagni comuni (uomini e donne separati)\, situate al primo piano. È disponibile anche una stanza priva di barriere architettoniche. \nQUOTE DI PARTECIPAZIONE\nLa quota di partecipazione per questo ritiro è di 280 euro e comprende vitto\, alloggio e quota corso.\nResta aperta la possibilità\, che come Centro abbiamo sempre offerto\, di scriverci a centro@avalokita.it e chiedere un sostegno alla propria partecipazione\, quando in noi c’è una forte motivazione ma la situazione economica del momento non ci sostiene in questo! \nPROGRAMMA GIORNALIERO ORIENTATIVO\n06.00 Sveglia\n06.30 Meditazione\n07.30 Pratiche di movimento in consapevolezza\n08.15 Colazione\n09.30 Incontro della comunità e prendersi cura del Centro\n11.00 Insegnamento\n13.00 Pranzo e riposo\n15.30 Laboratori/Pratiche di consapevolezza\n19.00 Cena\n20.00 Meditazione\, segue il “Nobile silenzio” \nIn questa pagina puoi trovare maggiori informazioni:\nhttps://avalokita.it/informazioni-generali/ \nAvalokita\nCentro di meditazione e vita consapevole\nnella tradizione di Thich Nhat Hanh\nFrazione Villa Rossi – 64041 Castelli (TE) \n© 2023 Centro Avalokita Media
URL:https://www.interessere.it/evento/guardare-con-occhi-nuovi-per-vedere-davvero-ritiro-di-capodanno-offerto-dalla-comunita-del-centro-avalokita/
LOCATION:Avalokita\, villa Rossi
CATEGORIES:Ritiro
ATTACH;FMTTYPE=image/jpeg:https://www.interessere.it/wp-content/uploads/2023/10/Guardare-con-occhi-nuovi-scaled.jpg
ORGANIZER;CN="Centro Avalokita":MAILTO:centro@avalokita.it
END:VEVENT
END:VCALENDAR