BEGIN:VCALENDAR
VERSION:2.0
PRODID:-//Comunit&agrave; italiana dell'interessere - ECPv6.15.20//NONSGML v1.0//EN
CALSCALE:GREGORIAN
METHOD:PUBLISH
X-ORIGINAL-URL:https://www.interessere.it
X-WR-CALDESC:Eventi per Comunit&agrave; italiana dell'interessere
REFRESH-INTERVAL;VALUE=DURATION:PT1H
X-Robots-Tag:noindex
X-PUBLISHED-TTL:PT1H
BEGIN:VTIMEZONE
TZID:Europe/Rome
BEGIN:DAYLIGHT
TZOFFSETFROM:+0100
TZOFFSETTO:+0200
TZNAME:CEST
DTSTART:20200329T010000
END:DAYLIGHT
BEGIN:STANDARD
TZOFFSETFROM:+0200
TZOFFSETTO:+0100
TZNAME:CET
DTSTART:20201025T010000
END:STANDARD
BEGIN:DAYLIGHT
TZOFFSETFROM:+0100
TZOFFSETTO:+0200
TZNAME:CEST
DTSTART:20210328T010000
END:DAYLIGHT
BEGIN:STANDARD
TZOFFSETFROM:+0200
TZOFFSETTO:+0100
TZNAME:CET
DTSTART:20211031T010000
END:STANDARD
BEGIN:DAYLIGHT
TZOFFSETFROM:+0100
TZOFFSETTO:+0200
TZNAME:CEST
DTSTART:20220327T010000
END:DAYLIGHT
BEGIN:STANDARD
TZOFFSETFROM:+0200
TZOFFSETTO:+0100
TZNAME:CET
DTSTART:20221030T010000
END:STANDARD
BEGIN:DAYLIGHT
TZOFFSETFROM:+0100
TZOFFSETTO:+0200
TZNAME:CEST
DTSTART:20230326T010000
END:DAYLIGHT
BEGIN:STANDARD
TZOFFSETFROM:+0200
TZOFFSETTO:+0100
TZNAME:CET
DTSTART:20231029T010000
END:STANDARD
BEGIN:DAYLIGHT
TZOFFSETFROM:+0100
TZOFFSETTO:+0200
TZNAME:CEST
DTSTART:20240331T010000
END:DAYLIGHT
BEGIN:STANDARD
TZOFFSETFROM:+0200
TZOFFSETTO:+0100
TZNAME:CET
DTSTART:20241027T010000
END:STANDARD
BEGIN:DAYLIGHT
TZOFFSETFROM:+0100
TZOFFSETTO:+0200
TZNAME:CEST
DTSTART:20250330T010000
END:DAYLIGHT
BEGIN:STANDARD
TZOFFSETFROM:+0200
TZOFFSETTO:+0100
TZNAME:CET
DTSTART:20251026T010000
END:STANDARD
BEGIN:DAYLIGHT
TZOFFSETFROM:+0100
TZOFFSETTO:+0200
TZNAME:CEST
DTSTART:20260329T010000
END:DAYLIGHT
BEGIN:STANDARD
TZOFFSETFROM:+0200
TZOFFSETTO:+0100
TZNAME:CET
DTSTART:20261025T010000
END:STANDARD
END:VTIMEZONE
BEGIN:VEVENT
DTSTART;TZID=Europe/Rome:20250808T170000
DTEND;TZID=Europe/Rome:20250810T160000
DTSTAMP:20260423T021524
CREATED:20250527T111941Z
LAST-MODIFIED:20250527T212231Z
UID:10000626-1754672400-1754841600@www.interessere.it
SUMMARY:Ritiro Famiglie – Calci (Pi) – 8/9/10 agosto 2025 – Fratello Phap Ban
DESCRIPTION:RITIRO RESIDENZIALE PER FAMIGLIE  \nin collaborazione con il fratello Phap Ban nella tradizione di Plum Village \n“Pratichiamo come comunità” \nNutriamo noi stessi\, la famiglia e sviluppiamo la consapevolezza  \ndella nostra interconnessione \n8\, 9 e 10 agosto 2025 \nAgriturismo “I Felloni“ Calci (Pisa) \nSiamo felici di comunicarvi che nei giorni 8/9/10 agosto 2025 si terrà un ritiro residenziale per famiglie a Calci (Pisa) insieme al fratello Phap Ban e la comunità italiana. \nL’arrivo è previsto per venerdì 8 agosto dalle ore 15.00-17.00 (inizio attività ore 17.30)\, la fine del ritiro è prevista domenica 18 agosto alle ore 16.00.  \nIl ritiro è un’occasione per lasciare che la consapevolezza permei tutte le nostre azioni e favorisca il sorgere dell’energia collettiva. \nLa presenza aiuta a vivere in profondità ogni momento della tua vita. Thich Nhat Hanh \nCosa portare \nCuscino\, tappetino\, coperta per il rilassamento\, cappello e spray anti zanzara\, scarpe per camminare \nall’esterno e ciabatte pulite per camminare all’interno. \nCosto e pagamenti \nIl costo per il vitto e l’alloggio per l’intero ritiro è di 100€ (adulto)\, 80€ (ragazzi maggiori di 10 anni)\, 60€ (bambini anni 3-10)\, gratuito sotto i 3 anni.  \nI posti sono limitati e si consiglia di iscriversi il prima possibile. \nPasti \nI pasti saranno vegetariani. Si prega di segnalare eventuali gravi allergie e intolleranze alimentari al momento dell’iscrizione. \nCome raggiungere l’Agriturismo “I Felloni” \nIndirizzo Via del Fienilaccio 3/5\, Via Culminezza\, 1\, 56011 Calci (Pisa). Questo è l’indirizzo google map (https://maps.app.goo.gl/HTmYCKLrB8Qko3X2A). \nIscrizioni e informazioni: Silvio 347.8266264 – demagistris.silvio@gmail.com
URL:https://www.interessere.it/evento/ritiro-famiglie-calci-pi-8-9-10-agosto-2025-fratello-phap-ban/
LOCATION:calci
ATTACH;FMTTYPE=image/png:https://www.interessere.it/wp-content/uploads/2025/05/casa.png
ORGANIZER;CN="Sangha Toscana":MAILTO:monaci.in.italia@gmail.com
END:VEVENT
BEGIN:VEVENT
DTSTART;TZID=Europe/Rome:20210806T080000
DTEND;TZID=Europe/Rome:20210808T170000
DTSTAMP:20260423T021524
CREATED:20210708T202614Z
LAST-MODIFIED:20210708T202614Z
UID:10000042-1628236800-1628442000@www.interessere.it
SUMMARY:Ritiro con i MOnaci di Plum Village a Calci (Pisa)
DESCRIPTION:Ritiri di un fine settimana (6/7/8 agosto e 27/28/29 agosto)\nUn’occasione per lasciare che la consapevolezza permei tutte le nostre azioni durante un intero fine settimana di pratica condivisa. Il ritiro si svolgerà nell’agriturismo “I felloni” (http://www.ifelloni.it/ita/) dove avremo disponibilità di ospitare una trentina di persone. L’arrivo è previsto il venerdì sera\, in tempo per sistemarsi con agio\, mangiare la cena e prendere parte alla prima attività. Il ritiro si concluderà domenica dopo pranzo.\nI dettagli sui ritiri saranno inviati in seguito. \nInformazioni e iscrizioni:\nMaria chiara 320.2742174 mariachiaran@yahoo.it\nPatrizia 339.7277337 patrizia.montigalli@gmail.com
URL:https://www.interessere.it/evento/ritiro-con-i-monaci-di-plum-village-a-calci-pisa/
LOCATION:calci
END:VEVENT
END:VCALENDAR