BEGIN:VCALENDAR
VERSION:2.0
PRODID:-//Comunit&agrave; italiana dell'interessere - ECPv6.15.20//NONSGML v1.0//EN
CALSCALE:GREGORIAN
METHOD:PUBLISH
X-ORIGINAL-URL:https://www.interessere.it
X-WR-CALDESC:Eventi per Comunit&agrave; italiana dell'interessere
REFRESH-INTERVAL;VALUE=DURATION:PT1H
X-Robots-Tag:noindex
X-PUBLISHED-TTL:PT1H
BEGIN:VTIMEZONE
TZID:Europe/Rome
BEGIN:DAYLIGHT
TZOFFSETFROM:+0100
TZOFFSETTO:+0200
TZNAME:CEST
DTSTART:20210328T010000
END:DAYLIGHT
BEGIN:STANDARD
TZOFFSETFROM:+0200
TZOFFSETTO:+0100
TZNAME:CET
DTSTART:20211031T010000
END:STANDARD
BEGIN:DAYLIGHT
TZOFFSETFROM:+0100
TZOFFSETTO:+0200
TZNAME:CEST
DTSTART:20220327T010000
END:DAYLIGHT
BEGIN:STANDARD
TZOFFSETFROM:+0200
TZOFFSETTO:+0100
TZNAME:CET
DTSTART:20221030T010000
END:STANDARD
BEGIN:DAYLIGHT
TZOFFSETFROM:+0100
TZOFFSETTO:+0200
TZNAME:CEST
DTSTART:20230326T010000
END:DAYLIGHT
BEGIN:STANDARD
TZOFFSETFROM:+0200
TZOFFSETTO:+0100
TZNAME:CET
DTSTART:20231029T010000
END:STANDARD
BEGIN:DAYLIGHT
TZOFFSETFROM:+0100
TZOFFSETTO:+0200
TZNAME:CEST
DTSTART:20240331T010000
END:DAYLIGHT
BEGIN:STANDARD
TZOFFSETFROM:+0200
TZOFFSETTO:+0100
TZNAME:CET
DTSTART:20241027T010000
END:STANDARD
END:VTIMEZONE
BEGIN:VEVENT
DTSTART;VALUE=DATE:20231112
DTEND;VALUE=DATE:20231113
DTSTAMP:20260423T001940
CREATED:20231025T142804Z
LAST-MODIFIED:20231025T143119Z
UID:10000313-1699747200-1699833599@www.interessere.it
SUMMARY:INSIEME\, PER ESSERE PACE
DESCRIPTION:Domenica 12 novembre 2023 ore 10 – 16\na Villa Vrindavana – sala Chakra via Scopeti\, S. Casciano\, Firenze\nINSIEME\, PER ESSERE PACE\ncon Adriana Rocco e Brigitta Gaisch\nsecondo gli Insegnamenti ricevuti dal maestro zen vietnamita Thich Nhat Hanh \nCon fiducia e determinazione dedichiamo questa domenica\na liberare l’energia della calma\, dell’ascolto e della comprensione\,\nprima di tutto di noi stessi.\nCi riposiamo\, portiamo passi attenti nella foresta\,\nascoltiamo insegnamenti preziosi\,\ncondividiamo in cerchio cibo semplice e sano.\nSenza separazione\, grandi e piccini di tutte le età\,\ngeneriamo una nuova presenza come offerta di Pace. \nPortiamo:\n– cibo vegetariano per picnic e borraccia\n– stuoia\, cuscino e coperta di lana per il rilassamento profondo\n– contributo di 10 euro per la Sala Chakra (chi può)\nInfo e iscrizioni:\nadrianarocco41@gmail.com – tel. 338 24 16 345\nGentilmente confermare la partecipazione qualche giorno prima
URL:https://www.interessere.it/evento/insieme-per-essere-pace/
LOCATION:VILLA VRINDAVANA   via Scopeti\, S.Casciano\, Firenze
CATEGORIES:Giornata di consapevolezza
ATTACH;FMTTYPE=image/jpeg:https://www.interessere.it/wp-content/uploads/2023/10/PAVONE.jpg
ORGANIZER;CN="Adriana Rocco":MAILTO:adrianarocco41@gmail.com
END:VEVENT
BEGIN:VEVENT
DTSTART;VALUE=DATE:20231008
DTEND;VALUE=DATE:20231009
DTSTAMP:20260423T001940
CREATED:20230912T080533Z
LAST-MODIFIED:20230912T082739Z
UID:10000290-1696723200-1696809599@www.interessere.it
SUMMARY:INSIEME NEL CAMBIAMENTO  Domenica 8 Ottobre 2023 a Villa Vrindavana \, S. Casciano FIRENZE
DESCRIPTION:DOMENICA 8 OTTOBRE 2023\nore 10.00 – 16.00\na VILLA VRINDAVANA – Sala Chakra\nvia Scopeti\, S. Casciano\, Firenze \nINSIEME NEL CAMBIAMENTO\ncon Adriana Rocco e Brigitta Gaisch\nnello spirito degli Insegnamenti ricevuti da Thich Nhat Hanh \nCi incontriamo per condividere momenti di silenzio\, di ascolto\, di consapevolezza\, comprensione e buona comunicazione. \nVogliamo generare una nuova Presenza alla Vita e offrirla come dono alla Madre Terra. Insieme\, grandi e piccini di tutte le età. \nPortiamo:\n– cibo vegetariano per picnic e borraccia\n– stuoia\, cuscino e coperta di lana per il rilassamento profondo\n– contributo di 10 euro per la Sala Chakra\n( chi può)\nInfo e iscrizioni:\nadrianarocco41@gmail.com\, tel. 338 24 16 345\nGentilmente confermare la partecipazione qualche giorno prima
URL:https://www.interessere.it/evento/domenica-8-ottobre-2023-ore-10-00-16-00-a-villa-vrindavana-sala-chakra-via-scopeti-s-casciano-firenze-insieme-nel-cambiamento/
LOCATION:VILLA VRINDAVANA   via Scopeti\, S.Casciano\, Firenze
CATEGORIES:Giornata di consapevolezza
ATTACH;FMTTYPE=image/jpeg:https://www.interessere.it/wp-content/uploads/2023/09/Immagine1-1.jpg
ORGANIZER;CN="Adriana Rocco":MAILTO:adrianarocco41@gmail.com
END:VEVENT
BEGIN:VEVENT
DTSTART;TZID=Europe/Rome:20230212T100000
DTEND;TZID=Europe/Rome:20230212T160000
DTSTAMP:20260423T001940
CREATED:20230112T081737Z
LAST-MODIFIED:20230224T121925Z
UID:10000177-1676196000-1676217600@www.interessere.it
SUMMARY:Giornata di consapevolezza con Adriana Rocco e Brigitta Gaisch
DESCRIPTION:DOMENICA 12 FEBBRAIO 2023 \nore 10-16 \nVILLA VRINDAVANA \nvia Scopeti\, S.Casciano\, Firenze \nIL DONO DELLA QUIETE INTERIORE \ncon Adriana Rocco e Brigitta Gaisch \nIn un luogo di naturale bellezza\, di pace e condivisione di valori dello spirito\,\nci dedichiamo a risvegliare e nutrire in noi i semi della fiducia\, della calma\,\ndella gioia e della profonda comprensione\, sostenuti dagli Insegnamenti trasmessi da Thich Nhat Hanh. \nSiamo felici per la presenza e partecipazione anche di bambini di ogni età. \nPortiamo: \ncibo vegetariano per picnic \nborraccia con acqua o tisana \nstuoia\, cuscino e coperta di lana per il rilassamento profondo \ncontributo di 10 euro per la Villa \ninfo ed iscrizioni: \nadrianarocco41@gmail.com tel. 338 24 16 345 \ngentilmente confermare la partecipazione almeno 2 giorni prima
URL:https://www.interessere.it/evento/giornata-di-consapevolezza-con-adriana-rocco-e-brigitta-gaisch/
LOCATION:VILLA VRINDAVANA   via Scopeti\, S.Casciano\, Firenze
CATEGORIES:Ritiro
ATTACH;FMTTYPE=image/png:https://www.interessere.it/wp-content/uploads/2023/01/pavone.png
ORGANIZER;CN="Adriana Rocco":MAILTO:adrianarocco41@gmail.com
END:VEVENT
BEGIN:VEVENT
DTSTART;TZID=Europe/Rome:20220927T160000
DTEND;TZID=Europe/Rome:20221002T140000
DTSTAMP:20260423T001940
CREATED:20220730T101022Z
LAST-MODIFIED:20220804T131615Z
UID:10000138-1664294400-1664719200@www.interessere.it
SUMMARY:“Insegnamenti sull’amore e la morte”: 27.09 – 02.10\, La Retta Visione del morire e del lutto alla luce dell’amore che pervade queste esperienze
DESCRIPTION:“Insegnamenti sull’amore e la morte”\n 27 settembre – 2 ottobre 2022\nLa Retta Visione del morire e del lutto alla luce dell’amore che pervade queste esperienze\nRitiro di presenza mentale nella tradizione di Plum Village attraverso Dharma\, poesia e elaborazione artistica\nofferto dall’insegnante di Dharma Silvia Lombardi\ne dai tutor Annamaria De Leonibus e Leonardo Maraviglia membri dell’Ordine dell’Interessere \n“Non vieni\, non vai\, né prima né poi\,\nTi stringo forte a me e poi ti lascio andare\nPerché tu sei in me ed io sono in te” \nCare amiche e cari amici\,\nognuno di noi conosce per esperienza diretta il lutto\, la perdita e la sofferenza che può essere legata alla morte – ma anche a malattia e vecchiaia – e in modo più specifico all’idea della nostra morte. Ma conosciamo anche la forza dell’amore e della compassione\, che ci possono aprire nuove chiavi di lettura dell’esperienza. Pandemie\, guerre e anche solo la vita quotidiana ci portano a riflettere sulle risorse che abbiamo sviluppato per affrontare questi temi delicati. E’ così cruciale aprirci e fare dei passi per approfondire l’argomento: da questo dipende la nostra visione della vita stessa\, della nostra felicità e di quell’agio che possiamo far crescere nel surfare tra le onde della quotidianità. \n  \nIL RITIRO\nVi offriamo un’occasione per immergervi in questi territori un po’ misteriosi ma ricchi di insegnamenti spirituali e non solo\, in cui riflettere\, meditare ed elaborare facendone esperienza. \nAvremo la possibilità di trovare in noi risorse inaspettate e di imparare ad abbracciare gli insegnamenti amorevoli della sofferenza. Potremo sostenerci a vicenda nel praticare la compassione verso noi stessi e verso gli altri\, accogliere l’idea di nascita e morte come sacre soglie da attraversare\, trasformare le paure\, arrenderci al mistero. \nLe risorse che mettiamo in campo sono molteplici\, proprio per abbracciare con amore il tema del lutto e della morte in modo multidisciplinare e per metabolizzare l’argomento con tutte le parti di noi – fisica\, emotiva\, spirituale e simbolica. L’elemento principale è il Dharma – l’insegnamento del Buddha passato attraverso la sensibilità di Thay – che ci permette di penetrare con tenerezza e sensibilità nella visione risvegliata dei molteplici aspetti che vanno trasformati; l’altro ingrediente è la visione poetica\, che attraverso la parola risvegliata e l’immagine iconica\, ci arriva dritta al cuore e lo apre; non per ultimo i laboratori artistici\, che lavorando con la nostra creatività e con i colori\, completano il quadro attivando il nostro mondo simbolico e dando alle nostre intuizioni la possibilità di manifestarsi. \n  \nCIÒ CHE AMERETE DI QUESTO RITIRO\nSentirete che il cuore si allarga e le vostre sensibilità e capacità si acuiranno durante le esperienze di lutto e perdita; svilupperete risorse e resilienza\, acquisirete più chiarezza di visione e saprete essere di aiuto agli altri. Migliorerete il rapporto con l’idea della vostra morte e l’aura di tristezza si trasformerà in tenerezza e leggerezza perché quando c’è comprensione c’è amore. I laboratori con le poesie ci apriranno a nuove intuizioni\, esplorando quegli intimi recessi del cuore in cui non ci eravamo ancora addentrati . Nei laboratori con i colori e il disegno ci sorprenderemo nello scoprire aspetti e qualità del nostro essere che avevamo sinora ignorato. \n  \nCHI OFFRE IL RITIRO \nSilvia Lombardi\nMembro della Comunità nucleo dell’Ordine dell’Interessere fondato da Thich Nhat Hanh e insegnante di Dharma\, da molti anni offre con entusiasmo la pratica di Plum Village attraverso ritiri e giornate di consapevolezza. I temi privilegiati sono l’arte del morire\, la gioia nella pratica\, le relazioni consapevoli e il massaggio meditativo. Fonti di approfondimento le ha trovate con l’insegnante Zen F.Ostaseski e nella tradizione tibetana con il Tonglen\, pratica per l’accompagnamento ai morenti. Per anni è stata volontaria come clown in ospedale e in hospice. È tra i fondatori del Centro Avalokita. Vive in Piemonte e abita con il marito Giandomenico\, che lei definisce “il mio allenatore spirituale”. Qualche anno fa si è laureata in Antropologia\, Religioni e Civiltà Orientali. Da un lutto familiare recente sta traendo grandi insegnamenti. \nAnnamaria De Leonibus\nLa formazione avvenuta in due mondi antitetici come il Liceo Classico di Livorno e la facoltà di Architettura di Firenze\, l’insegnamento della Storia dell’Arte e poi la frequentazione e organizzazione di seminari di scrittura e lettura al femminile le hanno donato variegati percorsi di conoscenza.Divenuta membro della Comunità nucleo dell’Ordine dell’Interessere\, come naturale prosecuzione del suo impegno nel sangha\, il discorso interiore vita-morte l’ha portata a frequentare il corso presso l’ I.L.T.K a Pomaia “Intimità con il processo del morire” e corsi di formazione per l’assistenza spirituale nel fine vita. Riconoscendo le poesie di Thay come veri e propri insegnamenti di Dharma\, ha intuito che c’erano anche le parole\, intime\, essenziali\, di altri poeti e poete che potevano sostenerla nella comprensione e nella pratica del Dharma. Ha iniziato a condividere in varie forme con la comunità la ricchezza delle poesie “dharmiche” e il suo desiderio è di continuare a far conoscere la poesia come strumento di consapevolezza. Vive immersa nel silenzio del parco delle Colline Livornesi. \nLeonardo Maraviglia\nÈ nato nella campagna toscana\, in un piccolo paese dove battesimi e funerali e il contatto con la natura gli hanno mostrato i ritmi naturali della vita. Ha sempre affiancato la creatività agli studi tecnici\, portandolo a fare esperienze nell’ambito artistico. Si è formato a Firenze in pittura Steineriana e dal 2004 è Terapeuta artistico. La sua ricerca spirituale è passata dall’incontro con la Bioenergetica\, con comunità cristiane di base\, l’Antroposofia\, la Comunità scozzese di Findhorn e la Psicosintesi. Incontra il Maestro Thich Nhat Hanh e da allora ne segue gli insegnamenti diventando membro della Comunità nucleo dell’Ordine dell’Interessere. L’incontro con la morte l’ha indirizzato sin da piccolo ad una ricerca sul senso della vita. La morte della moglie segna un radicale cambiamento tanto che si licenzia dal lavoro per dedicarsi completamente al figlio e alla ricerca artistica e spirituale. Ha seguito\, con insegnanti di diverse tradizioni\, seminari sull’accompagnamento nel fine vita\, tra cui presso l’ I.L.T.K a Pomaia “Intimità con il processo del morire”. Conduce corsi di pittura e meditazione per adulti e bambini. Ha un orto da cui impara molto. \n  \nCASA CARES\nCasa Cares\, Reggello (Firenze)\nCi accoglie\, rispettando i nostri silenzi\, la comunità Valdese di Casa Cares\, luogo già sperimentato in altri ritiri della nostra tradizione\, in cui il raccoglimento e la riflessione sono naturalmente facilitati da quello spazio sacro che un tempo era la chiesetta di Villa Graffi.\nIl cibo sano\, biologico\, proveniente dall’orto\, dal frutteto e dall’uliveto di Casa Cares sarà un modo ulteriore di prenderci cura di corpo e mente.  \n  \nPROGRAMMA DI MASSIMA\n6.00 sveglia\n6.30 meditazione\n7.30 movimenti in consapevolezza\n8.15 colazione\n9.30 insegnamento\n11.30 meditazione camminata\n13.00 pranzo\n15.30 laboratori/pratiche\n19.00 cena\n20.00 meditazione\n21.00 nobile silenzio \n  \nISCRIZIONE E COSTI\nVi chiediamo di iscrivervi entro mercoledì 8 settembre 2022\nSaremo ad accogliervi martedì 27 settembre dalle ore 16.00. La partenza è prevista per domenica 2 ottobre dopo pranzo. \nQuesto il costo della pensione completa a persona dalla cena di martedì 27 settembre al pranzo di domenica 2 ottobre:\nCamera singola con bagno esterno: € 365*\nCamera doppia con bagno interno: € 315\nCamera doppia con bagno esterno: € 290\nCamera tripla con bagno interno: € 290\nCamera tripla con bagno esterno: € 265\nCamera quadrupla con bagno interno: € 265\nCamera quadrupla con bagno esterno: € 240\nDa aggiungere tassa di soggiorno € 1 al giorno\n*Le camere singole sono già esaurite ma\, se ne avete necessità\, potete chiedere alla struttura di essere messi in lista d’attesa. Una volta chiuse le iscrizioni\, se ci saranno ancora camere libere\, potranno essere trasformate in singole. \nIl costo dell’insegnamento\, da versare all’arrivo\, è di € 27 al giorno per un totale di € 135. \nQuindi questi sono i passi da compiere: \n\nScrivete una email a Casa Cares dicendo che vi iscrivete al ritiro “Insegnamenti sull’amore e la morte” specificando quale tipo di sistemazione in camera desiderate. casacares@diaconiavaldese.org\nCasa Cares verificherà la disponibilità della vostra scelta e vi risponderà per email.\nRicevuta la risposta affermativa da Casa Cares\, inviate un bonifico di € 100 di acconto a CSD CASA CARES IBAN: IT 63 Z030 6909 6061 0000 0140 396 specificando nome del ritiro e vostro nome\, cognome\, tipo di camera che avete scelto in accordo con la struttura.\nInviate una email con gli stessi dati a Leonardo maraviglia07@gmail.com\n\nE’ previsto il rimborso dell’intero acconto in caso di rinuncia entro l’8 Settembre. Dopo tale data\, il rimborso avverrà solo nel caso di certificazione medica.
URL:https://www.interessere.it/evento/insegnamenti-sullamore-e-la-morte-27-09-02-10-la-retta-visione-del-morire-e-del-lutto-alla-luce-dellamore-che-pervade-queste-esperienze/
LOCATION:VILLA VRINDAVANA   via Scopeti\, S.Casciano\, Firenze
ATTACH;FMTTYPE=image/jpeg:https://www.interessere.it/wp-content/uploads/2022/07/Insegnamenti-amore-morte-pqtnr82zc5yf10l510uevxne4baa3opccwsb7c7y9k.jpeg
END:VEVENT
END:VCALENDAR