BEGIN:VCALENDAR
VERSION:2.0
PRODID:-//Comunit&agrave; italiana dell'interessere - ECPv6.15.20//NONSGML v1.0//EN
CALSCALE:GREGORIAN
METHOD:PUBLISH
X-WR-CALNAME:Comunit&agrave; italiana dell'interessere
X-ORIGINAL-URL:https://www.interessere.it
X-WR-CALDESC:Eventi per Comunit&agrave; italiana dell'interessere
REFRESH-INTERVAL;VALUE=DURATION:PT1H
X-Robots-Tag:noindex
X-PUBLISHED-TTL:PT1H
BEGIN:VTIMEZONE
TZID:Europe/Rome
BEGIN:DAYLIGHT
TZOFFSETFROM:+0100
TZOFFSETTO:+0200
TZNAME:CEST
DTSTART:20210328T010000
END:DAYLIGHT
BEGIN:STANDARD
TZOFFSETFROM:+0200
TZOFFSETTO:+0100
TZNAME:CET
DTSTART:20211031T010000
END:STANDARD
BEGIN:DAYLIGHT
TZOFFSETFROM:+0100
TZOFFSETTO:+0200
TZNAME:CEST
DTSTART:20220327T010000
END:DAYLIGHT
BEGIN:STANDARD
TZOFFSETFROM:+0200
TZOFFSETTO:+0100
TZNAME:CET
DTSTART:20221030T010000
END:STANDARD
BEGIN:DAYLIGHT
TZOFFSETFROM:+0100
TZOFFSETTO:+0200
TZNAME:CEST
DTSTART:20230326T010000
END:DAYLIGHT
BEGIN:STANDARD
TZOFFSETFROM:+0200
TZOFFSETTO:+0100
TZNAME:CET
DTSTART:20231029T010000
END:STANDARD
END:VTIMEZONE
BEGIN:VEVENT
DTSTART;TZID=Europe/Rome:20220914T140000
DTEND;TZID=Europe/Rome:20220918T140000
DTSTAMP:20260422T235715
CREATED:20220624T105152Z
LAST-MODIFIED:20220820T134839Z
UID:10000134-1663164000-1663509600@www.interessere.it
SUMMARY:Verbania 14-18 settembre 2022: “Libertà\, liberazione” – ritiro con Diana Petech
DESCRIPTION:Verbania 14 – 18 settembre 2022\n“Libertà\, liberazione”\nRitiro offerto da Diana Petech \nL’idea che abbiamo della libertà ha un’influenza enorme sul nostro sentire. In moltissime situazioni della vita ci sentiamo più o meno liberi o più o meno vincolati (o condizionati o costretti o incatenati…) in base all’immagine interiore che abbiamo della libertà. È essenziale quindi osservare a fondo che cosa significhi per noi essere liberi\, quale sia la nostra idea di “libertà”; conoscerla e ri-conoscerla è il punto di partenza per poterla approfondire e ampliare\, sentendoci via via sempre più liberi dentro. È questa\, in fondo\, la qualità a cui tutti aspiriamo e che ammiriamo nei “grandi esseri”\, persone capaci di sentirsi interiormente libere quale che sia la loro condizione del momento. \nLe precedenti edizioni di questo ritiro\, che si rinnova ogni volta\, hanno mostrato quanto il tema sia sentito e attuale e quanto profondi ed efficaci siano gli insegnamenti del Buddha e del nostro Maestro Thich Nhat Hanh per accostarlo con apertura e serenità\, che si sia praticanti “di lungo corso” oppure alla prima esperienza.\nIl ritiro ci offrirà un tempo di pace\, di silenzio e di agio nel quale poterci inoltrare insieme “per mano” nel territorio boscoso della nostra concezione di libertà\, aiutandoci a vicenda ad ammorbidire resistenze e paure\, a distinguere le tante possibili articolazioni del termine e del concetto stesso\, ampliando lo spazio interiore verso quel senso di libertà e di dignità umana che non dipende più dalle contingenze. Intende aiutarci anche a distinguere la libertà interiore da quella civica\, politica\, economica\, il che può offrire una base di lucidità e di equanimità al nostro eventuale impegno nel campo sociale e politico. Gli insegnamenti che Thich Nhat Hanh ha offerto nel 2000 nel Penitenziario di Stato del Maryland\, raccolti nel piccolo libro “Libero ovunque tu sia”\, e altri che ha offerto in altre occasioni ci faranno da guida lungo questo percorso di osservazione profonda e di liberazione interiore. \nQUANDO: il ritiro si apre mercoledì 14 settembre dalle 13\,00 alle 15\,00 con l’accoglienza\, la registrazione e la sistemazione nelle stanze; inizia in sala alle ore 15.30. La conclusione è prevista dopo il pranzo di domenica 18. \nDOVE: Casa per Ferie Maria Mazzarello\, Corso Italia 75\, Verbania (NO)\, località Zoverallo\, https://www.casaferiemazzarello.it/ – La struttura è pienamente accessibile alle persone con difficoltà motorie. \nCIBO: i pasti saranno vegetariani. Saranno predisposte pietanze specifiche per chi ha segnalato intolleranze alimentari in fase di iscrizione. È prevista una pausa ”tisane e merenda” a metà pomeriggio; è benvenuto ogni contributo in forma di tè o tisane in bustine e biscotti! \nCOSTI E ISCRIZIONI: La quota complessiva di partecipazione di € 360 comprende i 4 giorni in pensione completa (in camera singola o a due letti con bagno privato)\, tassa di soggiorno e quota-corso. Ci si iscrive con un’e-mail a Cristina\, sangha@studiopandolfi.com\, indicando nome\, cognome e indirizzo di residenza\, specificando se si richiede la stanza singola o doppia (in questo caso con i dati di entrambi i partecipanti) ed eventuali intolleranze alimentari. Grazie di far sapere anche se si è alla prima esperienza o se si ha familiarità con la pratica di consapevolezza\, in questa o in altre tradizioni.\nAllo stesso indirizzo si possono chiedere eventuali informazioni sul ritiro. \nSi riceverà una’e-mail di conferma con le coordinate bancarie per il bonifico\, alla ricezione del quale l’iscrizione risulterà completata.\nL’importo dovuto alla struttura non è modificabile; sono invece a disposizione di chi ne avesse necessità tre quote-corso ridotte\, per un importo finale di € 290\, da richiedere all’atto dell’iscrizione. Le iscrizioni si chiuderanno all’esaurimento dei posti\, poi verrà istituita una lista d’attesa. Per una migliore organizzazione si prega di completare l’iscrizione entro il 25 agosto.\nEventuali disdette vanno comunicate allo stesso indirizzo mail. In caso di rinuncia\, la restituzione della quota è prevista con gradualità: se comunicata entro il 25 agosto\, rimborso integrale; dal 25-8 al 6 settembre (incluso)\, rimborso del 70% di quanto versato; dal 7 settembre in poi nessun rimborso\, tranne in caso di sopravvenuta infezione da Covid-19\, che dà diritto al rimborso integrale; per queste rinunce a ridosso dell’inizio del ritiro la quota può essere fatta valere per un nuovo partecipante indicato dalla persona che rinuncia. \nCHE COSA PORTARE: Per la pratica: il proprio cuscino o panchetto da meditazione\, un sottocuscino o tappetino da yoga o plaid da utilizzare a terra; uno scialle o plaid leggero per il rilassamento profondo. La struttura mette a disposizione numerose sedie; chi utilizza la sedia è invitato a portare ciò che di solito gli/le consente di meditare in una postura eretta e confortevole. \nLa casa fornisce la biancheria da letto; siamo invitati a portare con noi gli asciugamani. Suggeriamo anche:\n– Abiti comodi; pantofole per gli spazi interni; calze spesse o antiscivolo per la sala di meditazione.\n– Scarpe sportive per camminare all’aperto\, ombrello\, eventuale cappello per il sole.\n– Quaderno e penna.\n– Eventuali mascherine di protezione relative alla pandemia di Covid-19\, in base alla normativa che sarà in vigore nel periodo del ritiro. \nVi aspettiamo con gioia!
URL:https://www.interessere.it/evento/verbania-14-18-settembre-2022-liberta-liberazione-ritiro-con-diana-petech/
LOCATION:Casa Maria Mazzarello\, Corso Italia\, 75\, Verbania (NO)\, 28921
CATEGORIES:Ritiro
ATTACH;FMTTYPE=image/jpeg:https://www.interessere.it/wp-content/uploads/2022/06/Liberta-liberazione-II-2.jpg
ORGANIZER;CN="Per iscrizioni%3A Cristina":MAILTO:sangha@studiopandolfi.com
END:VEVENT
END:VCALENDAR