BEGIN:VCALENDAR
VERSION:2.0
PRODID:-//Comunit&agrave; italiana dell'interessere - ECPv6.15.20//NONSGML v1.0//EN
CALSCALE:GREGORIAN
METHOD:PUBLISH
X-WR-CALNAME:Comunit&agrave; italiana dell'interessere
X-ORIGINAL-URL:https://www.interessere.it
X-WR-CALDESC:Eventi per Comunit&agrave; italiana dell'interessere
REFRESH-INTERVAL;VALUE=DURATION:PT1H
X-Robots-Tag:noindex
X-PUBLISHED-TTL:PT1H
BEGIN:VTIMEZONE
TZID:Europe/Rome
BEGIN:DAYLIGHT
TZOFFSETFROM:+0100
TZOFFSETTO:+0200
TZNAME:CEST
DTSTART:20180325T010000
END:DAYLIGHT
BEGIN:STANDARD
TZOFFSETFROM:+0200
TZOFFSETTO:+0100
TZNAME:CET
DTSTART:20181028T010000
END:STANDARD
BEGIN:DAYLIGHT
TZOFFSETFROM:+0100
TZOFFSETTO:+0200
TZNAME:CEST
DTSTART:20190331T010000
END:DAYLIGHT
BEGIN:STANDARD
TZOFFSETFROM:+0200
TZOFFSETTO:+0100
TZNAME:CET
DTSTART:20191027T010000
END:STANDARD
BEGIN:DAYLIGHT
TZOFFSETFROM:+0100
TZOFFSETTO:+0200
TZNAME:CEST
DTSTART:20200329T010000
END:DAYLIGHT
BEGIN:STANDARD
TZOFFSETFROM:+0200
TZOFFSETTO:+0100
TZNAME:CET
DTSTART:20201025T010000
END:STANDARD
END:VTIMEZONE
BEGIN:VEVENT
DTSTART;TZID=Europe/Rome:20190922T100000
DTEND;TZID=Europe/Rome:20190922T170000
DTSTAMP:20260423T091954
CREATED:20190813T073510Z
LAST-MODIFIED:20190813T073613Z
UID:10000007-1569146400-1569171600@www.interessere.it
SUMMARY:Giornata in consapevolezza | inter-sangha Sicilia
DESCRIPTION:Giornata di meditazione e pratica della consapevolezza nella tradizione del maestro zen Thich Nhat Hanh \nOrganizzata e condotta dai sangha di Palermo\, Siracusa\, Catania e Caltanissetta \nPartecipazione aperta a tutti \nPranzo in condivisione \nContributo spese €5 / persona \ninfo e iscrizioni 320 8568434
URL:https://www.interessere.it/evento/giornata-in-consapevolezza-inter-sangha-sicilia/
LOCATION:CEFPAS\, via G. Mulè 1\, Caltanissetta\, Italia
END:VEVENT
END:VCALENDAR