BEGIN:VCALENDAR
VERSION:2.0
PRODID:-//Comunit&agrave; italiana dell'interessere - ECPv6.15.20//NONSGML v1.0//EN
CALSCALE:GREGORIAN
METHOD:PUBLISH
X-WR-CALNAME:Comunit&agrave; italiana dell'interessere
X-ORIGINAL-URL:https://www.interessere.it
X-WR-CALDESC:Eventi per Comunit&agrave; italiana dell'interessere
REFRESH-INTERVAL;VALUE=DURATION:PT1H
X-Robots-Tag:noindex
X-PUBLISHED-TTL:PT1H
BEGIN:VTIMEZONE
TZID:Europe/Rome
BEGIN:DAYLIGHT
TZOFFSETFROM:+0100
TZOFFSETTO:+0200
TZNAME:CEST
DTSTART:20170326T010000
END:DAYLIGHT
BEGIN:STANDARD
TZOFFSETFROM:+0200
TZOFFSETTO:+0100
TZNAME:CET
DTSTART:20171029T010000
END:STANDARD
BEGIN:DAYLIGHT
TZOFFSETFROM:+0100
TZOFFSETTO:+0200
TZNAME:CEST
DTSTART:20180325T010000
END:DAYLIGHT
BEGIN:STANDARD
TZOFFSETFROM:+0200
TZOFFSETTO:+0100
TZNAME:CET
DTSTART:20181028T010000
END:STANDARD
BEGIN:DAYLIGHT
TZOFFSETFROM:+0100
TZOFFSETTO:+0200
TZNAME:CEST
DTSTART:20190331T010000
END:DAYLIGHT
BEGIN:STANDARD
TZOFFSETFROM:+0200
TZOFFSETTO:+0100
TZNAME:CET
DTSTART:20191027T010000
END:STANDARD
BEGIN:DAYLIGHT
TZOFFSETFROM:+0100
TZOFFSETTO:+0200
TZNAME:CEST
DTSTART:20200329T010000
END:DAYLIGHT
BEGIN:STANDARD
TZOFFSETFROM:+0200
TZOFFSETTO:+0100
TZNAME:CET
DTSTART:20201025T010000
END:STANDARD
BEGIN:DAYLIGHT
TZOFFSETFROM:+0100
TZOFFSETTO:+0200
TZNAME:CEST
DTSTART:20210328T010000
END:DAYLIGHT
BEGIN:STANDARD
TZOFFSETFROM:+0200
TZOFFSETTO:+0100
TZNAME:CET
DTSTART:20211031T010000
END:STANDARD
BEGIN:DAYLIGHT
TZOFFSETFROM:+0100
TZOFFSETTO:+0200
TZNAME:CEST
DTSTART:20220327T010000
END:DAYLIGHT
BEGIN:STANDARD
TZOFFSETFROM:+0200
TZOFFSETTO:+0100
TZNAME:CET
DTSTART:20221030T010000
END:STANDARD
END:VTIMEZONE
BEGIN:VEVENT
DTSTART;TZID=Europe/Rome:20211113T183000
DTEND;TZID=Europe/Rome:20211120T183000
DTSTAMP:20260423T102810
CREATED:20211014T172045Z
LAST-MODIFIED:20211118T072844Z
UID:10000056-1636828200-1637433000@www.interessere.it
SUMMARY:Fare l’esperienza di vivere e praticare insieme\, 13 - 20 novembre 2021
DESCRIPTION:Fare l’esperienza di vivere e praticare insieme\nSettimana di pratica\nOfferta da Letizia e Stefano Carboni\nCentro Avalokita\, 13 – 20 novembre 2021\n  \nIl Centro Avalokita riprende le proprie attività in presenza\, anche se per un numero ridotto di ospiti\, a causa delle restrizioni dovute all’attuale situazione sanitaria. Ti invitiamo a vivere con noi per una settimana e prendere parte alla vita quotidiana della comunità. \nLa pratica della consapevolezza – l’essere consapevoli di ciò che stiamo facendo e di come lo stiamo facendo\, di ciò che sta accadendo dentro e intorno a noi –  ci accompagna per tutta la giornata. \nLa mente calma\, concentrata e vigile coltivata in questo modo diventa sempre più stabile. Le meditazioni (meditazione seduta\, meditazione del cibo e meditazione camminata)\, i momenti di silenzio (dalla meditazione della sera all’incontro della comunità del mattino successivo)\, lavorare insieme in giardino\, la comunicazione consapevole nei gruppi di condivisione e ogni altra attività\, tutto questo ci offre un senso profondo di connessione condivisa. \nGrazie al sostegno della comunità che vive costantemente qui\, all’ambiente tranquillo e alla struttura quotidiana\, si genera un campo di coscienza che è benevolo\, di sostegno e favorevole al recupero delle qualità spirituali intrinseche che sono già presenti in ognuno di noi: connessione\, calma\, compassione\, fiducia e cura. \nVivendo e praticando gli uni con gli altri\, sperimentiamo un senso di appartenenza\, in un clima di fiducia e rispetto. La struttura della giornata ci dà direzione e sostegno per essere in un flusso con gli altri e nella pratica; ci dà spazio e tempo per riconoscere le energie di abitudine\, ci consente semplicemente di “stare con quello che c’è” e ci apre alla vita\, permettendoci di sperimentare pace interiore e serenità. Qualità che possono essere poi integrate nella vita quotidiana. \nESEMPIO DI STRUTTURA QUOTIDIANA\n06.30 Meditazione guidata e Meditazione camminata all’interno della sala di meditazione\n08.30 Colazione\n09.30 Incontro della Comunità e lavoro in consapevolezza\n12.00 Meditazione camminata all’esterno\n13.00 Pranzo seguito da un tempo di riposo e pratica personale\n17.00 Condivisione\n18.30 Cena\n20.00 Meditazione silenziosa seguita dal silenzio\, fino all’incontro della comunità del mattino successivo \nSISTEMAZIONE\nIn base alle prescrizioni per il covid\, ogni stanza può essere occupata da un solo ospite. La sistemazione è quindi in camera singola\, tranne nei casi in cui si faccia parte dello stesso nucleo familiare\, nel qual caso è possibile alloggiare insieme nella stessa stanza. I pasti sono vegetariani. \nQUOTA DI PARTECIPAZIONE\nLa quota di partecipazione per queste settimane di vita nella comunità è di 350 euro e comprende tutti i costi di partecipazione. \nIn questa pagina puoi trovare maggiori informazioni. Per fare richiesta di iscrizione puoi scriverci a centro@avalokita.it
URL:https://www.interessere.it/evento/fare-lesperienza-di-vivere-e-praticare-insieme/
LOCATION:Centro Avalokita\, Frazione Villa Rossi 32\, Castelli\, Teramo\, 64041\, Italia
CATEGORIES:Ritiro
ATTACH;FMTTYPE=image/jpeg:https://www.interessere.it/wp-content/uploads/2021/10/Avalokita-2-scaled.jpg
ORGANIZER;CN="Centro Avalokita":MAILTO:centro@avalokita.it
END:VEVENT
BEGIN:VEVENT
DTSTART;TZID=Europe/Rome:20211113T183000
DTEND;TZID=Europe/Rome:20211120T140000
DTSTAMP:20260423T102810
CREATED:20211126T191025Z
LAST-MODIFIED:20211126T191407Z
UID:10000065-1636828200-1637416800@www.interessere.it
SUMMARY:Fare l’esperienza di vivere e praticare insieme\, 13 – 20 novembre 2021
DESCRIPTION:Fare l’esperienza di vivere e praticare insieme\nSettimana di pratica\nOfferta da Letizia e Stefano Carboni\nCentro Avalokita\, 13 – 20 novembre 2021 \n  \nIl Centro Avalokita riprende le proprie attività in presenza\, anche se per un numero ridotto di ospiti\, a causa delle restrizioni dovute all’attuale situazione sanitaria. Ti invitiamo a vivere con noi per una settimana e prendere parte alla vita quotidiana della comunità. \nLa pratica della consapevolezza – l’essere consapevoli di ciò che stiamo facendo e di come lo stiamo facendo\, di ciò che sta accadendo dentro e intorno a noi –  ci accompagna per tutta la giornata. \nLa mente calma\, concentrata e vigile coltivata in questo modo diventa sempre più stabile. Le meditazioni (meditazione seduta\, meditazione del cibo e meditazione camminata)\, i momenti di silenzio (dalla meditazione della sera all’incontro della comunità del mattino successivo)\, lavorare insieme in giardino\, la comunicazione consapevole nei gruppi di condivisione e ogni altra attività\, tutto questo ci offre un senso profondo di connessione condivisa. \nGrazie al sostegno della comunità che vive costantemente qui\, all’ambiente tranquillo e alla struttura quotidiana\, si genera un campo di coscienza che è benevolo\, di sostegno e favorevole al recupero delle qualità spirituali intrinseche che sono già presenti in ognuno di noi: connessione\, calma\, compassione\, fiducia e cura. \nVivendo e praticando gli uni con gli altri\, sperimentiamo un senso di appartenenza\, in un clima di fiducia e rispetto. La struttura della giornata ci dà direzione e sostegno per essere in un flusso con gli altri e nella pratica; ci dà spazio e tempo per riconoscere le energie di abitudine\, ci consente semplicemente di “stare con quello che c’è” e ci apre alla vita\, permettendoci di sperimentare pace interiore e serenità. Qualità che possono essere poi integrate nella vita quotidiana. \nESEMPIO DI STRUTTURA QUOTIDIANA\n06.30 Meditazione guidata e Meditazione camminata all’interno della sala di meditazione\n08.30 Colazione\n09.30 Incontro della Comunità e lavoro in consapevolezza\n12.00 Meditazione camminata all’esterno\n13.00 Pranzo seguito da un tempo di riposo e pratica personale\n17.00 Condivisione\n18.30 Cena\n20.00 Meditazione silenziosa seguita dal silenzio\, fino all’incontro della comunità del mattino successivo \nSISTEMAZIONE\nIn base alle prescrizioni per il covid\, ogni stanza può essere occupata da un solo ospite. La sistemazione è quindi in camera singola\, tranne nei casi in cui si faccia parte dello stesso nucleo familiare\, nel qual caso è possibile alloggiare insieme nella stessa stanza. I pasti sono vegetariani. \nQUOTA DI PARTECIPAZIONE\nLa quota di partecipazione per queste settimane di vita nella comunità è di 350 euro e comprende tutti i costi di partecipazione. \nIn questa pagina puoi trovare maggiori informazioni. Per fare richiesta di iscrizione puoi scriverci a centro@avalokita.it
URL:https://www.interessere.it/evento/fare-lesperienza-di-vivere-e-praticare-insieme-13-20-novembre-2021/
LOCATION:Centro Avalokita\, Frazione Villa Rossi 32\, Castelli\, Teramo\, 64041\, Italia
CATEGORIES:Ritiro
ATTACH;FMTTYPE=image/jpeg:https://www.interessere.it/wp-content/uploads/2021/11/avalokita_slider_06.jpg
ORGANIZER;CN="Centro Avalokita":MAILTO:centro@avalokita.it
END:VEVENT
BEGIN:VEVENT
DTSTART;TZID=Europe/Rome:20200219T183000
DTEND;TZID=Europe/Rome:20200223T140000
DTSTAMP:20260423T102810
CREATED:20200113T144001Z
LAST-MODIFIED:20200114T215354Z
UID:10000012-1582137000-1582466400@www.interessere.it
SUMMARY:Amare per praticare\, praticare per amare
DESCRIPTION:Ritiro di consapevolezza offerto da Giuseppe Gambardella \nLa gran parte di noi inizia a praticare per cercare di alleviare la propria sofferenza e quindi con un atto di amore verso se stessi. La pratica poi\, se assidua\, ci porta molto oltre: ci avvia in un processo di trasformazione della nostra mente aprendoci al tempo stesso all’esperienza del vero amore che – come Thay ci insegna – è fatto di gentilezza amorevole\, compassione\, gioia ed inclusività.\nEsploreremo questa relazione fra trasformazione della mente e apertura del cuore\, riconoscendo come siano parte di un unico cammino.\nFaremo questa esplorazione in modo leggero e profondo\, attraverso varie pratiche di meditazione e varie pratiche di condivisione.
URL:https://www.interessere.it/evento/amare-per-praticare-praticare-per-amare/
LOCATION:Centro Avalokita\, Frazione Villa Rossi 32\, Castelli\, Teramo\, 64041\, Italia
CATEGORIES:Ritiro
ATTACH;FMTTYPE=image/jpeg:https://www.interessere.it/wp-content/uploads/2017/11/foto-GG_square.jpg
ORGANIZER;CN="Centro Avalokita":MAILTO:centro@avalokita.it
END:VEVENT
BEGIN:VEVENT
DTSTART;TZID=Europe/Rome:20180308T183000
DTEND;TZID=Europe/Rome:20180311T140000
DTSTAMP:20260423T102810
CREATED:20171130T165435Z
LAST-MODIFIED:20171130T171457Z
UID:10000002-1520533800-1520776800@www.interessere.it
SUMMARY:Come faccio ad amarmi\, Ritiro di consapevolezza offerto da Giuseppe Gambardella
DESCRIPTION:Ritiro di consapevolezza offerto da Giuseppe Gambardella \n“Amare è comprendere. Il dono più grande che possiamo fare alla persona amata è la nostra presenza e la nostra non-paura”\n(Thich Nhat Hanh) \nThich Nhat Hanh ci insegna come amare noi stessi\, attraverso le sue parole e il suo esempio. Sta poi a noi praticare per riuscire a darci (questo è il suo invito) “il più grande sollievo”\, entrando in contatto con la nostra vera natura.\nIn questo ritiro esploreremo il nostro sentire passando attraverso la consapevolezza del corpo\, che si rivelerà il nostro più prezioso alleato nello scoprire come riuscire ad amarci. Lo faremo attraverso varie pratiche di meditazione\, tra cui la meditazione danzata\, e varie forme di condivisione di Dharma.
URL:https://www.interessere.it/evento/faccio-ad-amarmi/
LOCATION:Centro Avalokita\, Frazione Villa Rossi 32\, Castelli\, Teramo\, 64041\, Italia
END:VEVENT
END:VCALENDAR