BEGIN:VCALENDAR
VERSION:2.0
PRODID:-//Comunit&agrave; italiana dell'interessere - ECPv6.15.20//NONSGML v1.0//EN
CALSCALE:GREGORIAN
METHOD:PUBLISH
X-WR-CALNAME:Comunit&agrave; italiana dell'interessere
X-ORIGINAL-URL:https://www.interessere.it
X-WR-CALDESC:Eventi per Comunit&agrave; italiana dell'interessere
REFRESH-INTERVAL;VALUE=DURATION:PT1H
X-Robots-Tag:noindex
X-PUBLISHED-TTL:PT1H
BEGIN:VTIMEZONE
TZID:Europe/Rome
BEGIN:DAYLIGHT
TZOFFSETFROM:+0100
TZOFFSETTO:+0200
TZNAME:CEST
DTSTART:20230326T010000
END:DAYLIGHT
BEGIN:STANDARD
TZOFFSETFROM:+0200
TZOFFSETTO:+0100
TZNAME:CET
DTSTART:20231029T010000
END:STANDARD
BEGIN:DAYLIGHT
TZOFFSETFROM:+0100
TZOFFSETTO:+0200
TZNAME:CEST
DTSTART:20240331T010000
END:DAYLIGHT
BEGIN:STANDARD
TZOFFSETFROM:+0200
TZOFFSETTO:+0100
TZNAME:CET
DTSTART:20241027T010000
END:STANDARD
BEGIN:DAYLIGHT
TZOFFSETFROM:+0100
TZOFFSETTO:+0200
TZNAME:CEST
DTSTART:20250330T010000
END:DAYLIGHT
BEGIN:STANDARD
TZOFFSETFROM:+0200
TZOFFSETTO:+0100
TZNAME:CET
DTSTART:20251026T010000
END:STANDARD
END:VTIMEZONE
BEGIN:VEVENT
DTSTART;TZID=Europe/Rome:20241114T183000
DTEND;TZID=Europe/Rome:20241114T203000
DTSTAMP:20260422T184032
CREATED:20241022T140855Z
LAST-MODIFIED:20241027T191246Z
UID:10000463-1731609000-1731616200@www.interessere.it
SUMMARY:Riconciliarsi dentro e fuori
DESCRIPTION:Riconciliarsi dentro e fuori\nSerata di presenza mentale (mindfulness)\nnella tradizione di Thich Nhat Hanh\n14 novembre\, dalle 18.30 alle 20.30\na Reggio Calabria\ncon Bar Zecharya \nCon l’astio\, le azioni ostili mai si placano.\nÈ con l’amicizia che le azioni ostili si placano.\nQuesto è un insegnamento antico.\n– dal “Dhammapada” \nUna serata per toccare in prima persona la presenza mentale\, per stabilire una relazione pacifica con noi stessi e con le persone nella nostra vita. Ci sosteniamo a vicenda nel creare uno spazio accogliente: per pensieri ed emozioni\, per le persone attorno\, e per questo mondo che ne ha tanto bisogno. \n18.15 arrivo e sistemazione\n18.30 meditazione seduta guidata\n19.00 meditazione camminata\n19.20 breve presentazione\n20.00 condivisione\n20.30 arrivederci \nBar Zecharya è insegnante laico nella tradizione zen fondata dal Venerabile Thich Nhat Hanh. Pratica la presenza mentale e la meditazione applicata da venticinque anni\, e da più di quindici facilita gruppi in Italia\, Israele e Palestina. Ha a cuore temi quali: relazionarci con la Terra e con la crisi climatica; praticare in contesti e momenti di conflitto; conoscere e lavorare con la mente\, l’ego e la coscienza; vivere appieno la nostra aspirazione; e l’arte del fermarsi e guarire. Dal 2018 è fondatore e custode di Pardesa\, centro di pratica di meditazione ed ecologia applicata sull’appennino bolognese. \nDal 16-17 novembre Bar sarà a Messina per tenere il ritiro “Siamo la Terra” presso il Parco Ecologico San Jachiddu. \nThich Nhat Hanh (1926-2022) monaco zen vietnamita\, attivista per la pace e poeta\, fu ordinato monaco buddhista all’età di sedici anni\, e da allora interpretò e promosse il Dharma quale strumento per portare pace\, riconciliazione e fratellanza nella società\, accogliendo anche diverse tradizioni. Fu candidato da Martin Luther King Jr per il Premio Nobel per la pace per il suo lavoro e il suo messaggio di pace e di riconciliazione durante la guerra del Vietnam. La comunità di praticanti nella sua tradizione è molto diffusa in Italia\, con incontri di pratica\, ritiri e giornate organizzate da molti gruppi locali. \nPer iscrizione e maggiori informazioni contatta:\nMaria Antonietta antozuc@gmail.com oppure 3934284525 \nSarà gradito un contributo per la sala e per le spese dell’insegnante
URL:https://www.interessere.it/evento/riconciliarsi-dentro-e-fuori/
LOCATION:Centro di  Medicina Solidale ACE\, Vico Cartisano I snc\, Pellaro\, Reggio Calabria
ATTACH;FMTTYPE=image/jpeg:https://www.interessere.it/wp-content/uploads/2024/10/fiore.jpg
ORGANIZER;CN="La Casetta Blu":MAILTO:antozuc@gmail.com
END:VEVENT
END:VCALENDAR