BEGIN:VCALENDAR
VERSION:2.0
PRODID:-//Comunit&agrave; italiana dell'interessere - ECPv6.15.20//NONSGML v1.0//EN
CALSCALE:GREGORIAN
METHOD:PUBLISH
X-ORIGINAL-URL:https://www.interessere.it
X-WR-CALDESC:Eventi per Comunit&agrave; italiana dell'interessere
REFRESH-INTERVAL;VALUE=DURATION:PT1H
X-Robots-Tag:noindex
X-PUBLISHED-TTL:PT1H
BEGIN:VTIMEZONE
TZID:Europe/Rome
BEGIN:DAYLIGHT
TZOFFSETFROM:+0100
TZOFFSETTO:+0200
TZNAME:CEST
DTSTART:20180325T010000
END:DAYLIGHT
BEGIN:STANDARD
TZOFFSETFROM:+0200
TZOFFSETTO:+0100
TZNAME:CET
DTSTART:20181028T010000
END:STANDARD
BEGIN:DAYLIGHT
TZOFFSETFROM:+0100
TZOFFSETTO:+0200
TZNAME:CEST
DTSTART:20190331T010000
END:DAYLIGHT
BEGIN:STANDARD
TZOFFSETFROM:+0200
TZOFFSETTO:+0100
TZNAME:CET
DTSTART:20191027T010000
END:STANDARD
BEGIN:DAYLIGHT
TZOFFSETFROM:+0100
TZOFFSETTO:+0200
TZNAME:CEST
DTSTART:20200329T010000
END:DAYLIGHT
BEGIN:STANDARD
TZOFFSETFROM:+0200
TZOFFSETTO:+0100
TZNAME:CET
DTSTART:20201025T010000
END:STANDARD
BEGIN:DAYLIGHT
TZOFFSETFROM:+0100
TZOFFSETTO:+0200
TZNAME:CEST
DTSTART:20210328T010000
END:DAYLIGHT
BEGIN:STANDARD
TZOFFSETFROM:+0200
TZOFFSETTO:+0100
TZNAME:CET
DTSTART:20211031T010000
END:STANDARD
BEGIN:DAYLIGHT
TZOFFSETFROM:+0100
TZOFFSETTO:+0200
TZNAME:CEST
DTSTART:20220327T010000
END:DAYLIGHT
BEGIN:STANDARD
TZOFFSETFROM:+0200
TZOFFSETTO:+0100
TZNAME:CET
DTSTART:20221030T010000
END:STANDARD
BEGIN:DAYLIGHT
TZOFFSETFROM:+0100
TZOFFSETTO:+0200
TZNAME:CEST
DTSTART:20230326T010000
END:DAYLIGHT
BEGIN:STANDARD
TZOFFSETFROM:+0200
TZOFFSETTO:+0100
TZNAME:CET
DTSTART:20231029T010000
END:STANDARD
BEGIN:DAYLIGHT
TZOFFSETFROM:+0100
TZOFFSETTO:+0200
TZNAME:CEST
DTSTART:20240331T010000
END:DAYLIGHT
BEGIN:STANDARD
TZOFFSETFROM:+0200
TZOFFSETTO:+0100
TZNAME:CET
DTSTART:20241027T010000
END:STANDARD
END:VTIMEZONE
BEGIN:VEVENT
DTSTART;TZID=Europe/Rome:20230205T093000
DTEND;TZID=Europe/Rome:20230205T170000
DTSTAMP:20260423T145708
CREATED:20230108T165147Z
LAST-MODIFIED:20230108T165147Z
UID:10000176-1675589400-1675616400@www.interessere.it
SUMMARY:IL CORPO CONSAPEVOLE  È PIENAMENTE VIVO con Emanuela Sandini e Roberta Tezza
DESCRIPTION:Quel giorno soffiava il vento; dopo un po’\, vidi la foglia abbandonare il ramo e lasciarsi cadere a terra in una danza gioiosa\, perché cadendo già si vedeva nell’albero. Era davvero felice. Chinai il capo in segno di rispetto\, perché sapevo di avere molto da imparare da lei.\nDa: Thích Nhất Hạnh\, La pace è ogni passo\, Ubaldini\, Roma\, 1993.\nCome la foglia anche il fiocco di neve… \nIn questa giornata condivideremo del tempo per prenderci cura di noi e dimorare nel momento presente. Lo faremo ispirandoci alle pratiche della tradizione di Thích Nhất Hạnh e alle risorse che l’espressione creativa ci offre: attraverso la coscienza del corpo che è presente\, danza\, si relaziona\, realizza con le mani ed è pienamente connesso e vivo.\nPraticheremo la meditazione seduta\, il pasto in consapevolezza\, e il rilassamento; ci apriremo alla creatività e ai suoi contenuti con l’esperienza diretta della danza consapevole e creativa e mediante l’uso del collage e della scrittura secondo il metodo del SoulCollage®.\nCondivideremo insieme\, arricchendoci reciprocamente dell’esperienza.\nIl laboratorio è aperto a tutti coloro che sono orientati in un percorso di crescita personale ed interiore e aspirano ad esprimere e vivere pienamente il loro essere.\nNessuna particolare competenza è richiesta.\nPer informazioni vedi qui: https://insiemeconsapevolmente.org/il-corpo-consapevole-e-pienamente-vivo/
URL:https://www.interessere.it/evento/il-corpo-consapevole-e-pienamente-vivo-con-emanuela-sandini-e-roberta-tezza/
LOCATION:Marostica
CATEGORIES:Ritiro
ATTACH;FMTTYPE=image/jpeg:https://www.interessere.it/wp-content/uploads/2023/01/fiocco-di-neve-scaled.jpg
ORGANIZER;CN="sangha di Marostica-associazione Insieme consapevolmente":MAILTO:laboratori.consapevolezza@gmail.com
END:VEVENT
BEGIN:VEVENT
DTSTART;VALUE=DATE:20230115
DTEND;VALUE=DATE:20230116
DTSTAMP:20260423T145708
CREATED:20221227T211355Z
LAST-MODIFIED:20221227T211355Z
UID:10000175-1673740800-1673827199@www.interessere.it
SUMMARY:CONTADINI FELICI CAMBIANO IL MONDO  Per il ciclo dedicato al  DHARMA DELLE RELAZIONI con Cristiano Baldissera
DESCRIPTION:Giornata di consapevolezza a Marostica Vicenza. 15 gennaio 2023 \nPraticheremo la meditazione seduta\, la meditazione camminata all’aperto\, il pasto in consapevolezza\, la condivisione\, alcune pratiche corporee e il fare con gioia nella natura.  \nL’incontro è dedicato a una Relazione fondamentale della nostra vita\, quella con noi stessi.\nAndremo alla scoperta di noi stessi attraverso la visione dharmica delle Relazioni: le regole auree che guidano la relazione in famiglia\, sul posto di lavoro\, con i propri amici e i compagni di viaggio.\nAscolteremo la saggezza del Contadino Felice che ci parlerà di come coltivare e nutrire la nostra Gioia. Quali sono le azioni e le condizioni necessarie per diventare a nostra volta dei contadini felici\, abili nel coltivare noi stessi e le nostre Buone Relazioni.\nPer iscrizioni scrivere a laboratori.consapevolezza@gmail.com\nContinua a leggere: https://insiemeconsapevolmente.org/contadini-felici-cambiano-il-mondo/
URL:https://www.interessere.it/evento/contadini-felici-cambiano-il-mondo-per-il-ciclo-dedicato-al-dharma-delle-relazioni-con-cristiano-baldissera/
LOCATION:Marostica
ATTACH;FMTTYPE=image/jpeg:https://www.interessere.it/wp-content/uploads/2022/12/immagine-locandina-meditazione-blues-blu.jpg
ORGANIZER;CN="sangha di Marostica-associazione Insieme consapevolmente":MAILTO:laboratori.consapevolezza@gmail.com
END:VEVENT
BEGIN:VEVENT
DTSTART;VALUE=DATE:20221204
DTEND;VALUE=DATE:20221205
DTSTAMP:20260423T145708
CREATED:20221118T200924Z
LAST-MODIFIED:20221118T200924Z
UID:10000168-1670112000-1670198399@www.interessere.it
SUMMARY:DHARMA DELLE RELAZIONI L’arte di non ferire e non subire
DESCRIPTION:giornata di consapevolezza Marostica (VI) – 4 dicembre 2022 – ore 09.30-17.00\ncon Cristiano Baldissera  secondo le pratiche di consapevolezza di Thich Nhat Hanh.\nPraticheremo la meditazione seduta\, la meditazione camminata all’aperto\, il pasto in consapevolezza\, la condivisione\, alcune pratiche corporee e il fare con gioia nella natura. Ascolteremo le riflessioni sul tema della scoperta di sé attraverso la visione dharmica delle relazioni: le regole auree che guidano la relazione in famiglia\, sul posto di lavoro\, con i propri amici e i compagni di viaggio. Vedremo quali sono le condizioni per diventare dei contadini felici\, abili nel coltivare se stessi e le proprie buone relazioni.  \nL’incontro è aperto a praticanti vecchi e nuovi.\nPer iscrizioni scrivere a laboratori.consapevolezza@gmail.com\noppure telefonare al 349 6833495.\nMaggiori informazioni: https://insiemeconsapevolmente.org/giornata-di-consapevolezza-marostica-vi-4-dicembre-2022-dharma-delle-relazioni/
URL:https://www.interessere.it/evento/dharma-delle-relazioni-larte-di-non-ferire-e-non-subire-2/
LOCATION:Marostica
CATEGORIES:Ritiro
ATTACH;FMTTYPE=image/jpeg:https://www.interessere.it/wp-content/uploads/2022/11/6802414c-a536-4aaa-81e3-ae4693944de3.jpg
ORGANIZER;CN="sangha di Marostica-associazione Insieme consapevolmente":MAILTO:laboratori.consapevolezza@gmail.com
END:VEVENT
BEGIN:VEVENT
DTSTART;TZID=Europe/Rome:20221030T093000
DTEND;TZID=Europe/Rome:20221030T170000
DTSTAMP:20260423T145708
CREATED:20221008T190535Z
LAST-MODIFIED:20221008T190535Z
UID:10000155-1667122200-1667149200@www.interessere.it
SUMMARY:DHARMA DELLE RELAZIONI L’arte di non ferire e non subire
DESCRIPTION:Giornata di consapevolezza\nsecondo gli insegnamenti di Thich Nhat Hanh\nMarostica (VI) – 29 – 30 ottobre 2022\nsabato 19.00 – 21.15\ndomenica 9.30 – 17.00\ncon Cristiano Baldissera\ne il sangha\nPraticheremo la meditazione seduta\, la meditazione camminata all’aperto\, il pasto in consapevolezza\, la condivisione e il fare con gioia nella natura. Ascolteremo le riflessioni sul tema della scoperta di sé attraverso la visione dharmica delle relazioni: le regole auree che guidano la relazione in famiglia\, sul posto di lavoro\, con i propri amici e i compagni di viaggio. Vedremo quali sono le condizioni per realizzare un progetto assieme agli altri secondo il Dharma.  \nSerata di meditazione. Sabato\, dalle 19.30 alle 21:15. Un’ora e 45’ di pratica con la meditazione camminata e seduta\, lettura/riflessioni proposte da Cristiano Baldissera\, condivisione\nGiornata di consapevolezza. Domenica dalle 09:30 alle 17:00\, una giornata per praticare assieme in un’atmosfera raccolta e silenziosa.\nCristiano Baldissera (Venezia)\, è laureato nel Corso di Laurea Magistrale Interateneo di Scienze delle Religioni alle Università di Padova e Venezia con una tesi sul Buddhismo Vietnamita (Thich Nhat Hanh e la Visione dell’Interessere). Nel corso dei suoi studi ha approfondito tanto le tradizioni occidentali (ebraismo\, cristianesimo e islam) quanto quelle orientali (buddhismo\, taoismo\, confucianesimo e induismo)\, con un approccio fortemente comparativo\, multidisciplinare e con un’attenzione particolare ai temi dell’etica e della responsabilità. Dal 2003 pratica arti marziali-tantriche cinesi e meditazione Zen. Oggi scrive saggi di carattere antropologico e filosofico e tiene conferenze per divulgare le antiche vie di saggezza.\nL’incontro è aperto a praticanti vecchi e nuovi.\nPer iscrizioni scrivere a laboratori.consapevolezza@gmail.com\noppure telefonare al 349 6833495.
URL:https://www.interessere.it/evento/dharma-delle-relazioni-larte-di-non-ferire-e-non-subire/2022-10-30/
LOCATION:Marostica
CATEGORIES:Ritiro
ATTACH;FMTTYPE=image/jpeg:https://www.interessere.it/wp-content/uploads/2022/10/UNADJUSTEDNONRAW_thumb_5564.jpg
ORGANIZER;CN="sangha di Marostica-associazione Insieme consapevolmente":MAILTO:laboratori.consapevolezza@gmail.com
END:VEVENT
BEGIN:VEVENT
DTSTART;TZID=Europe/Rome:20221029T190000
DTEND;TZID=Europe/Rome:20221029T213000
DTSTAMP:20260423T145708
CREATED:20221008T190535Z
LAST-MODIFIED:20221008T190535Z
UID:10000154-1667070000-1667079000@www.interessere.it
SUMMARY:DHARMA DELLE RELAZIONI L’arte di non ferire e non subire
DESCRIPTION:Giornata di consapevolezza\nsecondo gli insegnamenti di Thich Nhat Hanh\nMarostica (VI) – 29 – 30 ottobre 2022\nsabato 19.00 – 21.15\ndomenica 9.30 – 17.00\ncon Cristiano Baldissera\ne il sangha\nPraticheremo la meditazione seduta\, la meditazione camminata all’aperto\, il pasto in consapevolezza\, la condivisione e il fare con gioia nella natura. Ascolteremo le riflessioni sul tema della scoperta di sé attraverso la visione dharmica delle relazioni: le regole auree che guidano la relazione in famiglia\, sul posto di lavoro\, con i propri amici e i compagni di viaggio. Vedremo quali sono le condizioni per realizzare un progetto assieme agli altri secondo il Dharma.  \nSerata di meditazione. Sabato\, dalle 19.30 alle 21:15. Un’ora e 45’ di pratica con la meditazione camminata e seduta\, lettura/riflessioni proposte da Cristiano Baldissera\, condivisione\nGiornata di consapevolezza. Domenica dalle 09:30 alle 17:00\, una giornata per praticare assieme in un’atmosfera raccolta e silenziosa.\nCristiano Baldissera (Venezia)\, è laureato nel Corso di Laurea Magistrale Interateneo di Scienze delle Religioni alle Università di Padova e Venezia con una tesi sul Buddhismo Vietnamita (Thich Nhat Hanh e la Visione dell’Interessere). Nel corso dei suoi studi ha approfondito tanto le tradizioni occidentali (ebraismo\, cristianesimo e islam) quanto quelle orientali (buddhismo\, taoismo\, confucianesimo e induismo)\, con un approccio fortemente comparativo\, multidisciplinare e con un’attenzione particolare ai temi dell’etica e della responsabilità. Dal 2003 pratica arti marziali-tantriche cinesi e meditazione Zen. Oggi scrive saggi di carattere antropologico e filosofico e tiene conferenze per divulgare le antiche vie di saggezza.\nL’incontro è aperto a praticanti vecchi e nuovi.\nPer iscrizioni scrivere a laboratori.consapevolezza@gmail.com\noppure telefonare al 349 6833495.
URL:https://www.interessere.it/evento/dharma-delle-relazioni-larte-di-non-ferire-e-non-subire/2022-10-29/
LOCATION:Marostica
CATEGORIES:Ritiro
ATTACH;FMTTYPE=image/jpeg:https://www.interessere.it/wp-content/uploads/2022/10/UNADJUSTEDNONRAW_thumb_5564.jpg
ORGANIZER;CN="sangha di Marostica-associazione Insieme consapevolmente":MAILTO:laboratori.consapevolezza@gmail.com
END:VEVENT
BEGIN:VEVENT
DTSTART;TZID=Europe/Rome:20221010T080000
DTEND;TZID=Europe/Rome:20221010T170000
DTSTAMP:20260423T145708
CREATED:20221010T121429Z
LAST-MODIFIED:20221010T121429Z
UID:10000156-1665388800-1665421200@www.interessere.it
SUMMARY:IL SUONO DEL SILENZIO
DESCRIPTION:attività con i monaci Hue Truc e Fabieu\na Terra Felice – Marostica VI\nsabato 12 e domenica 13 novembre 2022\nSerata del silenzio.\nSabato sera\, dalle 19:30 alle 21:15. Meditazione e pratiche come il rilassamento\, approfondendo e scoprendo i benefici dello stare insieme in silenzio.\nGiornata di consapevolezza. \nDomenica dalle 09:30 alle 17:00\, una giornata per praticare assieme in un’atmosfera raccolta e silenziosa. Ci sarà meditazione seduta\, camminata\, rilassamento\, fare con gioia nella natura\, momenti di insegnamento dei monaci e per condividere la propria esperienza e porre domande. Questa giornata è aperta a tutte le età. Da portare: un tappetino ed un cuscino per la meditazione (sedie sono disponibili)\, un telo per stendervi\, un pranzo vegetariano o vegano\, una borraccia d’acqua.\nIscrizioni. se desiderate partecipare scrivete a laboratori.consapevolezza@gmail.com.\nI posti sono limitati.\nContributi. Per la partecipazione è richiesto un contributo libero e consapevole per sostenere i monaci.\nInformazioni. Per maggiori informazioni telefonare al n. 349 6833495.   Alcuni consigli:\n•	Gli orari indicati sono quelli di inizio dell’attività. Arriviamo quindi qualche minuto prima così da esserci già sistemati e aver trovato una comoda posizione per iniziare assieme la meditazione in orario.\n•	La pratica inizia prima di arrivare\, questo ci consente di rallentare e centrarci già nelle attività precedenti alla pratica di gruppo. In particolare vorremmo chiedervi di rimanere in silenzio una volta varcato il cancello di ingresso. Ci sarà tempo per salutarsi e conoscersi più tardi. L’arrivare in silenzio\, anche se può sembrare un po’ strano\, ci aiuta a creare un’atmosfera raccolta in cui la mente inizia ad osservare ciò che avviene all’interno invece di disperdersi con gli oggetti esterni.\nCome arrivare:\na Terra Felice: un oliveto fra le colline di Marostica dove ci troviamo negli spazi verdi di una casa rurale presso l’associazione Insieme Consapevolmente aps\na MAROSTICA (VI)–frazione VALLE SAN FLORIANO.\nParcheggio vicino alla scuola\, Via Stroppari 2/A.\nDal centro di Marostica spostarsi a ovest delle mura\, verso Bassano\, al semaforo prendere Via Gianni Cecchin verso Asiago\, Crosara\, Valle San Floriano. Dopo circa 700 m\, quando la strada principale fa una curva stretta verso sinistra\, proseguire diritti in Via Solarola fino alla frazione di Valle San Floriano\, dove vedrete un parcheggio sulla destra\, di fronte alla scuola e al luogo d’incontro. \nCammineremo poi assieme 20’ fra le colline\, fino al luogo della giornata di consapevolezza:\ndal parcheggio si torna a piedi per un tratto verso Marostica sulla via Prai appena percorsa in macchina\, oltrepassato il grande prato si svolta a sinistra in via Sedea. La stretta strada asfaltata si snoda per 500 metri circa in alcune curve che salgono sulla collina fra gli olivi. Quando la via Sedea torna ad essere pianeggiante trovate sulla destra i cartelli dell’associazione al numero civico 10/C.\nPer chi ha problemi a camminare organizziamo una navetta 30’ prima dell’inizio (si prega di prenotarsi al momento dell’iscrizione). \nPer chi desidera pernottare in zona. Alcuni link per trovare alloggio:\nappartamento https://www.casamundo.it/rental/zd7e946477ee95a9b?adword=cm_gvf%2FIT%2Fs%2Fct%3Ds%2Fn-a%2Fn-a%2F5460aeae078f7&utm_source=gvf\nb&b:  https://il-poggio-del-sole.business.site/\, http://www.bbmarostica.com/index.html
URL:https://www.interessere.it/evento/il-suono-del-silenzio/
LOCATION:Marostica
ATTACH;FMTTYPE=image/jpeg:https://www.interessere.it/wp-content/uploads/2022/10/UNADJUSTEDNONRAW_thumb_c9f.jpg
ORGANIZER;CN="sangha di Marostica-associazione Insieme consapevolmente":MAILTO:laboratori.consapevolezza@gmail.com
END:VEVENT
BEGIN:VEVENT
DTSTART;VALUE=DATE:20210829
DTEND;VALUE=DATE:20210830
DTSTAMP:20260423T145708
CREATED:20210620T180145Z
LAST-MODIFIED:20210623T095138Z
UID:10000041-1630195200-1630281599@www.interessere.it
SUMMARY:GIORNATA DI CONSAPEVOLEZZA - Taiji Qj\, l’arte di muoversi in consapevolezza  secondo le pratiche di Plum Village             con Andrea Savardi
DESCRIPTION:TAI – CHI – CHUAN \nSTILE YANG \nL’ ARTE DEL MOVIMENTO\nQuando la mente è presente a ciò che accade proprio “qui e ora”\, abbiamo la possibilità di\ntoccare le meraviglie della vita\, di fare pace con noi stessi e con ciò che ci circonda\ndi portare cura e guarigione nella mente\, nel corpo e nelle emozioni. \nNel corso di questa giornata di consapevolezza che si svolgerà all’aperto\, fra le colline di Marostica (VI)\, saranno presentate le pratiche di base dell’antica disciplina orientale del Taiji Qi. Saranno date le indicazioni per potere cominciare a “sentire” il Qi (l’energia vitale) e svolgere la parte pratica con particolare attenzione alla postura e alla respirazione collegate all’energia interna. Le pratiche\, saranno semplici in modo da permettere a tutti di eseguirle facilmente e di coglierne la peculiarità. Attraverso gli esercizi impareremo a muoverci in armonia con noi stessi e col gruppo\, così da fluire come un fiume.\nPraticheremo la consapevolezza nelle azioni della vita quotidiana. Meditazione e lezioni all’aperto di Taiji Qi si alterneranno nell’osservazione di tutto quello che c’è dentro e intorno a noi.\nRespireremo insieme con la meditazione seduta\, la meditazione camminata all’aperto\, il pasto in consapevolezza e la condivisione.\nPer iscrizioni scrivere a laboratori.consapevolezza@gmail.com .\nPer informazioni telefonare al 349 6833495.\nLe iscrizioni si chiuderanno al raggiungimento di 16 persone.
URL:https://www.interessere.it/evento/taiji-qj-larte-di-muoversi-in-consapevolezza-secondo-le-pratiche-di-plum-village-con-andrea-savardi/
LOCATION:Marostica
ORGANIZER;CN="sangha di Marostica-associazione Insieme consapevolmente":MAILTO:laboratori.consapevolezza@gmail.com
END:VEVENT
BEGIN:VEVENT
DTSTART;VALUE=DATE:20210704
DTEND;VALUE=DATE:20210705
DTSTAMP:20260423T145708
CREATED:20210616T163425Z
LAST-MODIFIED:20210616T163719Z
UID:10000040-1625356800-1625443199@www.interessere.it
SUMMARY:Giornata di biofertilità in consapevolezza  attraverso la permacultura  secondo le pratiche di Plum Village
DESCRIPTION:Una giornata di consapevolezza con la permacultura\naccompagnati dall’esperto di permacultura Marco Pianalto. \nConsapevolezza nella vita quotidiana\, meditazione\, lezioni di permacultura e pratica nel campo si alternano nell’osservazione di tutto quello che c’è dentro e intorno a noi.\nRespiriamo insieme con la meditazione seduta\, la meditazione camminata all’aperto\, il pasto in consapevolezza e la condivisione. \nLa permacultura ci insegna ad essere buoni ospiti della nostra Casa Terra: ospiti nel duplice significato di chi riceve e di chi da riparo e conforto. \nIn questa giornata conosceremo come apportare nutrimento alle piante\, nostre amiche\, nella modalità più rispettosa del loro essere e della loro salute.\nLo faremo attraverso la moltiplicazione di microrganismi autoctoni e tramite la mineralizzazione con rocce vulcaniche\, memoria profonda della geosofia della Terra.\nRidaremo struttura ai nostri suoli attraverso ammendanti naturali come il biochar attivato e minime lavorazioni.\nInfine uniremo i cicli della terra con i cicli dell’acqua praticando l’arte della pacciamatura\, che\, se praticata correttamente\, consente di costruire il suolo e al tempo stesso proteggerlo dall’erosione.   \nNell’osservazione della natura e nell’interazione con noi stessi e con gli altri impariamo a interessere con ogni forma vivente in piena consapevolezza. \nAltre informazioni: https://insiemeconsapevolmente.org/giornata-di-biofertilita-in-consapevolezza-attraverso-la-permacultura-secondo-le-pratiche-di-plum-village/
URL:https://www.interessere.it/evento/giornata-di-biofertilita-in-consapevolezza-attraverso-la-permacultura-secondo-le-pratiche-di-plum-village/
LOCATION:Marostica
CATEGORIES:Ritiro
ATTACH;FMTTYPE=image/jpeg:https://www.interessere.it/wp-content/uploads/2021/06/IMG_7434.jpg
ORGANIZER;CN="sangha di Marostica-associazione Insieme consapevolmente":MAILTO:laboratori.consapevolezza@gmail.com
END:VEVENT
BEGIN:VEVENT
DTSTART;TZID=Europe/Rome:20191115T183000
DTEND;TZID=Europe/Rome:20191117T210000
DTSTAMP:20260423T145708
CREATED:20191102T113551Z
LAST-MODIFIED:20191105T203204Z
UID:10000009-1573842600-1574024400@www.interessere.it
SUMMARY:Rispondere in modo consapevole alla sofferenza e all’ingiustizia\, week end di consapevolezza dedicato ai webinar di Kaira Jewel Lingo\, in collegamento online dallo Sri Lanka
DESCRIPTION:Marostica VI – presso l’associazione Insieme Consapevolmente  \nNella nostra azione di volontariato o di attivismo in favore dell’ambiente è importante che troviamo il modo di portare avanti la nostra pratica di respirare\, camminare e parlare in consapevolezza. Non lasciamoci prendere dalla rabbia o dalla disperazione\, quando riflettiamo sullo stato attuale del mondo o ci confrontiamo con chi si dà allo spreco di risorse; piuttosto possiamo fare della nostra esistenza un esempio di vita semplice. L’ascolto profondo e la parola amorevole possono aiuarci a contribuire alla trasformazione dei singoli individui come della società e a nutrire il risveglio collettivo che salverà la nostra civiltà e il nostro pianeta. \n(Thich Nhat Hanh L’unico mondo che abbiamo) \nRespireremo insieme con la meditazione seduta\, la meditazione camminata all’aperto\, i pasti in consapevolezza e la condivisione. Ci saranno momenti di fare con gioia piantando alberi ed esprimendoci con materiali artistici
URL:https://www.interessere.it/evento/rispondere-in-modo-consapevole-alla-sofferenza-e-allingiustizia-week-end-di-consapevolezza-dedicato-ai-webinar-di-kaira-jewel-lingo-in-collegamento-online-dallo-sri-lanka/
LOCATION:Marostica
CATEGORIES:Ritiro
END:VEVENT
END:VCALENDAR