BEGIN:VCALENDAR
VERSION:2.0
PRODID:-//Comunit&agrave; italiana dell'interessere - ECPv6.15.20//NONSGML v1.0//EN
CALSCALE:GREGORIAN
METHOD:PUBLISH
X-WR-CALNAME:Comunit&agrave; italiana dell'interessere
X-ORIGINAL-URL:https://www.interessere.it
X-WR-CALDESC:Eventi per Comunit&agrave; italiana dell'interessere
REFRESH-INTERVAL;VALUE=DURATION:PT1H
X-Robots-Tag:noindex
X-PUBLISHED-TTL:PT1H
BEGIN:VTIMEZONE
TZID:Europe/Rome
BEGIN:DAYLIGHT
TZOFFSETFROM:+0100
TZOFFSETTO:+0200
TZNAME:CEST
DTSTART:20200329T010000
END:DAYLIGHT
BEGIN:STANDARD
TZOFFSETFROM:+0200
TZOFFSETTO:+0100
TZNAME:CET
DTSTART:20201025T010000
END:STANDARD
BEGIN:DAYLIGHT
TZOFFSETFROM:+0100
TZOFFSETTO:+0200
TZNAME:CEST
DTSTART:20210328T010000
END:DAYLIGHT
BEGIN:STANDARD
TZOFFSETFROM:+0200
TZOFFSETTO:+0100
TZNAME:CET
DTSTART:20211031T010000
END:STANDARD
BEGIN:DAYLIGHT
TZOFFSETFROM:+0100
TZOFFSETTO:+0200
TZNAME:CEST
DTSTART:20220327T010000
END:DAYLIGHT
BEGIN:STANDARD
TZOFFSETFROM:+0200
TZOFFSETTO:+0100
TZNAME:CET
DTSTART:20221030T010000
END:STANDARD
END:VTIMEZONE
BEGIN:VEVENT
DTSTART;TZID=Europe/Rome:20211218T143000
DTEND;TZID=Europe/Rome:20211219T163000
DTSTAMP:20260423T021045
CREATED:20211115T095618Z
LAST-MODIFIED:20211115T095618Z
UID:10000064-1639837800-1639931400@www.interessere.it
SUMMARY:Nutrire le relazioni coltivando l'equanimità e la comprensione - Valeggio sul Mincio (VR)\, 18 - 19 dicembre 2021
DESCRIPTION:Valeggio sul Mincio (Verona)\n18 – 19 dicembre 2021  \nNutrire le relazioni\ncoltivando l’equanimità e la comprensione \nFine settimana di consapevolezza nella tradizione di Thich Nhat Hanh\norganizzata dal Sangha di Verona\ncon Diana Petech \n  \nLe relazioni vanno nutrite\, dice Thich Nhat Hanh\, altrimenti appassiscono come fiori non innaffiati. Anche con la migliore buona volontà\, a volte non sappiamo come fare a nutrirle\, a mantenerle sane e vive nel tempo\, a evolversi e a crescere insieme noi; siamo convinti magari di fare tutto il possibile\, e che la difficoltà stia nel comportamento o nell’incomprensione dell’altra persona – che sia il partner\, un fratello o una sorella\, un amico o un’amica. \n“Per amare bisogna capire”\, ci ha insegnato il Maestro\, e per capire bisogna aprire il cuore e la mente all’equanimità. Equanimità e comprensione sono essenziali per le relazioni umane: l’equanimità ci toglie dalla trappola dualistica del “giusto/sbagliato”\, “ragione/torto”\, e restituisce ampiezza ed equilibrio alla nostra visuale; comprensione non significa certo “farci andar bene quel che ci è difficile accogliere” ma vedere e capire noi stessi nella relazione\, vedere e capire l’altro e mettere l’altro in condizione di capirci. \nSolo una sincera pratica di consapevolezza ci permette di vedere (e quindi di lasciar andare) gli automatismi e le aspettative che ostacolano la nostra aspirazione ad avere relazioni umane sane e sincere\, aperte\, vitali anche negli alti-e-bassi della vita. \nIl fine settimana ci offrirà un tempo ristoratore in cui sarà possibile fermarci ed entrare in contatto con noi stessi\, nel silenzio e nella comunicazione\, con pratiche come il rilassamento profondo\, la meditazione seduta\, la meditazione camminata in sala e all’aperto\, un insegnamento e un cerchio di condivisione sul Dharma. \nL’incontro è aperto anche alle persone nuove alla pratica e ai giovani Wake-Up (16-35 anni). \nLa registrazione inizia alle ore 14.30 di sabato 18 dicembre. \nLe pratiche inizieranno alle ore 16\,00 di sabato 18 e termineranno alle ore 16\,30 di domenica 19 dicembre. \nVi invitiamo ad arrivare con un buon anticipo per la registrazione. \nQuota di partecipazione \n\n€ 55 per il soggiorno in pensione completa e per l’uso delle sale\n€ 0\,80 per la tassa di soggiorno (vi chiediamo di portare i contanti giusti ?)\nUn’offerta libera (dana) per l’insegnamento a partire da 10 €.\n\nLe iscrizioni si chiuderanno al raggiungimento di 40 persone. \nPer iscriverti CLICCA QUI e premi il tasto verde “ISCRIVITI”. \nCosa portare: cuscino o panchetto da meditazione personale (la struttura mette a disposizione un buon numero di sedie)\, tappetino o altro da mettere sul pavimento e scialle o plaid\, pantofole o calze pesanti da usare all’interno del centro\, il necessario per scrivere. \n*Se necessario\, la struttura può fornire gli asciugamani (2 euro). \nLa struttura richiede il Green Pass\, l’uso di mascherina e il rispetto scrupoloso delle indicazioni per la prevenzione del Covid 19. \nLe eventuali disdette andranno comunicate AL MASSIMO ENTRO IL POMERIGGIO di mercoledì’ 15 dicembre all’ indirizzo mail: info@passidipace.org \nLa struttura che ci ospita è disponibile ad accogliere senza penale alcune ma non tutte le eventuali disdette dell’ultima ora. Chi dovesse disdire all’ultimo momento\, senza che il proprio posto possa essere rioccupato\, è invitato a versare comunque il 50% del costo dell’incontro tramite bonifico sul seguente c/c: \nAndrea Savardi\, Intesa S. Paolo\, Grontardo Iban IT69C0306956870100000001970\, causale: rimborso disdetta Fontanafredda 18/19 dicembre \nQuesti fondi saranno gestiti dal Consiglio Sangha del Nord e verranno usati per coprire le eventuali compensazioni richieste dalla struttura ospitante per disdette dell’ultima ora\, mentre ciò che rimane potrà costituire un fondo per borse di studio da destinare a partecipanti con difficoltà economiche che ne facciano richiesta\, oltre che coprire eventuali piccole spese organizzative. I fondi versati saranno rendicontati pubblicamente alla fine dell’anno. \nLuogo dell’incontro: \nCasa di spiritualità MATER DIVINAE SAPIENTIAE a Valeggio sul Mincio (Verona)\, Via Fontanafredda  – Valeggio sul Mincio (Verona)
URL:https://www.interessere.it/evento/nutrire-le-relazioni-coltivando-lequanimita-e-la-comprensione-valeggio-sul-mincio-vr-18-19-dicembre-2021/
LOCATION:Mater Divinae Sapientiae\, Via Fontanafredda\, Valeggio sul Mincio (VR)\, Italia
CATEGORIES:Ritiro
ATTACH;FMTTYPE=image/jpeg:https://www.interessere.it/wp-content/uploads/2021/08/ad8e2ce499ff18c5e13927b7d5449859_thb.jpg
END:VEVENT
BEGIN:VEVENT
DTSTART;TZID=Europe/Rome:20210925T153000
DTEND;TZID=Europe/Rome:20210926T170000
DTSTAMP:20260423T021045
CREATED:20210829T082508Z
LAST-MODIFIED:20210918T195311Z
UID:10000047-1632583800-1632675600@www.interessere.it
SUMMARY:Il giardino del sangha
DESCRIPTION:Valeggio sul Mincio (Verona)\, 25 – 26 Settembre 2021 \n“Il giardino del Sangha” \nFine Settimana di Consapevolezza \nofferto dal Consiglio del Sangha del Nord e dal Sangha di Verona \n“Siamo gocce dello stesso fiume\, insieme siamo acqua che fluisce in armonia”. \n  \n“Il Sangha è la comunità di pratica ed è anche il nostro rifugio\, a cui ci affidiamo perché sostenga le nostre aspirazioni più profonde e ci dia l’energia e l’ispirazione per proseguire sul sentiero della pratica….\nUn Sangha ha molta forza: i suoi membri sono in grado di proteggersi l’un l’altro\, di aiutarsi reciprocamente in ogni aspetto della pratica e di costruire una comunità forte…\nIl Sangha possiede un’energia collettiva senza la quale la pratica della trasformazione individuale non è affatto facile” \n(Thich Nhat Hanh) \n  \nDopo questo lungo periodo di distanza fisica\, avremo la gioia di ritrovarci in presenza per praticare insieme la meditazione seduta e camminata\, ascoltare un discorso di Dharma\, mangiare insieme in consapevolezza\, condividere le nostre esperienze. \nL’incontro è aperto anche alle persone nuove alla pratica e ai giovani Wake-Up (16-35 anni). \nLa registrazione inizia alle ore 14.30 di sabato 25 Settembre. \nLe pratiche inizieranno alle ore 16\,00 di sabato 25 e termineranno alle ore 17\,00 di domenica 26 Settembre. \nVi invitiamo ad arrivare con un buon anticipo per la registrazione. \nLa quota di partecipazione è di 50 euro per la pensione completa \, € 0\,80 cent per la tassa di soggiorno e una offerta libera per l’uso della sala di meditazione. \nLa struttura fornisce gli asciugamani al costo di 2 euro. \n  \nLe iscrizioni si chiuderanno al raggiungimento di 40 persone. \nPer iscriverti CLICCA QUI e premi il tasto verde “ISCRIVITI” \nCosa portare: cuscino o panchetto da meditazione personale\, tappetino e coperta\, pantofole o calze pesanti da usare all’interno del centro\, il necessario per scrivere. \nLa struttura non richiede l’obbligo di Green Pass ma consigliamo vivamente di dotarsi di mascherina e di seguire scrupolosamente le indicazioni per la prevenzione del Covid 19 \nLuogo dell’incontro: \nCasa di spiritualità MATER DIVINAE SAPIENTIAE a Valeggio sul Mincio (Verona) Via Fontanafredda – Valeggio sul Mincio (Verona).
URL:https://www.interessere.it/evento/il-giardino-del-sangha/
LOCATION:Mater Divinae Sapientiae\, Via Fontanafredda\, Valeggio sul Mincio (VR)\, Italia
ATTACH;FMTTYPE=image/jpeg:https://www.interessere.it/wp-content/uploads/2021/08/ad8e2ce499ff18c5e13927b7d5449859_thb.jpg
END:VEVENT
END:VCALENDAR