BEGIN:VCALENDAR
VERSION:2.0
PRODID:-//Comunit&agrave; italiana dell'interessere - ECPv6.15.20//NONSGML v1.0//EN
CALSCALE:GREGORIAN
METHOD:PUBLISH
X-WR-CALNAME:Comunit&agrave; italiana dell'interessere
X-ORIGINAL-URL:https://www.interessere.it
X-WR-CALDESC:Eventi per Comunit&agrave; italiana dell'interessere
REFRESH-INTERVAL;VALUE=DURATION:PT1H
X-Robots-Tag:noindex
X-PUBLISHED-TTL:PT1H
BEGIN:VTIMEZONE
TZID:Europe/Rome
BEGIN:DAYLIGHT
TZOFFSETFROM:+0100
TZOFFSETTO:+0200
TZNAME:CEST
DTSTART:20230326T010000
END:DAYLIGHT
BEGIN:STANDARD
TZOFFSETFROM:+0200
TZOFFSETTO:+0100
TZNAME:CET
DTSTART:20231029T010000
END:STANDARD
BEGIN:DAYLIGHT
TZOFFSETFROM:+0100
TZOFFSETTO:+0200
TZNAME:CEST
DTSTART:20240331T010000
END:DAYLIGHT
BEGIN:STANDARD
TZOFFSETFROM:+0200
TZOFFSETTO:+0100
TZNAME:CET
DTSTART:20241027T010000
END:STANDARD
BEGIN:DAYLIGHT
TZOFFSETFROM:+0100
TZOFFSETTO:+0200
TZNAME:CEST
DTSTART:20250330T010000
END:DAYLIGHT
BEGIN:STANDARD
TZOFFSETFROM:+0200
TZOFFSETTO:+0100
TZNAME:CET
DTSTART:20251026T010000
END:STANDARD
BEGIN:DAYLIGHT
TZOFFSETFROM:+0100
TZOFFSETTO:+0200
TZNAME:CEST
DTSTART:20260329T010000
END:DAYLIGHT
BEGIN:STANDARD
TZOFFSETFROM:+0200
TZOFFSETTO:+0100
TZNAME:CET
DTSTART:20261025T010000
END:STANDARD
END:VTIMEZONE
BEGIN:VEVENT
DTSTART;TZID=Europe/Rome:20250426T093000
DTEND;TZID=Europe/Rome:20250426T163000
DTSTAMP:20260422T181858
CREATED:20250329T171816Z
LAST-MODIFIED:20250329T171817Z
UID:10000608-1745659800-1745685000@www.interessere.it
SUMMARY:La generosità come via spirituale\, 26 aprile a Messina
DESCRIPTION:La generosità come via spirituale\nGiornata di pratica di presenza mentale\nsabato 26 aprile 2025\ncon Bar Zecharya \nParco ecologico San Jachiddu\,\nvia San Jachiddu\, Messina \nSembra che questo mondo ci insegni a considerare i nostri interessi sopra ogni altra cosa\, a cercare vantaggio dalle situazioni e dalle relazioni e a stare in allerta dagli altri che potrebbero fare lo stesso. La generosità sarebbe così una qualità riservata solo per chi gode già di qualche ricchezza\, sicurezza o privilegio in più. Secondo gli insegnamenti della tradizione buddhista\, invece\, la generosità è una qualità disponibile proprio nella nostra realtà di incertezze e di impermanenza. \nColtivandola con il corpo\, con le parole e con i pensieri\, scopriamo in prima persona quanto la generosità possa essere una risorsa preziosa nella nostra vita e nel nostro cammino. \nQuesta giornata di pratica di presenza mentale (mindfulness) nella tradizione del maestro zen Thich Nhat Hanh comprende la meditazione seduta guidata\, la meditazione camminata all’aperto\, l’insegnamento\, un pasto vegano condiviso in consapevolezza e la condivisione della parola e del silenzio. \nSaremo ospiti presso il Parco Ecologico San Jachiddu\, luogo di storia\, natura\, arte e bellezza\, via San Jachiddu\, Messina. \nL’insegnante\nBar Zecharya è insegnante di Dharma e facilita gruppi in Italia\, in Israele e Palestina e negli Stati Uniti. Dal 1997 è allievo laico del maestro zen Thich Nhat Hanh\, da cui è stato ordinato nel 2010 come membro dell’Ordine dell’Interessere. Dal 2018 Bar è custode di Pardesa\, centro di pratica nell’Appennino bolognese che unisce la cura della mente alla cura della Terra. \nCosto\nLa giornata sarà offerta in base a donazione libera e invitiamo i partecipanti ad essere consapevoli dei costi di viaggio dell’insegnante e del suo impegno nel preparare e nel offrire la giornata\, e anche dell’organizzazione dell’evento\, oltre alle proprie possibilità. \nI contributi ricevuti saranno dichiarati in rispetto alla legalità. \nCosa portare\nCibo vegano da condividere per pranzo\, pronto da servire. Propri piatto/posate riutilizzabili. Il cuscino da meditazione e tappetino (se non li possiedi li forniremo noi\, specificalo all’iscrizione) \nOrari\nLa giornata si terrà dalle 9.30 alle 16.30 \nIscrizione\nÈ necessaria l’iscrizione in anticipo e non oltre il 22 aprile. I posti sono limitati. \nPer iscriversi contatta Doriana 3922392139 (Whatsapp) o dorianaoliveri@gmail.com
URL:https://www.interessere.it/evento/la-generosita-come-via-spirituale-26-aprile-a-messina/
LOCATION:Parco ecologico San Jachiddu\, via San Jachiddu\, Messina
ATTACH;FMTTYPE=image/jpeg:https://www.interessere.it/wp-content/uploads/2025/03/gratitudine.jpg
END:VEVENT
BEGIN:VEVENT
DTSTART;TZID=Europe/Rome:20241116T093000
DTEND;TZID=Europe/Rome:20241117T180000
DTSTAMP:20260422T181858
CREATED:20241022T132725Z
LAST-MODIFIED:20241022T141716Z
UID:10000462-1731749400-1731866400@www.interessere.it
SUMMARY:Siamo la Terra
DESCRIPTION:Ritiro di presenza mentale\nnella tradizione di Thich Nhat Hanh\n16-17 novembre\nParco ecologico San Jachiddu (Messina)\nofferto da Bar Zecharya e Doriana Oliveri \nSiamo la Terra\n“Se osservi in profondità e percepisci il tuo legame con la Terra proverai ammirazione\, amore e rispetto. Quando ti renderai conto che la Terra non è soltanto l’ambiente\, ti sentirai incline a proteggerla in prima persona. Sei un figlio della Terra. E la Terra è dentro di te. Sai che non c’è alcuna differenza fra te e lei.”\n(Thich Nhat Hanh) \nApprofondiamo e facciamo risuonare in noi il nostro essere nella Terra e l’essere della Terra in noi\, in questi giorni di ritiro in natura. Attraverso gli insegnamenti secondo la tradizione di Thich Nhat Hanh esploreremo come la pratica della presenza mentale possa portarci a riconoscere lo stretto legame che ognuno di noi ha con la Terra. \nPraticheremo assieme la meditazione seduta\, la meditazione camminata\, il rilassamento profondo\, i movimenti consapevoli\, i pasti consapevoli\, il nobile silenzio e momenti di condivisione. \nIl ritiro è aperto anche a chi è alla prima esperienza. \nBar Zecharya è insegnante di Dharma nella tradizione di Thich Nhat Hanh\, e pratica la presenza mentale e la meditazione applicata da oltre venticinque anni. Ha conosciuto la permacultura nel 2014 e da allora ha deciso di mettere al centro del suo cammino spirituale la nostra interconnessione con la Terra\, così come insegnato dal suo maestro Thich Nhat Hanh.\nDal 2018 è fondatore e custode di Pardesa (www.pardesa.org)\, centro di meditazione ed ecologia applicata nell’appennino bolognese. \nLa serata del 14 novembre Bar sarà a Reggio Calabria per l’incontro “Riconciliarsi dentro e fuori“ \nDoriana Oliveri Fa la psicoterapeuta. L’interesse di una vita per lo sviluppo olistico dell’individuo\, l’ha portata ad approfondire lo studio di discipline quali lo yoga frequentando diverse scuole per insegnanti. Amplia il suo interesse per le pratiche orientali avvicinandosi e studiando la Meditazione Vipassana\, derivante dal Buddhismo Theravada\, seguendo la tradizione dei Monaci della foresta. Approfondendo lo studio della pratica di mindfulness in occidente\, si imbatte negli insegnamenti di Thây (Thich Nhat Hanh)\, che con amore e curiosità prova a portare nella sua vita e nel suo lavoro.\nDa più di dieci anni offre corsi e incontri di mindfulness. \nDove\nParco ecologico San Jachiddu\, via San Jachiddu\, Messina \nOrari\nIl ritiro inizia sabato 16 novembre alle ore 9\,30 e si conclude domenica 17 novembre alle ore 18.\nIl programma sarà il seguente:\nSabato:\n9\,30- 10 accoglienza\n10\,30 meditazione camminata\n11\,30 orientamento\n12\,30 pranzo\n14\,30 rilassamento profondo\n15\,30 meditazione seduta guidata\n16\,15 discorso di Dharma\n17\,30 condivisione\n19\,00 cena\n20\,30 meditazione seduta\n21\,30 nobile silenzio fino alle 9\,30 di domenica \nDomenica:\n6\,00 sveglia\n6\,30 meditazione seduta guidata\n7\,15 risveglio del corpo\n8\,00 colazione\n9\,30 discorso di Dharma\n11\,00 meditazione camminata\n12\,30 pranzo\n14\,30 rilassamento profondo\n15\,30 tempo e pratica personale\n16\,30 condivisione\n17\,30 cerchio di chiusura\n18\,00 Fine ritiro \nPernottamento\nSi potrà pernottare in tenda\, portando la propria tenda e tutto l’occorrente personale per il pernottamento.\nChi non ha possibilità di pernottare in tenda\, potrà tornare a dormire a casa\, custodendo l’assetto di presenza mentale\, e il nobile silenzio (per quanto possibile)\, per mantenere l’attitudine propria del ritiro. \nCosa portare\nCi piace pensare la Terra libera da fattori inquinanti e ci piace non contribuire a ciò che lo fa\, per cui cercheremo di usare meno utensili usa e getta possibile. Vi chiediamo quindi di portare contenitore per il cibo e tazza/bicchiere riutilizzabili. \nPer chi lo possiede\, portare un cuscino da meditazione e un tappetino. Per chi non li possiede\, verranno forniti al ritiro fino a esaurimento scorte (potete segnalare se vi servono direttamente nel modulo di iscrizione). \nAbiti comodi\, calzettoni per la sala da meditazione\, scarpe per camminare sui sentieri\, una coperta\, una torcia. \nIscrizione\nè possibile iscriversi compilando il modulo online \nCosti \nIl costo del ritiro comprensivo di pasti\, posto tenda\, insegnamenti e organizzazione degli insegnanti è di 90 euro.\nPiù 10 euro di tessera associativa \nContatti \ndorianaoliveri@gmail.com Doriana: 3922392139
URL:https://www.interessere.it/evento/siamo-la-terra/
LOCATION:Parco ecologico San Jachiddu\, via San Jachiddu\, Messina
CATEGORIES:Ritiro
ATTACH;FMTTYPE=image/jpeg:https://www.interessere.it/wp-content/uploads/2024/10/WhatsApp-Image-2024-10-22-at-16.08.03.jpeg
END:VEVENT
END:VCALENDAR