BEGIN:VCALENDAR
VERSION:2.0
PRODID:-//Comunit&agrave; italiana dell'interessere - ECPv6.15.20//NONSGML v1.0//EN
CALSCALE:GREGORIAN
METHOD:PUBLISH
X-WR-CALNAME:Comunit&agrave; italiana dell'interessere
X-ORIGINAL-URL:https://www.interessere.it
X-WR-CALDESC:Eventi per Comunit&agrave; italiana dell'interessere
REFRESH-INTERVAL;VALUE=DURATION:PT1H
X-Robots-Tag:noindex
X-PUBLISHED-TTL:PT1H
BEGIN:VTIMEZONE
TZID:Europe/Rome
BEGIN:DAYLIGHT
TZOFFSETFROM:+0100
TZOFFSETTO:+0200
TZNAME:CEST
DTSTART:20200329T010000
END:DAYLIGHT
BEGIN:STANDARD
TZOFFSETFROM:+0200
TZOFFSETTO:+0100
TZNAME:CET
DTSTART:20201025T010000
END:STANDARD
BEGIN:DAYLIGHT
TZOFFSETFROM:+0100
TZOFFSETTO:+0200
TZNAME:CEST
DTSTART:20210328T010000
END:DAYLIGHT
BEGIN:STANDARD
TZOFFSETFROM:+0200
TZOFFSETTO:+0100
TZNAME:CET
DTSTART:20211031T010000
END:STANDARD
BEGIN:DAYLIGHT
TZOFFSETFROM:+0100
TZOFFSETTO:+0200
TZNAME:CEST
DTSTART:20220327T010000
END:DAYLIGHT
BEGIN:STANDARD
TZOFFSETFROM:+0200
TZOFFSETTO:+0100
TZNAME:CET
DTSTART:20221030T010000
END:STANDARD
END:VTIMEZONE
BEGIN:VEVENT
DTSTART;TZID=Europe/Rome:20211020T080000
DTEND;TZID=Europe/Rome:20211022T170000
DTSTAMP:20260423T042828
CREATED:20211020T091416Z
LAST-MODIFIED:20211020T091546Z
UID:10000057-1634716800-1634922000@www.interessere.it
SUMMARY:Insegnamento: Discorso sull’Amore
DESCRIPTION:Il “Discorso sull’amore” o “Metta Sutta” è uno degli insegnamenti fondamentali del Buddha e lo ritroviamo in tutte le tradizioni. Il termine mettā significa “benevolenza” o “gentilezza” nella lingua pali: è una pratica che risveglia calore verso noi stessi/e e verso gli altri e ci aiuta a ricordare la nostra umanità condivisa. Per farlo abbiamo ora la possibilità non solo di recitarlo\, ma anche di cantarlo ascoltando la voce di Silvia Lombardi a questo indizzo https://www.interessere.it/insegnamenti/discorso-sullamore/
URL:https://www.interessere.it/evento/insegnamento-discorso-sullamore/
LOCATION:Sito Web Interessere
CATEGORIES:Evento online
ATTACH;FMTTYPE=image/jpeg:https://www.interessere.it/wp-content/uploads/2021/10/Freccia-1.jpg
ORGANIZER;CN="Ordine dell'Interessere italiano":MAILTO:info@interessere.it
END:VEVENT
END:VCALENDAR