BEGIN:VCALENDAR
VERSION:2.0
PRODID:-//Comunit&agrave; italiana dell'interessere - ECPv6.15.20//NONSGML v1.0//EN
CALSCALE:GREGORIAN
METHOD:PUBLISH
X-WR-CALNAME:Comunit&agrave; italiana dell'interessere
X-ORIGINAL-URL:https://www.interessere.it
X-WR-CALDESC:Eventi per Comunit&agrave; italiana dell'interessere
REFRESH-INTERVAL;VALUE=DURATION:PT1H
X-Robots-Tag:noindex
X-PUBLISHED-TTL:PT1H
BEGIN:VTIMEZONE
TZID:Europe/Rome
BEGIN:DAYLIGHT
TZOFFSETFROM:+0100
TZOFFSETTO:+0200
TZNAME:CEST
DTSTART:20190331T010000
END:DAYLIGHT
BEGIN:STANDARD
TZOFFSETFROM:+0200
TZOFFSETTO:+0100
TZNAME:CET
DTSTART:20191027T010000
END:STANDARD
BEGIN:DAYLIGHT
TZOFFSETFROM:+0100
TZOFFSETTO:+0200
TZNAME:CEST
DTSTART:20200329T010000
END:DAYLIGHT
BEGIN:STANDARD
TZOFFSETFROM:+0200
TZOFFSETTO:+0100
TZNAME:CET
DTSTART:20201025T010000
END:STANDARD
BEGIN:DAYLIGHT
TZOFFSETFROM:+0100
TZOFFSETTO:+0200
TZNAME:CEST
DTSTART:20210328T010000
END:DAYLIGHT
BEGIN:STANDARD
TZOFFSETFROM:+0200
TZOFFSETTO:+0100
TZNAME:CET
DTSTART:20211031T010000
END:STANDARD
END:VTIMEZONE
BEGIN:VEVENT
DTSTART;TZID=Europe/Rome:20200215T143000
DTEND;TZID=Europe/Rome:20200216T160000
DTSTAMP:20260422T173953
CREATED:20200211T171352Z
LAST-MODIFIED:20200211T171352Z
UID:10000016-1581777000-1581868800@www.interessere.it
SUMMARY:Essere grati alla vita
DESCRIPTION:Incontro mensile della Comunità di pratica del Nord Italia che si ispira agli insegnamenti di Thich Nhat Hanh
URL:https://www.interessere.it/evento/essere-grati-alla-vita/
LOCATION:La Bellotta\, Strada per Valconasso\, 10\, Pontenure\, Piacenza\, 29010\, Italia
ORGANIZER;CN="Consiglio coordinamento Incontri Sangha del Nord":MAILTO:iscrizionibellotta@gmail.com
END:VEVENT
END:VCALENDAR