BEGIN:VCALENDAR
VERSION:2.0
PRODID:-//Comunit&agrave; italiana dell'interessere - ECPv6.15.20//NONSGML v1.0//EN
CALSCALE:GREGORIAN
METHOD:PUBLISH
X-ORIGINAL-URL:https://www.interessere.it
X-WR-CALDESC:Eventi per Comunit&agrave; italiana dell'interessere
REFRESH-INTERVAL;VALUE=DURATION:PT1H
X-Robots-Tag:noindex
X-PUBLISHED-TTL:PT1H
BEGIN:VTIMEZONE
TZID:Europe/Rome
BEGIN:DAYLIGHT
TZOFFSETFROM:+0100
TZOFFSETTO:+0200
TZNAME:CEST
DTSTART:20220327T010000
END:DAYLIGHT
BEGIN:STANDARD
TZOFFSETFROM:+0200
TZOFFSETTO:+0100
TZNAME:CET
DTSTART:20221030T010000
END:STANDARD
BEGIN:DAYLIGHT
TZOFFSETFROM:+0100
TZOFFSETTO:+0200
TZNAME:CEST
DTSTART:20230326T010000
END:DAYLIGHT
BEGIN:STANDARD
TZOFFSETFROM:+0200
TZOFFSETTO:+0100
TZNAME:CET
DTSTART:20231029T010000
END:STANDARD
BEGIN:DAYLIGHT
TZOFFSETFROM:+0100
TZOFFSETTO:+0200
TZNAME:CEST
DTSTART:20240331T010000
END:DAYLIGHT
BEGIN:STANDARD
TZOFFSETFROM:+0200
TZOFFSETTO:+0100
TZNAME:CET
DTSTART:20241027T010000
END:STANDARD
END:VTIMEZONE
BEGIN:VEVENT
DTSTART;TZID=Europe/Rome:20231125T093000
DTEND;TZID=Europe/Rome:20231125T173000
DTSTAMP:20260423T131642
CREATED:20231029T104701Z
LAST-MODIFIED:20231123T065520Z
UID:10000314-1700904600-1700933400@www.interessere.it
SUMMARY:Firenze\, 25 novembre 2023 - "Consapevolezza e denaro" - Seminario con l'insegnante di Dharma Kai Romhardt
DESCRIPTION:Seminario residenziale \n“ Consapevolezza e denaro “ \n25 novembre 2023 \nore 9.30 – 17.30 \ncondotto dall’insegnante di Dharm a Kai Romhardt autore del libro “L’economia siamo noi” ed. TerraNuov. \nIl denaro scatena in noi molte emozioni: desiderio\, invidia o rabbia\, ma anche gioia\, compassione e generosità. Il denaro penetra in tutti gli ambiti della nostra vita\, compreso quello spirituale. Ci sono due facce della medaglia: il nostro rapporto con il denaro può renderci ciechi e non liberi\, mentre allo stesso tempo il denaro può portare certi tipi di libertà. \nIl modo in cui gestiamo il denaro può dimostrare i nostri valori o riflettere le nostre energie abitudinarie. \nChe cosa rappresenta il denaro nella nostra vita? \nCome posso fluire con il denaro e farlo fluire nel mondo come energia sana? \nIn questo seminario\, con l’aiuto dell’insegnamento e della pratica di Plum Village\, esamineremo con chiarezza la nostra relazione con il denaro\, le convinzioni\, i giudizi e le emozioni collegate. \nIl nostro obiettivo è guardare in profondità la nostra personale relazione con il denaro per trasformare noi stessi\, il nostro lavoro e forse anche il nostro bilancio! \nQuesto seminario è aperto a tutti coloro che desiderano esaminare e chiarire il proprio rapporto con il denaro. \nIl seminario sarà tenuto in inglese e tradotto in italiano. \nPer partecipare al seminario è richiesto un contributo fisso di 50€ (studenti 25€) per le spese sostenute da Kai\, per il viaggio e il soggiorno in Italia\, e un’offerta libera (Dana) come sostegno al suo percorso di insegnante di Dharma. Per chi avesse difficoltà economiche è possibile concordare diversamente \nIl seminario si terrà in una splendida casa colonica nel verde del Mugello toscano\, in via San Martino a Scopeto\, Vicchio (FI) indicazioni per B&B “Il Mugello” \n  \nInformazioni e iscrizioni \nSilvio 347.8266264 demagistris.silvio@gmail.com
URL:https://www.interessere.it/evento/firenze-25-novembre-2023-consapevolezza-e-lavoro-seminario-con-linsegnante-di-dharma-kai-romhardt/
ATTACH;FMTTYPE=image/jpeg:https://www.interessere.it/wp-content/uploads/2023/10/fiore.jpg
END:VEVENT
BEGIN:VEVENT
DTSTART;TZID=Europe/Rome:20230225T160000
DTEND;TZID=Europe/Rome:20230226T160000
DTSTAMP:20260423T131642
CREATED:20230130T083218Z
LAST-MODIFIED:20230130T083218Z
UID:10000183-1677340800-1677427200@www.interessere.it
SUMMARY:“Coltivare la felicita”   Fine settimana di consapevolezza organizzato dal Coordinamento Sangha Toscano con il Dharmacharya Bar Zecharya
DESCRIPTION:“Coltivare la felicita” Fine settimana di consapevolezza organizzato dal Coordinamento Sangha Toscano con il Dharmacharya Bar Zecharya \n” A volte la gioia è la causa del tuo sorriso\, e a volte è il tuo sorriso ad essere la causa della tua gioia.” (Thich Nhat Hanh) \nDedichiamo questo breve ritiro a indagare – con il corpo\, il cuore e la mente – la felicità\, le sue radici e modi per darle più spazio nella nostra vita. Saremo sostenuti dalla bellezza naturale dei boschi casentinesi e dai semi salutari che portiamo dentro di noi. \nIl ritiro inizia sabato 26 febbraio con l’accoglienza dalle 15.00 alle 16.00 e termina domenica 26 febbraio alle 16.00.\nSaremo ospiti della Casa di Accoglienza delle Suore Orsoline località Prato di Strada n. 66\, Castel San Niccolò (AR)\nSaremo nel cuore del Casentino\, vicini a Camaldoli e Romena. Con la macchina si può arrivare da Firenze attraverso il passo della Consuma / S.R. 70 o da Arezzo tramite la S.R. 71 Umbro-Casentinese e la S.R. 142. \nProgramma indicativo: \nSabato 25\n15\,00 arrivo\, registrazione e assegnazione camera\n16\,00 meditazione camminata\n17\,00 orientamento e introduzione tema\n19\,00 cena\n20\,30 meditazione guidata e camminata lenta\n21\,30 buonanotte – Inizio nobile silenzio \nDomenica 25\n6\,00 sveglia\n6\,30 meditazione guidata e lettura sutra\n7\,30 movimento del corpo\n8\,15 colazione\n9\,45 discorso di Dharma\n11\,00 meditazione camminata\n12\,30 pranzo\n14\,00 condivisione\n15\,30 cerchio finale\n16\,00 fine ritiro e saluti \nPer partecipare è necessario compilare in modulo online che trovi a questo link:\nhttps://forms.gle/jDsUB9cBfhsSWK4KA\nL’iscrizione sarà confermata con il pagamento della quota di iscrizione di € 65.00 comprensiva di vitto e alloggio. Le camere sono doppie. Nel rispetto del Pianeta e dei nostri amici animali il cibo sarà vegano.\nAi partecipanti verrà inviata una mail con tutte le indicazioni necessario su cosa portare e come arrivare a Prato di Strada.\nPer informazioni: patrizia.montigalli@gmail.com e fabio.ramelli@gmail.com
URL:https://www.interessere.it/evento/coltivare-la-felicita-fine-settimana-di-consapevolezza-organizzato-dal-coordinamento-sangha-toscano-con-il-dharmacharya-bar-zecharya/
LOCATION:Casa di accoglienza Suore Orsoline\, Prato di Strada 66\, Castel San Niccolò (AR)
ATTACH;FMTTYPE=image/jpeg:https://www.interessere.it/wp-content/uploads/2023/01/orzo.jpg
END:VEVENT
END:VCALENDAR