BEGIN:VCALENDAR
VERSION:2.0
PRODID:-//Comunit&agrave; italiana dell'interessere - ECPv6.15.20//NONSGML v1.0//EN
CALSCALE:GREGORIAN
METHOD:PUBLISH
X-ORIGINAL-URL:https://www.interessere.it
X-WR-CALDESC:Eventi per Comunit&agrave; italiana dell'interessere
REFRESH-INTERVAL;VALUE=DURATION:PT1H
X-Robots-Tag:noindex
X-PUBLISHED-TTL:PT1H
BEGIN:VTIMEZONE
TZID:Europe/Rome
BEGIN:DAYLIGHT
TZOFFSETFROM:+0100
TZOFFSETTO:+0200
TZNAME:CEST
DTSTART:20230326T010000
END:DAYLIGHT
BEGIN:STANDARD
TZOFFSETFROM:+0200
TZOFFSETTO:+0100
TZNAME:CET
DTSTART:20231029T010000
END:STANDARD
BEGIN:DAYLIGHT
TZOFFSETFROM:+0100
TZOFFSETTO:+0200
TZNAME:CEST
DTSTART:20240331T010000
END:DAYLIGHT
BEGIN:STANDARD
TZOFFSETFROM:+0200
TZOFFSETTO:+0100
TZNAME:CET
DTSTART:20241027T010000
END:STANDARD
BEGIN:DAYLIGHT
TZOFFSETFROM:+0100
TZOFFSETTO:+0200
TZNAME:CEST
DTSTART:20250330T010000
END:DAYLIGHT
BEGIN:STANDARD
TZOFFSETFROM:+0200
TZOFFSETTO:+0100
TZNAME:CET
DTSTART:20251026T010000
END:STANDARD
BEGIN:DAYLIGHT
TZOFFSETFROM:+0100
TZOFFSETTO:+0200
TZNAME:CEST
DTSTART:20260329T010000
END:DAYLIGHT
BEGIN:STANDARD
TZOFFSETFROM:+0200
TZOFFSETTO:+0100
TZNAME:CET
DTSTART:20261025T010000
END:STANDARD
END:VTIMEZONE
BEGIN:VEVENT
DTSTART;TZID=Europe/Rome:20250214T170000
DTEND;TZID=Europe/Rome:20250216T140000
DTSTAMP:20260423T092122
CREATED:20250115T205241Z
LAST-MODIFIED:20250115T211903Z
UID:10000544-1739552400-1739714400@www.interessere.it
SUMMARY:Parco di San Rossore (PI)\, 14 - 16 febbraio 2025: "Toccare le radici della pratica" con le monache e i monaci di Plum Village
DESCRIPTION:Ritiro d’inverno\n“Toccare le radici della pratica”\nCon le monache e i monaci di Plum Village\nParco di San Rossore\, Pisa\n14 – 16 febbraio 2025 \nSiamo felici di condividere una preziosa opportunità offerta dalla comunità monastica di Plum Village: un ritiro di inverno dal 14 al 16 febbraio presso il Parco naturale di San Rossore\, una grande area verde alle porte di Pisa. \nLe monache e i monaci ci accompagneranno in un cammino verso le radici della pratica. Vista la necessità in questi tempi tumultuosi di fermarsi e praticare e considerato i posti limitati\, ti consigliamo\, se ci sono le condizioni favorevoli\, di prenotare tempestivamente. \nIl luogo: Località La Sterpaia – Parco di San Rossore\, Pisa. Il ritiro si svolgerà all’interno del Parco di San Rossore\, a circa 8 chilometri dal centro città. Saremo alloggiati presso La Sterpaia\, in un Hotel inserito in un vecchio casale ristrutturato dotato di camere doppie uso singole\, doppie\, triple e quadruple\, tutte con bagno privato di cui 2 camere a piano terra accessibili ai portatori di handicap. \nDate e orari: check-in: venerdì 14 febbraio dalle 14 alle 16:30. Inizio ritiro alle 17. Termine previsto del ritiro: dopo il pranzo di domenica 16. \nAlloggi e prezzi (escluso il dana): i costi varieranno a seconda del tipo di sistemazione scelta e si intendono per persona tutto compreso (dalla cena di venerdì 14 febbraio al pranzo di domenica 16 febbraio). Essi coprono vitto e alloggio. \n\nCamera quadrupla con bagno privato: 119 euro\nCamera tripla con bagno privato: 124 euro\nCamera doppia con bagno privato: 144 euro\nCamera doppia uso singola con bagno privato: 194 euro\n\nAlla reception della struttura verrà rilasciata la ricevuta di pagamento. In quella occasione sarà richiesta\, in aggiunta al costo del ritiro\, una tassa di soggiorno di 2 euro. \nDana: come offerta per gli insegnamenti e contributo alle spese sostenute dalla comunità monastica (viaggio\, vitto\, alloggio\, ecc.) si propone una cifra indicativa di 40 €; si può offrire di più o di meno in base alle proprie condizioni economiche. Le offerte saranno raccolte sul posto al momento dell’arrivo. \nScelta della camera: vi chiediamo di esprimere una preferenza sulla camera. Le camere saranno assegnate in base all’ordine di arrivo dei bonifici di conferma delle prenotazioni. Chi ha espresso una preferenza per una tipologia di camera già esaurita\, sarà contattato per avere una proposta alternativa o la restituzione della quota versata. \nDisdette: nel caso non si potesse più partecipare al ritiro\, se sarà possibile la sostituzione con altro partecipante\, verrà restituito l’intero importo\, altrimenti la quota versata sarà destinata 50% alla struttura e 50% per il sostegno della comunità monastica. \nIscrizioni: compilate il modulo che trovate al link https://forms.gle/wU1aHxbcyJEjzU2T6 \nPer completare l’iscrizione è necessario versare una caparra di 80 € alla struttura ricettiva (ai dati che trovate sul modulo) e inviarne copia all’indirizzo info@esserecomunita.org. Solo a questo punto l’iscrizione sarà effettiva! \nPasti: tutti i pasti (colazione\, pranzo\, cena) saranno vegetariani. Per chi è intollerante al glutine ci saranno sempre del riso e delle verdure. All’interno della struttura che ci accoglierà è presente un bar. \nCosa portare: la struttura fornisce letti con lenzuola\, coperte e asciugamani; è invece necessario portare un cuscino da meditazione. Si consiglia di portare abiti comodi\, un plaid o una copertina di lana e calzini da indossare per le pratiche all’interno della sala di meditazione.
URL:https://www.interessere.it/evento/parco-di-san-rossore-pi-14-16-febbraio-2025-toccare-le-radici-della-pratica-con-le-monache-e-i-monaci-di-plum-village/
LOCATION:Parco di San Rossore\, Località La Sterpaia\, Pisa\, Italy
CATEGORIES:Ritiro
ATTACH;FMTTYPE=image/png:https://www.interessere.it/wp-content/uploads/2025/01/toocare-le-radici.png
ORGANIZER;CN="Essere Comunit%C3%A0":MAILTO:info@esserecomunita.org
END:VEVENT
BEGIN:VEVENT
DTSTART;TZID=Europe/Rome:20240428T093000
DTEND;TZID=Europe/Rome:20240429T123000
DTSTAMP:20260423T092122
CREATED:20240419T085904Z
LAST-MODIFIED:20240419T085904Z
UID:10000388-1714296600-1714393800@www.interessere.it
SUMMARY:Pisa\, 28-29 aprile 2024: Incontri e conferenze con la comunità monastica di Plum Village
DESCRIPTION:Pisa\, 28-29 aprile 2024\nIncontri e conferenze con la comunità monastica di Plum Village \nSiamo felici di condividere la comunicazione ufficiale di Banca Etica che partecipa con il 25% al progetto una casa per Plum Village il frutto della generosità della comunità ci permette di continuare il cammino verso  l’aspirazione di offrire una casa alla comunità monastica. Il primo passo sarà quello di offrire accoglienza alle monache e ai monaci che a fine aprile passeranno da Pisa. Per questa occasione sono state organizzate due giornate in cui la comunità monastica ci offre la possibilità di praticare insieme. Gli eventi sono gratuiti\, per iscriversi è sufficiente registrarsi ai link attivi in fondo al singolo evento: \nDomenica 28 aprile 2024\, 9.30 – 16\n“La comunità”\nGiornata di consapevolezza\ncon le monache e i monaci di Plum Village \nParco di San Rossore\nScuderie della Sterpaia\nviale delle Cascine\, Pisa \nProgramma della giornata:\n> accoglienza e breve meditazione\n> discorso di Dharma\n> meditazione camminata\n> pranzo al sacco\n> condivisione\n> domande e risposte \nLa partecipazione è gratuita\,\nè gradita la prenotazione al link\nhttps://forms.gle/qkdNjfkak4eqJLju7 \n  \nLunedì 29 aprile 2024\, 9.30 – 12.30\n“La pace”\nIncontro con studenti e comunità\nofferto dalle monache e dai monaci di Plum Village \nPolo Didattico Porta Nuova\nAula Magna PN1\nvia Padre B. Fedi 1\, Pisa \nProgramma:\n> accoglienza\n> meditazione\n> incontro – conferenza\n> domande e risposte\n> meditazione camminata \nLa partecipazione è gratuita\,\nè necessaria la prenotazione al link\nhttps://forms.gle/bPfu4P952yC7oU3d9 \n 
URL:https://www.interessere.it/evento/pisa-28-29-aprile-2024-incontri-e-conferenze-con-la-comunita-monastica-di-plum-village/
CATEGORIES:Giornata di consapevolezza
ATTACH;FMTTYPE=image/jpeg:https://www.interessere.it/wp-content/uploads/2024/04/pisa.jpg
ORGANIZER;CN="Essere Comunit%C3%A0":MAILTO:info@esserecomunita.org
END:VEVENT
END:VCALENDAR