BEGIN:VCALENDAR
VERSION:2.0
PRODID:-//Comunit&agrave; italiana dell'interessere - ECPv6.15.20//NONSGML v1.0//EN
CALSCALE:GREGORIAN
METHOD:PUBLISH
X-WR-CALNAME:Comunit&agrave; italiana dell'interessere
X-ORIGINAL-URL:https://www.interessere.it
X-WR-CALDESC:Eventi per Comunit&agrave; italiana dell'interessere
REFRESH-INTERVAL;VALUE=DURATION:PT1H
X-Robots-Tag:noindex
X-PUBLISHED-TTL:PT1H
BEGIN:VTIMEZONE
TZID:Europe/Rome
BEGIN:DAYLIGHT
TZOFFSETFROM:+0100
TZOFFSETTO:+0200
TZNAME:CEST
DTSTART:20160327T010000
END:DAYLIGHT
BEGIN:STANDARD
TZOFFSETFROM:+0200
TZOFFSETTO:+0100
TZNAME:CET
DTSTART:20161030T010000
END:STANDARD
BEGIN:DAYLIGHT
TZOFFSETFROM:+0100
TZOFFSETTO:+0200
TZNAME:CEST
DTSTART:20170326T010000
END:DAYLIGHT
BEGIN:STANDARD
TZOFFSETFROM:+0200
TZOFFSETTO:+0100
TZNAME:CET
DTSTART:20171029T010000
END:STANDARD
BEGIN:DAYLIGHT
TZOFFSETFROM:+0100
TZOFFSETTO:+0200
TZNAME:CEST
DTSTART:20180325T010000
END:DAYLIGHT
BEGIN:STANDARD
TZOFFSETFROM:+0200
TZOFFSETTO:+0100
TZNAME:CET
DTSTART:20181028T010000
END:STANDARD
END:VTIMEZONE
BEGIN:VEVENT
DTSTART;TZID=Europe/Rome:20171216T143000
DTEND;TZID=Europe/Rome:20171217T160000
DTSTAMP:20260423T192541
CREATED:20171130T170222Z
LAST-MODIFIED:20171130T171448Z
UID:10000004-1513434600-1513526400@www.interessere.it
SUMMARY:La continuazione di Thay\, Fine settimana di consapevolezza a Pian dei Ciliegi
DESCRIPTION:Fine settimana di consapevolezza a Pian dei Ciliegi\norganizzato dai Sangha Wake Up e aperto a tutti.\nCon il sostegno dell’Associazione Essere Pace \n16 – 17 Dicembre 2017 \nLa continuazione di Thay\nCelebriamo di essere la continuazione del nostro Maestro \n“Nessuno di noi monache e monaci può essere come Thay. Non possiamo parlare come Thay\, non possiamo sederci come Thay\, non possiamo camminare come Thay. Ma imparando ad essere pace\, ad essere con quello che siamo\, noi manifestiamo Thay nel modo più bello che siamo. E’ così che siamo la continuazione del nostro Maestro.“ [Sister Dang Nghiem] \nAvremo la gioia di praticare insieme la meditazione seduta e camminata in un luogo tranquillo\, ospitale e nel bosco\, vedere un discorso di Sister Chan Dieu Nghiem (Aka Jina)\, cantare canti di pratica\, condividere le nostre esperienze e altro. \nLa registrazione dei partecipanti avrà inizio il sabato 16 dicembre alle 14.30 in modo da iniziare puntuali per le ore 16.00.\nL’incontro terminerà domenica 17 dicembre alle ore 16\,00. \nLuogo dell’incontro  – Pian dei Ciliegi si trova in località Bulla di Montesanto\, comune di Ponte dell’Olio\, Piacenza. Le informazioni per raggiungerlo e il programma degli incontri sono reperibili sul sito http://www.piandeiciliegi.it. \nChe cosa serve – Il Centro fornisce letti con coperta o piumino e cuscino; è invece necessario portare federa\, lenzuola o sacco a pelo e asciugamano personale\, oltre a un paio di ciabatte da utilizzare all’interno della struttura. Nel Centro sono disponibili i cuscini da meditazione. Se abitualmente utilizzate un panchetto\, meglio portarlo. \nIscrizione al ritiro\nL’iscrizione è aperta a tutti; i posti disponibili sono 35.\nLa quota d’iscrizione è di € 35\,00€ per ogni adulto. E’ inoltre necessario\, per coloro che non l’hanno fatto nell’anno\, versare una quota di 15€ d’iscrizione per il 2017 all’’Associazione Pian dei Ciliegi di cui siamo ospiti. \nL’Associazione Essere Pace sostiene economicamente i partecipanti alla giornata di consapevolezza con una quota di 15€ inviando una richiesta tramite mail a: associazione@esserepace.org o compilando il form “Contattaci” a piè pagina della HomePage “http://www.esserepace.org/” \nInformazioni e prenotazioni\nPer le iscrizioni potete scrivere a hammamijihed@libero.it. \nNella mail scriviamo se siamo nuovi alla pratica o pratichiamo già in un sangha\, l’età\, la città di provenienza\, il numero di telefono e se abbiamo la volontà di condividere il viaggio con altre persone. \nDall’anno in corso Pian dei Ciliegi ha cambiato la procedura di partecipazione agli incontri in calendario. L’iscrizione sarà on-line\, tramite il sito www.piandeiciliegi.it dove troverete tutte le informazioni nella sezione “i nostri ritiri” poi “come iscriversi”.\nPotete però già eseguire i due passaggi preliminari: registrazione al sito e ammissione all’associazione (informazioni dettagliate sulla home page del sito). che prevede la preventiva iscrizione a socio della “Associazione Pian dei Ciliegi” seguendo le indicazioni di seguito riportate: \n• registrarsi al sito piandeiciliegi.it\, (se non si è già registrati); \n• accedere al sito con il proprio username e la propria password; \n• nella pagina Home\, sotto la copertina\, troverete sulla destra (nel riquadro Menu utente) il pulsante Modulo di ammissione; \n• Premendolo si attiva la procedura di ammissione che è da seguire fino alla fine. \nLe disdette vanno comunicate AL MASSIMO ENTRO GIOVEDI’ POMERIGGIO DIRETTAMENTE ALL’INCARICATO DELLE ISCRIZIONI. SE NON SARA’ POSSIBILE TROVARE SUBITO UN SOSTITUTO O SE NON ESISTE LISTA D’ATTESA\, SIAMO PREGATI DI VERSARE COMUNQUE LA CIFRA DI 35 EURO SUL CONTO CORRENTE N. 30332556 (ABI 06230 – CAB 65420) IBAN IT 58 O 06230 65420 000030332556 intestato ad Associazione Pian dei Ciliegi c/o Cariparma e Piacenza – Ag. Ponte dell’Olio. \nUn inchino e un sorriso\nSangha Wake Up
URL:https://www.interessere.it/evento/la-continuazione-thay/
ORGANIZER;CN="Jihed":MAILTO:hammamijihed@libero.it
END:VEVENT
END:VCALENDAR