BEGIN:VCALENDAR
VERSION:2.0
PRODID:-//Comunit&agrave; italiana dell'interessere - ECPv6.15.20//NONSGML v1.0//EN
CALSCALE:GREGORIAN
METHOD:PUBLISH
X-ORIGINAL-URL:https://www.interessere.it
X-WR-CALDESC:Eventi per Comunit&agrave; italiana dell'interessere
REFRESH-INTERVAL;VALUE=DURATION:PT1H
X-Robots-Tag:noindex
X-PUBLISHED-TTL:PT1H
BEGIN:VTIMEZONE
TZID:Europe/Rome
BEGIN:DAYLIGHT
TZOFFSETFROM:+0100
TZOFFSETTO:+0200
TZNAME:CEST
DTSTART:20160327T010000
END:DAYLIGHT
BEGIN:STANDARD
TZOFFSETFROM:+0200
TZOFFSETTO:+0100
TZNAME:CET
DTSTART:20161030T010000
END:STANDARD
BEGIN:DAYLIGHT
TZOFFSETFROM:+0100
TZOFFSETTO:+0200
TZNAME:CEST
DTSTART:20170326T010000
END:DAYLIGHT
BEGIN:STANDARD
TZOFFSETFROM:+0200
TZOFFSETTO:+0100
TZNAME:CET
DTSTART:20171029T010000
END:STANDARD
BEGIN:DAYLIGHT
TZOFFSETFROM:+0100
TZOFFSETTO:+0200
TZNAME:CEST
DTSTART:20180325T010000
END:DAYLIGHT
BEGIN:STANDARD
TZOFFSETFROM:+0200
TZOFFSETTO:+0100
TZNAME:CET
DTSTART:20181028T010000
END:STANDARD
END:VTIMEZONE
BEGIN:VEVENT
DTSTART;VALUE=DATE:20171201
DTEND;VALUE=DATE:20171204
DTSTAMP:20260423T192703
CREATED:20171130T165953Z
LAST-MODIFIED:20171130T171544Z
UID:10000003-1512086400-1512345599@www.interessere.it
SUMMARY:L'energia della salute e della guarigione\, Laboratorio con  Adriana Rocco
DESCRIPTION:Laboratorio con Adriana Rocco \nYOGA E BUDDHISMO ZEN   \nIl Corpo che Medita \n“Nella mia esperienza  il campo dello Yoga e del Buddhismo Zen è la vita quotidiana. Scopo della pratica è la trasformazione del nostro modo ordinario di vedere\, sentire\, pensare e agire – troppo spesso  ripetitivo\,  reattivo\, causa di disagio a noi stessi e agli altri – così da risanare  il nostro  contatto con la Vita ad ogni passo.” \nAdriana Rocco (Sociologia\, Trento 1973) condivide oggi il suo cammino  con “Il Corpo che Medita”\, scuola itinerante di Yoga e Buddhismo Zen per la guarigione di sé e della relazione con gli altri. “Il Corpo che Medita” coniuga la scienza del Corpo-Mente codificata da Patanjali negli Yoga Sutra a lei trasmessa direttamente da T.K.V.Desikachar (Chennai\, India\, 1978-2004) nel corso di una relazione trentennale maestro-discepolo\, e gli insegnamenti del Buddhismo Impegnato di Thich Nhat Hanh nel cui lignaggio é Dharmacharya (Plum Village\, 2004). \n– venerdi 1 dicembre ore 19-21\n– sabato 2 dicembre  ore 10-18\n– domenica 3 dicembre ore 10-13 \ncosto: 80 euro \npresso: A.S.D.Yantra – via Ruggiero Mastrangelo 7\, Palermo\nper info e iscrizioni: Milena 328 8616532 milenabenfante@libero.it
URL:https://www.interessere.it/evento/lenergia-della-salute-della-guarigione/
LOCATION:A.S.D. Yantra\, via Ruggiero Mastrangelo 7\, Palermo\, Palermo\, Italia
ORGANIZER;CN="Milena":MAILTO:milenabenfante@libero.it
END:VEVENT
END:VCALENDAR