BEGIN:VCALENDAR
VERSION:2.0
PRODID:-//Comunit&agrave; italiana dell'interessere - ECPv6.15.20//NONSGML v1.0//EN
CALSCALE:GREGORIAN
METHOD:PUBLISH
X-ORIGINAL-URL:https://www.interessere.it
X-WR-CALDESC:Eventi per Comunit&agrave; italiana dell'interessere
REFRESH-INTERVAL;VALUE=DURATION:PT1H
X-Robots-Tag:noindex
X-PUBLISHED-TTL:PT1H
BEGIN:VTIMEZONE
TZID:Europe/Rome
BEGIN:DAYLIGHT
TZOFFSETFROM:+0100
TZOFFSETTO:+0200
TZNAME:CEST
DTSTART:20240331T010000
END:DAYLIGHT
BEGIN:STANDARD
TZOFFSETFROM:+0200
TZOFFSETTO:+0100
TZNAME:CET
DTSTART:20241027T010000
END:STANDARD
BEGIN:DAYLIGHT
TZOFFSETFROM:+0100
TZOFFSETTO:+0200
TZNAME:CEST
DTSTART:20250330T010000
END:DAYLIGHT
BEGIN:STANDARD
TZOFFSETFROM:+0200
TZOFFSETTO:+0100
TZNAME:CET
DTSTART:20251026T010000
END:STANDARD
BEGIN:DAYLIGHT
TZOFFSETFROM:+0100
TZOFFSETTO:+0200
TZNAME:CEST
DTSTART:20260329T010000
END:DAYLIGHT
BEGIN:STANDARD
TZOFFSETFROM:+0200
TZOFFSETTO:+0100
TZNAME:CET
DTSTART:20261025T010000
END:STANDARD
END:VTIMEZONE
BEGIN:VEVENT
DTSTART;TZID=Europe/Rome:20251203T183000
DTEND;TZID=Europe/Rome:20251203T195000
DTSTAMP:20260422T122955
CREATED:20251003T090352Z
LAST-MODIFIED:20251006T170917Z
UID:10000676-1764786600-1764791400@www.interessere.it
SUMMARY:“La Musica del Respiro”
DESCRIPTION:Ci sono tante sensazioni\, tante\n\nformazioni mentali\, che cercano di manifestarsi allo stesso tempo. \nE non c’è serenità in te.\nE proprio in questi momenti\, la cosa migliore da fare è suonare.\nE così dici:\nAscoltate tutti\, avrete la possibilità\ndi esprimervi\, ma ora ascoltiamo un po’ di musica.\nE inizi a suonare la musica del respiro consapevole:\nInspiro ed espiro. Sono arrivato sono a casa. Qui ed ora.\nSuoni\, hai la musica con te.\n(Thich Nhat Hanh)\n\n\n\n\n\n15 ottobre – 3 dicembre\n\n\n\nh 18:30 – 19:50\n\n\nPercorso ONLINE di 8 mercoledì su Zoom:\nhttps://us02web.zoom.us/j/6100196304?pwd=OW1xSUxpNURpVHJjSXhhWitYSi85Zz09 \n\nID riunione: 610 019 6304\nPasscode: 3VYgVh
URL:https://www.interessere.it/evento/la-musica-del-respiro-15-ottobre-3-dicembre-8-incontri-on-line-con-fratello-phap-ban/2025-12-03/
LOCATION:Online\, Online
CATEGORIES:Evento online
ATTACH;FMTTYPE=image/jpeg:https://www.interessere.it/wp-content/uploads/2025/10/IMG_3147.jpeg
END:VEVENT
BEGIN:VEVENT
DTSTART;TZID=Europe/Rome:20251126T183000
DTEND;TZID=Europe/Rome:20251126T195000
DTSTAMP:20260422T122955
CREATED:20251003T090352Z
LAST-MODIFIED:20251006T170917Z
UID:10000675-1764181800-1764186600@www.interessere.it
SUMMARY:“La Musica del Respiro”
DESCRIPTION:Ci sono tante sensazioni\, tante\n\nformazioni mentali\, che cercano di manifestarsi allo stesso tempo. \nE non c’è serenità in te.\nE proprio in questi momenti\, la cosa migliore da fare è suonare.\nE così dici:\nAscoltate tutti\, avrete la possibilità\ndi esprimervi\, ma ora ascoltiamo un po’ di musica.\nE inizi a suonare la musica del respiro consapevole:\nInspiro ed espiro. Sono arrivato sono a casa. Qui ed ora.\nSuoni\, hai la musica con te.\n(Thich Nhat Hanh)\n\n\n\n\n\n15 ottobre – 3 dicembre\n\n\n\nh 18:30 – 19:50\n\n\nPercorso ONLINE di 8 mercoledì su Zoom:\nhttps://us02web.zoom.us/j/6100196304?pwd=OW1xSUxpNURpVHJjSXhhWitYSi85Zz09 \n\nID riunione: 610 019 6304\nPasscode: 3VYgVh
URL:https://www.interessere.it/evento/la-musica-del-respiro-15-ottobre-3-dicembre-8-incontri-on-line-con-fratello-phap-ban/2025-11-26/
LOCATION:Online\, Online
CATEGORIES:Evento online
ATTACH;FMTTYPE=image/jpeg:https://www.interessere.it/wp-content/uploads/2025/10/IMG_3147.jpeg
END:VEVENT
BEGIN:VEVENT
DTSTART;TZID=Europe/Rome:20251119T183000
DTEND;TZID=Europe/Rome:20251119T195000
DTSTAMP:20260422T122955
CREATED:20251003T090352Z
LAST-MODIFIED:20251006T170917Z
UID:10000674-1763577000-1763581800@www.interessere.it
SUMMARY:“La Musica del Respiro”
DESCRIPTION:Ci sono tante sensazioni\, tante\n\nformazioni mentali\, che cercano di manifestarsi allo stesso tempo. \nE non c’è serenità in te.\nE proprio in questi momenti\, la cosa migliore da fare è suonare.\nE così dici:\nAscoltate tutti\, avrete la possibilità\ndi esprimervi\, ma ora ascoltiamo un po’ di musica.\nE inizi a suonare la musica del respiro consapevole:\nInspiro ed espiro. Sono arrivato sono a casa. Qui ed ora.\nSuoni\, hai la musica con te.\n(Thich Nhat Hanh)\n\n\n\n\n\n15 ottobre – 3 dicembre\n\n\n\nh 18:30 – 19:50\n\n\nPercorso ONLINE di 8 mercoledì su Zoom:\nhttps://us02web.zoom.us/j/6100196304?pwd=OW1xSUxpNURpVHJjSXhhWitYSi85Zz09 \n\nID riunione: 610 019 6304\nPasscode: 3VYgVh
URL:https://www.interessere.it/evento/la-musica-del-respiro-15-ottobre-3-dicembre-8-incontri-on-line-con-fratello-phap-ban/2025-11-19/
LOCATION:Online\, Online
CATEGORIES:Evento online
ATTACH;FMTTYPE=image/jpeg:https://www.interessere.it/wp-content/uploads/2025/10/IMG_3147.jpeg
END:VEVENT
BEGIN:VEVENT
DTSTART;TZID=Europe/Rome:20251112T183000
DTEND;TZID=Europe/Rome:20251112T195000
DTSTAMP:20260422T122955
CREATED:20251003T090352Z
LAST-MODIFIED:20251006T170917Z
UID:10000673-1762972200-1762977000@www.interessere.it
SUMMARY:“La Musica del Respiro”
DESCRIPTION:Ci sono tante sensazioni\, tante\n\nformazioni mentali\, che cercano di manifestarsi allo stesso tempo. \nE non c’è serenità in te.\nE proprio in questi momenti\, la cosa migliore da fare è suonare.\nE così dici:\nAscoltate tutti\, avrete la possibilità\ndi esprimervi\, ma ora ascoltiamo un po’ di musica.\nE inizi a suonare la musica del respiro consapevole:\nInspiro ed espiro. Sono arrivato sono a casa. Qui ed ora.\nSuoni\, hai la musica con te.\n(Thich Nhat Hanh)\n\n\n\n\n\n15 ottobre – 3 dicembre\n\n\n\nh 18:30 – 19:50\n\n\nPercorso ONLINE di 8 mercoledì su Zoom:\nhttps://us02web.zoom.us/j/6100196304?pwd=OW1xSUxpNURpVHJjSXhhWitYSi85Zz09 \n\nID riunione: 610 019 6304\nPasscode: 3VYgVh
URL:https://www.interessere.it/evento/la-musica-del-respiro-15-ottobre-3-dicembre-8-incontri-on-line-con-fratello-phap-ban/2025-11-12/
LOCATION:Online\, Online
CATEGORIES:Evento online
ATTACH;FMTTYPE=image/jpeg:https://www.interessere.it/wp-content/uploads/2025/10/IMG_3147.jpeg
END:VEVENT
BEGIN:VEVENT
DTSTART;TZID=Europe/Rome:20251105T183000
DTEND;TZID=Europe/Rome:20251105T195000
DTSTAMP:20260422T122955
CREATED:20251003T090352Z
LAST-MODIFIED:20251006T170917Z
UID:10000672-1762367400-1762372200@www.interessere.it
SUMMARY:“La Musica del Respiro”
DESCRIPTION:Ci sono tante sensazioni\, tante\n\nformazioni mentali\, che cercano di manifestarsi allo stesso tempo. \nE non c’è serenità in te.\nE proprio in questi momenti\, la cosa migliore da fare è suonare.\nE così dici:\nAscoltate tutti\, avrete la possibilità\ndi esprimervi\, ma ora ascoltiamo un po’ di musica.\nE inizi a suonare la musica del respiro consapevole:\nInspiro ed espiro. Sono arrivato sono a casa. Qui ed ora.\nSuoni\, hai la musica con te.\n(Thich Nhat Hanh)\n\n\n\n\n\n15 ottobre – 3 dicembre\n\n\n\nh 18:30 – 19:50\n\n\nPercorso ONLINE di 8 mercoledì su Zoom:\nhttps://us02web.zoom.us/j/6100196304?pwd=OW1xSUxpNURpVHJjSXhhWitYSi85Zz09 \n\nID riunione: 610 019 6304\nPasscode: 3VYgVh
URL:https://www.interessere.it/evento/la-musica-del-respiro-15-ottobre-3-dicembre-8-incontri-on-line-con-fratello-phap-ban/2025-11-05/
LOCATION:Online\, Online
CATEGORIES:Evento online
ATTACH;FMTTYPE=image/jpeg:https://www.interessere.it/wp-content/uploads/2025/10/IMG_3147.jpeg
END:VEVENT
BEGIN:VEVENT
DTSTART;TZID=Europe/Rome:20251029T183000
DTEND;TZID=Europe/Rome:20251029T195000
DTSTAMP:20260422T122955
CREATED:20251003T090352Z
LAST-MODIFIED:20251006T170917Z
UID:10000671-1761762600-1761767400@www.interessere.it
SUMMARY:“La Musica del Respiro”
DESCRIPTION:Ci sono tante sensazioni\, tante\n\nformazioni mentali\, che cercano di manifestarsi allo stesso tempo. \nE non c’è serenità in te.\nE proprio in questi momenti\, la cosa migliore da fare è suonare.\nE così dici:\nAscoltate tutti\, avrete la possibilità\ndi esprimervi\, ma ora ascoltiamo un po’ di musica.\nE inizi a suonare la musica del respiro consapevole:\nInspiro ed espiro. Sono arrivato sono a casa. Qui ed ora.\nSuoni\, hai la musica con te.\n(Thich Nhat Hanh)\n\n\n\n\n\n15 ottobre – 3 dicembre\n\n\n\nh 18:30 – 19:50\n\n\nPercorso ONLINE di 8 mercoledì su Zoom:\nhttps://us02web.zoom.us/j/6100196304?pwd=OW1xSUxpNURpVHJjSXhhWitYSi85Zz09 \n\nID riunione: 610 019 6304\nPasscode: 3VYgVh
URL:https://www.interessere.it/evento/la-musica-del-respiro-15-ottobre-3-dicembre-8-incontri-on-line-con-fratello-phap-ban/2025-10-29/
LOCATION:Online\, Online
CATEGORIES:Evento online
ATTACH;FMTTYPE=image/jpeg:https://www.interessere.it/wp-content/uploads/2025/10/IMG_3147.jpeg
END:VEVENT
BEGIN:VEVENT
DTSTART;TZID=Europe/Rome:20251022T183000
DTEND;TZID=Europe/Rome:20251022T195000
DTSTAMP:20260422T122955
CREATED:20251003T090352Z
LAST-MODIFIED:20251006T170917Z
UID:10000670-1761157800-1761162600@www.interessere.it
SUMMARY:“La Musica del Respiro”
DESCRIPTION:Ci sono tante sensazioni\, tante\n\nformazioni mentali\, che cercano di manifestarsi allo stesso tempo. \nE non c’è serenità in te.\nE proprio in questi momenti\, la cosa migliore da fare è suonare.\nE così dici:\nAscoltate tutti\, avrete la possibilità\ndi esprimervi\, ma ora ascoltiamo un po’ di musica.\nE inizi a suonare la musica del respiro consapevole:\nInspiro ed espiro. Sono arrivato sono a casa. Qui ed ora.\nSuoni\, hai la musica con te.\n(Thich Nhat Hanh)\n\n\n\n\n\n15 ottobre – 3 dicembre\n\n\n\nh 18:30 – 19:50\n\n\nPercorso ONLINE di 8 mercoledì su Zoom:\nhttps://us02web.zoom.us/j/6100196304?pwd=OW1xSUxpNURpVHJjSXhhWitYSi85Zz09 \n\nID riunione: 610 019 6304\nPasscode: 3VYgVh
URL:https://www.interessere.it/evento/la-musica-del-respiro-15-ottobre-3-dicembre-8-incontri-on-line-con-fratello-phap-ban/2025-10-22/
LOCATION:Online\, Online
CATEGORIES:Evento online
ATTACH;FMTTYPE=image/jpeg:https://www.interessere.it/wp-content/uploads/2025/10/IMG_3147.jpeg
END:VEVENT
BEGIN:VEVENT
DTSTART;TZID=Europe/Rome:20251015T183000
DTEND;TZID=Europe/Rome:20251015T195000
DTSTAMP:20260422T122955
CREATED:20251003T090352Z
LAST-MODIFIED:20251006T170917Z
UID:10000669-1760553000-1760557800@www.interessere.it
SUMMARY:“La Musica del Respiro”
DESCRIPTION:Ci sono tante sensazioni\, tante\n\nformazioni mentali\, che cercano di manifestarsi allo stesso tempo. \nE non c’è serenità in te.\nE proprio in questi momenti\, la cosa migliore da fare è suonare.\nE così dici:\nAscoltate tutti\, avrete la possibilità\ndi esprimervi\, ma ora ascoltiamo un po’ di musica.\nE inizi a suonare la musica del respiro consapevole:\nInspiro ed espiro. Sono arrivato sono a casa. Qui ed ora.\nSuoni\, hai la musica con te.\n(Thich Nhat Hanh)\n\n\n\n\n\n15 ottobre – 3 dicembre\n\n\n\nh 18:30 – 19:50\n\n\nPercorso ONLINE di 8 mercoledì su Zoom:\nhttps://us02web.zoom.us/j/6100196304?pwd=OW1xSUxpNURpVHJjSXhhWitYSi85Zz09 \n\nID riunione: 610 019 6304\nPasscode: 3VYgVh
URL:https://www.interessere.it/evento/la-musica-del-respiro-15-ottobre-3-dicembre-8-incontri-on-line-con-fratello-phap-ban/2025-10-15/
LOCATION:Online\, Online
CATEGORIES:Evento online
ATTACH;FMTTYPE=image/jpeg:https://www.interessere.it/wp-content/uploads/2025/10/IMG_3147.jpeg
END:VEVENT
END:VCALENDAR