BEGIN:VCALENDAR
VERSION:2.0
PRODID:-//Comunit&agrave; italiana dell'interessere - ECPv6.15.20//NONSGML v1.0//EN
CALSCALE:GREGORIAN
METHOD:PUBLISH
X-WR-CALNAME:Comunit&agrave; italiana dell'interessere
X-ORIGINAL-URL:https://www.interessere.it
X-WR-CALDESC:Eventi per Comunit&agrave; italiana dell'interessere
REFRESH-INTERVAL;VALUE=DURATION:PT1H
X-Robots-Tag:noindex
X-PUBLISHED-TTL:PT1H
BEGIN:VTIMEZONE
TZID:Europe/Rome
BEGIN:DAYLIGHT
TZOFFSETFROM:+0100
TZOFFSETTO:+0200
TZNAME:CEST
DTSTART:20210328T010000
END:DAYLIGHT
BEGIN:STANDARD
TZOFFSETFROM:+0200
TZOFFSETTO:+0100
TZNAME:CET
DTSTART:20211031T010000
END:STANDARD
BEGIN:DAYLIGHT
TZOFFSETFROM:+0100
TZOFFSETTO:+0200
TZNAME:CEST
DTSTART:20220327T010000
END:DAYLIGHT
BEGIN:STANDARD
TZOFFSETFROM:+0200
TZOFFSETTO:+0100
TZNAME:CET
DTSTART:20221030T010000
END:STANDARD
BEGIN:DAYLIGHT
TZOFFSETFROM:+0100
TZOFFSETTO:+0200
TZNAME:CEST
DTSTART:20230326T010000
END:DAYLIGHT
BEGIN:STANDARD
TZOFFSETFROM:+0200
TZOFFSETTO:+0100
TZNAME:CET
DTSTART:20231029T010000
END:STANDARD
BEGIN:DAYLIGHT
TZOFFSETFROM:+0100
TZOFFSETTO:+0200
TZNAME:CEST
DTSTART:20240331T010000
END:DAYLIGHT
BEGIN:STANDARD
TZOFFSETFROM:+0200
TZOFFSETTO:+0100
TZNAME:CET
DTSTART:20241027T010000
END:STANDARD
END:VTIMEZONE
BEGIN:VEVENT
DTSTART;TZID=Europe/Rome:20230617T080000
DTEND;TZID=Europe/Rome:20230622T170000
DTSTAMP:20260423T102456
CREATED:20230601T165405Z
LAST-MODIFIED:20230613T160813Z
UID:10000239-1686988800-1687453200@www.interessere.it
SUMMARY:“17-22 giugno 2023\, “Amore è libertà” Ritiro della Terra. Online e tradotto in Italiano
DESCRIPTION:Dal 17 al 22 giugno\, 2023 \n“Amore è libertà” – Ritiro della Terra\n(“Love is Freedom” – Earth Retreat) \nRITIRO ONLINE TRADOTTO \nINTERAMENTE IN ITALIANO \n  \nCara comunità\, \ncirca una settimana fa è partito il prezioso ritiro online di Plum Village su lo “Zen e l’arte di salvare il pianeta”. E’ una meravigliosa occasione di pratica personale e di gruppo\, di profondo contatto e ascolto reciproco e della Natura. Come molti di voi sanno purtroppo il ritiro è tutto in inglese. \n  \nC’è però la possibilità di partecipare COMPLETAMENTE IN ITALIANO a parte di questo percorso iscrivendosi al ritiro online “Love is Freedom” – Earth Retreat (“Amore è libertà” – Ritiro della Terra) dal 17 al 22 giugno 2023. \nCi saranno interventi di monaci e laici tra cui: \nSister Chan Duc (“True Virtue”)\, Brother Phap Huu\, Sr. Luc Nghiem and Br. Phap Linh. \n  \nTutti i discorsi e le pratiche proposte saranno tradotte in italiano e ci sarà una famiglia italiana per le condivisioni in cui tutti noi potremmo più facilmente condividere nella nostra lingua natale. \nLa registrazione per iscriversi alla famiglia italiana sarà possibile solo entro il 10 di giugno. \n  \nPer iscrivervi potete selezionare il seguente link (in inglese). \nQui potete anche consultare la pagina informativa del ritiro (in inglese) \n  \nPer ulteriori informazioni potete scrivere in italiano direttamente alle seguenti mail: retreats@earthholder.org oppure Niemxa@plumvillage.org \nSe avete difficoltà potete contattare Silvio a: demagistris.silvio@gmail.com \n  \nLa parte italiana sarà supportata da Phap Ban\, dai monaci italiani di Plum Village\, e da Graziella\, Mario e Silvio. \nUn abbraccio e vi aspettiamo online. \n 
URL:https://www.interessere.it/evento/17-22-giugno-2023-amore-e-liberta-ritiro-della-terra-online-e-tradotto-in-italiano/
LOCATION:Online\, Online
ATTACH;FMTTYPE=image/jpeg:https://www.interessere.it/wp-content/uploads/2023/06/Amore.jpeg
END:VEVENT
BEGIN:VEVENT
DTSTART;TZID=Europe/Rome:20220313T093000
DTEND;TZID=Europe/Rome:20220313T210000
DTSTAMP:20260423T102456
CREATED:20220312T164308Z
LAST-MODIFIED:20220312T164308Z
UID:10000094-1647163800-1647205200@www.interessere.it
SUMMARY:Domenica 13 marzo da Plum Village: Insegnamento di Sr. Chan Duc (Annabel) e Celebrazione della vita di Thây con Musica e Poesia
DESCRIPTION:Abbiamo ricevuto oggi da Plum Village come comunità di pratica italiana il regalo di poterci unire domani liberamente a due delle attività del ritiro online in corso “Venire e Andare nella Libertà”: \nOre 9.30: Insegnamento di Sr Chan Duc (Annabel)\nIn questo discorso\, esploreremo l’insegnamento di Thây su come le nostre azioni di corpo\, parola e mente ci accompagnano attraverso lo spazio e il tempo. Impareremo i profondi insegnamenti buddhisti sul nostro interessere con l’intero cosmo e la vera natura della realtà\, come introdotto da Thây nel suo libro The Art of Living (2017). \nOre 20.00: Celebrazione della vita di Thây con Musica e Poesia\nA conclusione delle cerimonie di questi ultimi giorni potremo godere di un tempo in cui celebrare gioiosamente insieme la vita di Thây attraverso il canto e la poesia. \nVerrà offerta la traduzione in italiano di entrambi gli eventi.\nIl link per collegarci ai due incontri è lo stesso: \nhttps://plumvillage.zoom.us/j/97942238768?pwd=ZUprRmlVNEZWVU9jeWVOUExTK0swdz09 \noppure \nID: 979 4223 8768\nPassword: freedom
URL:https://www.interessere.it/evento/domenica-13-marzo-da-plum-village-insegnamento-di-sr-chan-duc-annabel-e-celebrazione-della-vita-di-thay-con-musica-e-poesia/
LOCATION:Online\, Online
ATTACH;FMTTYPE=image/jpeg:https://www.interessere.it/wp-content/uploads/2022/03/monastics-sanghati-hug.jpeg
END:VEVENT
BEGIN:VEVENT
DTSTART;TZID=Europe/Rome:20220312T150000
DTEND;TZID=Europe/Rome:20220312T170000
DTSTAMP:20260423T102456
CREATED:20220311T151019Z
LAST-MODIFIED:20220312T102905Z
UID:10000093-1647097200-1647104400@www.interessere.it
SUMMARY:Plum Village\, (anticipo a) sabato 12 marzo 2022 ore 15.00: Ritorno all'abbraccio della Madre Terra
DESCRIPTION:Sabato 12 marzo 2022\nOre 15.00\nRitorno all’abbraccio della Madre Terra \nSeguiamo\, insieme alla comunità internazionale\, il leggendario momento in cui le ceneri di Thich Nhat Hanh saranno portate formalmente dalla sua capanna\, dove sono arrivate qualche giorno fa e sono ora custodite\, al suo altare nella Sala di Meditazione “Still Water” di Upper Hamlet\, seguito da una cerimonia completa\, e poi da una meditazione camminata nella quale come comunità raggiungeremo il luogo preferito di Thây sulla Collina del Buddha\, dove le sue ceneri saranno restituite alla Terra. \nQuesta cerimonia\, inizialmente prevista per domenica mattina\, è stata anticipata a sabato pomeriggio a causa delle avverse previsioni meteo per domenica. La Cerimonia sarà trasmessa in streaming in inglese in due parti sul canale YouTube di Plum Village. \nore 15: Processione & Ceremonia di invito della ceneri di Thây: https://www.youtube.com/watch?v=MD6hChaW020 \nore 16.30 (circa): Meditazione camminata e dispersione delle ceneri di Thây: https://www.youtube.com/watch?v=Xgzr6LnFFM4 \nSuggeriamo a chi conosce l’inglese di seguire la Cerimonia grazie a questi due link YouTube. Per chi non conosce l’inglese trasmetteremo la Cerimonia con traduzione in italiano su Zoom a partire dalle immagini video che riceveremo tramite questi due link YouTube. La qualità video potrebbe non essere identica all’originale\, ma sul canale Zoom sarà possibile offrire la traduzione in italiano. Questo il link per chi desidera seguire l’evento con traduzione in italiano: \nhttps://zoom.us/j/98455882814?pwd=VlB3SnVUZ01qSUg0aS9DcG13L1RNUT09 \noppure \nID: 984 5588 2814\npassword: 111026 \n 
URL:https://www.interessere.it/evento/plum-village-anticipo-a-sabato-12-marzo-2022-ore-15-00-ritorno-allabbraccio-della-madre-terra/
LOCATION:Online\, Online
ATTACH;FMTTYPE=image/jpeg:https://www.interessere.it/wp-content/uploads/2022/03/maxresdefault.jpg
END:VEVENT
END:VCALENDAR