BEGIN:VCALENDAR
VERSION:2.0
PRODID:-//Comunit&agrave; italiana dell'interessere - ECPv6.15.20//NONSGML v1.0//EN
CALSCALE:GREGORIAN
METHOD:PUBLISH
X-ORIGINAL-URL:https://www.interessere.it
X-WR-CALDESC:Eventi per Comunit&agrave; italiana dell'interessere
REFRESH-INTERVAL;VALUE=DURATION:PT1H
X-Robots-Tag:noindex
X-PUBLISHED-TTL:PT1H
BEGIN:VTIMEZONE
TZID:Europe/Rome
BEGIN:DAYLIGHT
TZOFFSETFROM:+0100
TZOFFSETTO:+0200
TZNAME:CEST
DTSTART:20210328T010000
END:DAYLIGHT
BEGIN:STANDARD
TZOFFSETFROM:+0200
TZOFFSETTO:+0100
TZNAME:CET
DTSTART:20211031T010000
END:STANDARD
BEGIN:DAYLIGHT
TZOFFSETFROM:+0100
TZOFFSETTO:+0200
TZNAME:CEST
DTSTART:20220327T010000
END:DAYLIGHT
BEGIN:STANDARD
TZOFFSETFROM:+0200
TZOFFSETTO:+0100
TZNAME:CET
DTSTART:20221030T010000
END:STANDARD
BEGIN:DAYLIGHT
TZOFFSETFROM:+0100
TZOFFSETTO:+0200
TZNAME:CEST
DTSTART:20230326T010000
END:DAYLIGHT
BEGIN:STANDARD
TZOFFSETFROM:+0200
TZOFFSETTO:+0100
TZNAME:CET
DTSTART:20231029T010000
END:STANDARD
BEGIN:DAYLIGHT
TZOFFSETFROM:+0100
TZOFFSETTO:+0200
TZNAME:CEST
DTSTART:20240331T010000
END:DAYLIGHT
BEGIN:STANDARD
TZOFFSETFROM:+0200
TZOFFSETTO:+0100
TZNAME:CET
DTSTART:20241027T010000
END:STANDARD
BEGIN:DAYLIGHT
TZOFFSETFROM:+0100
TZOFFSETTO:+0200
TZNAME:CEST
DTSTART:20250330T010000
END:DAYLIGHT
BEGIN:STANDARD
TZOFFSETFROM:+0200
TZOFFSETTO:+0100
TZNAME:CET
DTSTART:20251026T010000
END:STANDARD
BEGIN:DAYLIGHT
TZOFFSETFROM:+0100
TZOFFSETTO:+0200
TZNAME:CEST
DTSTART:20260329T010000
END:DAYLIGHT
BEGIN:STANDARD
TZOFFSETFROM:+0200
TZOFFSETTO:+0100
TZNAME:CET
DTSTART:20261025T010000
END:STANDARD
END:VTIMEZONE
BEGIN:VEVENT
DTSTART;TZID=Europe/Rome:20250522T190000
DTEND;TZID=Europe/Rome:20250525T183000
DTSTAMP:20260422T110043
CREATED:20250306T211825Z
LAST-MODIFIED:20250306T211828Z
UID:10000560-1747940400-1748197800@www.interessere.it
SUMMARY:LA PRATICA DELLA NON PAURA
DESCRIPTION:La via per la vera pace e felicità\nRitiro di consapevolezza con i monaci e le monache dell’EIAB \n“Quando lasciamo andare i concetti di un “sé” separato e le percezioni erronee\, smettiamo di avere paura. Senza l’assenza di paura il sollievo dalla sofferenza non è completo. […] Solo quando non c’è alcuna paura possono esserci vera pace e felicità.” \nThich Nhat Han – “L’altra riva del fiume” \nLa nostra vita quotidiana è spesso segnata da ansie e paure di ogni genere\, da quelle che derivano da quello che succede nel mondo e che sembrano minacciare il futuro stesso dell’umanità e del pianeta\, alle paure legate alle situazioni concrete che dobbiamo affrontare personalmente\, come la malattia nostra o di una persona cara\, a quelle più profonde e a volte nascoste\, come la paura della vecchiaia\, della morte e della perdita di ciò che ci è caro. Tutte queste ansie e paure possono sembrarci insostenibili e farci perdere la speranza\, rendendo sempre più difficile e faticosa la nostra vita. Il Buddha ci ha insegnato a fare amicizia con queste paure e a trasformarle attraverso la pratica della consapevolezza e dell’osservazione profonda\, che ci conducono alla piena comprensione della natura della realtà. \nCi accompagneranno in questo percorso i nostri amati maestri Thay Phap An e Sister Song Nghiem che\, insieme ad altre sorelle dell’Istituto di Buddhismo Applicato\, avremo anche quest’anno il piacere di ospitare in Puglia per un ritiro intensivo di meditazione. \nIl ritiro si svolgerà presso il Trullo dell’Immacolata\, sito in Viale Panoramico 2\, 72015 Selva di Fasano (BR) (www.trullo-dell-immacolata.it)\, con inizio giovedì 22 maggio alle ore 19.00 (cena) e conclusione domenica 25 maggio alle ore 18.30. I partecipanti sono invitati ad arrivare al Centro dalle ore 15.30 alle ore 17:30\, in modo da poter effettuare la registrazione e sistemare le proprie cose nelle stanze. \nIl programma prevede sessioni di meditazione seduta e camminata\, meditazioni camminate all’aperto\, insegnamenti tenuti dai monaci\, condivisioni di gruppo e altre pratiche di consapevolezza. \nÈ necessario che ciascun ospite porti con sé: \n\nun plaid per coprirsi durante le pratiche;\nun cuscino per la meditazione (oppure un panchetto);\nuna stuoia o tappetino da mettere a terra sotto il cuscino per la meditazione;\nscarpe e vestiario comodi per la pratica e le camminate.\n\nIl costo delle sistemazioni in pensione completa\, comprensivo del contributo per i monaci\, è il seguente: \n\ncamera singola = 300€\nposto in camera doppia = 250€\nposto in camera tripla = 225€\n\nLe quote suddette si intendono a persona per tre notti e includono la colazione\, il pranzo e la cena (cucina vegetariana per tutti). La tassa di soggiorno è da versare in loco. \nChi desideri fortemente partecipare al ritiro ma è in condizioni di difficoltà economica è pregato di contattare l’organizzazione scrivendo a ritiromonacieiab@virgilio.it. \nNota: la disponibilità di stanze singole è molto limitata\, per cui invitiamo i partecipanti a selezionare questa opzione solo se strettamente necessaria. \nIscrizioni \nPer pre-iscriversi al ritiro inviare una e-mail a ritiromonacieiab@virgilio.it \nentro il 20 aprile\, fornendo le seguenti informazioni: \n\nNome e cognome\nData di nascita\nLuogo di residenza\nTipo di stanza (singola/doppia/tripla)\nVorrei condividere la stanza con …\nContatto telefonico\nOrario previsto di arrivo al Centro\nHai già partecipato ad altri ritiri di consapevolezza?\nRichieste ed esigenze particolari\n\nSuccessivamente verrà richiesto il versamento di una caparra di 100€\, non restituibile nel caso di rinuncia al ritiro\, secondo le modalità indicate nella email di risposta. Solo alla conferma di avvenuto versamento della caparra verrà inviata conferma email dell’avvenuta iscrizione al ritiro.
URL:https://www.interessere.it/evento/la-pratica-della-non-paura/
LOCATION:Trullo dell’Immacolata\, Viale Panoramico 2\, Selva di Fasano\, 72015
CATEGORIES:Ritiro
ATTACH;FMTTYPE=image/jpeg:https://www.interessere.it/wp-content/uploads/2025/03/nofear_lr-scaled.jpg
ORGANIZER;CN="Sangha dei Trulli (Conversano) e Sangha Bari":MAILTO:pinocreanza@alice.it
END:VEVENT
BEGIN:VEVENT
DTSTART;TZID=Europe/Rome:20240606T183000
DTEND;TZID=Europe/Rome:20240609T183000
DTSTAMP:20260422T110043
CREATED:20240329T094441Z
LAST-MODIFIED:20240329T094441Z
UID:10000379-1717698600-1717957800@www.interessere.it
SUMMARY:COME QUERCE NELLA TEMPESTA\, Coltivare gioia e stabilità in tempi difficili\, Ritiro di consapevolezza con i monaci e le monache dell’EIAB\, 6/9 giugno 2024 – Selva di Fasano (BR)
DESCRIPTION:COME QUERCE NELLA TEMPESTA \nColtivare gioia e stabilità in tempi difficili \nRitiro di consapevolezza con i monaci e le monache dell’EIAB \nLe vite di tutti noi sono scosse da una prolungata esposizione ad eventi e situazioni realmente difficili e complesse – dalla pandemia di qualche anno fa alle guerre in Ucraina e a Gaza fino agli effetti sempre più evidenti del  cambiamento climatico -\, che sfidano la nostra capacità di restare aperti e disponibili verso la vita che ci circonda\, minando la nostra stabilità e la nostra gioia. Avremo durante il ritiro l’occasione di esplorare insieme i modi concreti con cui la pratica del Dharma ci può aiutare a coltivare stabilità\, apertura e gioia\, i meravigliosi frutti della comprensione profonda e della compassione. \nCi accompagneranno in questo percorso i nostri amati maestri Thay Phap An e Sister Song Nghiem che\, insieme ad altre sorelle dell’Istituto di Buddhismo Applicato\, avremo anche quest’anno il piacere di ospitare in Puglia per un ritiro intensivo di meditazione. \nIl ritiro si svolgerà presso il Trullo dell’Immacolata\, sito in Viale Panoramico 2\, 72015 Selva di Fasano (BR) (www.trullo-dell-immacolata.it)\, con inizio giovedì 6 giugno 2024 alle ore 19.00 (cena) e conclusione domenica 9 giugno alle ore 18.30. I partecipanti sono invitati ad arrivare al Centro dalle ore 15.30 alle ore 17:30\, in modo da poter effettuare la registrazione e sistemare le proprie cose nelle stanze. \nIl programma prevede sessioni di meditazione seduta e camminata\, meditazioni camminate all’aperto\, insegnamenti tenuti dai monaci\, condivisioni di gruppo e altre pratiche di consapevolezza. \nÈ necessario che ciascun ospite porti con sé: \n\nun plaid per coprirsi durante le pratiche;\nun cuscino per la meditazione (oppure un panchetto);\nuna stuoia o tappetino da mettere a terra sotto il cuscino per la meditazione;\nvestiario comodo per la pratica e le camminate.\n\nIl costo delle sistemazioni in pensione completa\, comprensivo del contributo per i monaci\, è il seguente: \n\ncamera singola = 300€\nposto in camera doppia = 240€\nposto in camera tripla = 220€\n\nLe quote suddette si intendono a persona per tre notti e includono la colazione\, il pranzo e la cena (cucina vegetariana per tutti). La tassa di soggiorno è da versare in loco. \nChi desideri fortemente partecipare al ritiro ma è in condizioni di difficoltà economica è pregato di contattare l’organizzazione scrivendo a ritiromonacieiab@virgilio.it. \nNota: la disponibilità di stanze singole è molto limitata\, per cui invitiamo i partecipanti a selezionare questa opzione solo se strettamente necessaria. \nPer pre-iscriversi al ritiro inviare una e-mail a ritiromonacieiab@virgilio.it\, fornendo le seguenti informazioni: \n\nNome e cognome\nData di nascita\nLuogo di residenza\nTipo di stanza (singola/doppia/tripla)\nVorrei condividere la stanza con …\nContatto telefonico\nOrario previsto di arrivo al Centro\nHai già partecipato ad altri ritiri di consapevolezza?\nRichieste ed esigenze particolari\n\nSuccessivamente verrà richiesto il versamento di una caparra di 60€\, non restituibile nel caso di rinuncia al ritiro\, secondo le modalità indicate nella email di risposta. Solo alla conferma di avvenuto versamento della caparra verrà inviata conferma email dell’avvenuta iscrizione al ritiro.
URL:https://www.interessere.it/evento/come-querce-nella-tempesta-coltivare-gioia-e-stabilita-in-tempi-difficili-ritiro-di-consapevolezza-con-i-monaci-e-le-monache-delleiab-6-9-giugno-2024-selva-di-fasano-br/
LOCATION:Trullo dell’Immacolata\, Viale Panoramico 2\, Selva di Fasano\, 72015
ATTACH;FMTTYPE=image/jpeg:https://www.interessere.it/wp-content/uploads/2024/03/phapan.jpg
ORGANIZER;CN="Sangha dei Trulli (Conversano) e Sangha Bari":MAILTO:pinocreanza@alice.it
END:VEVENT
BEGIN:VEVENT
DTSTART;TZID=Europe/Rome:20230511T183000
DTEND;TZID=Europe/Rome:20230514T183000
DTSTAMP:20260422T110043
CREATED:20230313T205748Z
LAST-MODIFIED:20230407T134225Z
UID:10000133-1683829800-1684089000@www.interessere.it
SUMMARY:"Aprirsi alla vita"\, Ritiro di consapevolezza con i monaci e le monache dell’EIAB: Selva di Fasano (BR)\, 11 - 14 maggio 2023
DESCRIPTION:Selva di Fasano (BR)\, 11 – 14 maggio 2023\n“Aprirsi alla vita”\nRitiro di consapevolezza\ncon i monaci e le monache dell’EIAB \n  \nAnche quest’anno avremo il piacere e la gioia di poter ospitare in Puglia\, per un ritiro intensivo di meditazione\, brother Phap An\, sister Song Nghiem e gli altri fratelli e sorelle dell’Istituto Europeo di Buddhismo Applicato\, fondato da Thich Nhat Hanh. \n  \nIl ritiro si svolgerà presso la Casa per Ferie “Trullo dell’Immacolata”\, sita in Viale Panoramico\, 2\, 72015 Selva di Fasano (BR)\, con inizio giovedì 11 maggio 2023 alle ore 18.30 (cena) e conclusione domenica 14 maggio alle ore 18.30. Il programma prevede sessioni di meditazione seduta e camminata\, meditazioni camminate all’aperto\, insegnamenti tenuti dai monaci\, condivisioni di gruppo e altre pratiche di consapevolezza. \n  \nI partecipanti sono invitati ad arrivare al Centro dalle ore 15.30 alle ore 17:00 di giovedì 11 maggio\, in modo da poter effettuare la registrazione e sistemare le proprie cose nelle stanze. La struttura non mette a disposizione cuscini\, stuoie\, sottocuscini o panchetti per la meditazione\, per cui chi prevede di utilizzarli è pregato di portarli con sè. Consigliamo anche di portare un plaid per coprirsi durante le sessioni di rilassamento profondo\, ciabatte da utilizzare all’interno della struttura e scarpe da ginnastica per le meditazioni camminate\, oltre a vestiario comodo. \n  \nIl costo delle sistemazioni in pensione completa\, comprensivo del contributo per i monaci\, è il seguente: \n\ncamera singola = 290€\nposto in camera doppia = 220€\n\nLe quote suddette si intendono a persona per tre notti e includono la colazione\, il pranzo e la cena (cucina vegetariana per tutti). La tassa di soggiorno non è inclusa ed è da versare in loco. \n  \nPer pre-iscriversi al ritiro occorre inviare una e-mail a Massimiliano (massimiliano77@gmail.com)\, fornendo le seguenti informazioni: \n\nNome e cognome\nData di nascita\nLuogo di residenza\nContatto telefonico\nOrario di arrivo al Centro\nFai parte di un sangha? (No\, Sì – specificare)\nRichieste ed esigenze particolari\n\n  \nSuccessivamente verrà richiesto il versamento di un acconto pari a 60€ \, non restituibile nel caso di rinuncia al ritiro\, secondo le modalità che saranno comunicate.  L’iscrizione al ritiro si riterrà confermata alla ricezione di detto acconto.
URL:https://www.interessere.it/evento/ritiro-di-consapevolezza-con-i-monaci-e-le-monache-delleiab-2/
LOCATION:Trullo dell’Immacolata\, Viale Panoramico 2\, Selva di Fasano\, 72015
ATTACH;FMTTYPE=image/jpeg:https://www.interessere.it/wp-content/uploads/2023/03/monks-1.jpg
ORGANIZER;CN="Sangha dei Trulli (Conversano) e Sangha Bari":MAILTO:pinocreanza@alice.it
END:VEVENT
BEGIN:VEVENT
DTSTART;TZID=Europe/Rome:20230313T080000
DTEND;TZID=Europe/Rome:20230313T170000
DTSTAMP:20260422T110043
CREATED:20230313T205409Z
LAST-MODIFIED:20230407T133645Z
UID:10000197-1678694400-1678726800@www.interessere.it
SUMMARY:Ritiro di consapevolezza con i monaci e le monache dell’EIAB
DESCRIPTION:Anche quest’anno avremo il piacere e la gioia di poter ospitare in Puglia\, per un ritiro intensivo di meditazione\, brother Phap An\, sister Song Nghiem e gli altri fratelli e sorelle dell’Istituto Europeo di Buddhismo Applicato\, fondato da Thich Nhat Hanh. \nIl ritiro si svolgerà presso la Casa per Ferie “Trullo dell’Immacolata”\, sita in Viale Panoramico\, 2\, 72015 Selva di Fasano (BR)\, con inizio giovedì 11 maggio 2023 alle ore 18.30 (cena) e conclusione domenica 14 maggio alle ore 18.30. Il programma prevede sessioni di meditazione seduta e camminata\, meditazioni camminate all’aperto\, insegnamenti tenuti dai monaci\, condivisioni di gruppo e altre pratiche di consapevolezza. \nI partecipanti sono invitati ad arrivare al Centro dalle ore 15.30 alle ore 17:00 di giovedì 11 maggio\, in modo da poter effettuare la registrazione e sistemare le proprie cose nelle stanze. La struttura non mette a disposizione cuscini\, stuoie\, sottocuscini o panchetti per la meditazione\, per cui chi prevede di utilizzarli è pregato di portarli con sè. Consigliamo anche di portare un plaid per coprirsi durante le sessioni di rilassamento profondo\, ciabatte da utilizzare all’interno della struttura e scarpe da ginnastica per le meditazioni camminate\, oltre a vestiario comodo. \nIl costo delle sistemazioni in pensione completa\, comprensivo del contributo per i monaci\, è il seguente: \n\ncamera singola = 290€\nposto in camera doppia = 220€\n\nLe quote suddette si intendono a persona per tre notti e includono la colazione\, il pranzo e la cena (cucina vegetariana per tutti). La tassa di soggiorno non è inclusa ed è da versare in loco. \nPer pre-iscriversi al ritiro occorre inviare una e-mail a Massimiliano (massimiliano77@gmail.com)\, entro e non oltre il 31 marzo\, fornendo le seguenti informazioni: \n\nNome e cognome\nData di nascita\nLuogo di residenza\nContatto telefonico\nOrario di arrivo al Centro\nFai parte di un sangha? (No\, Sì – specificare)\nRichieste ed esigenze particolari\n\nSuccessivamente verrà richiesto il versamento di un acconto pari a 60€ \, non restituibile nel caso di rinuncia al ritiro\, secondo le modalità che saranno comunicate.  L’iscrizione al ritiro si riterrà confermata alla ricezione di detto acconto.
URL:https://www.interessere.it/evento/ritiro-di-consapevolezza-con-i-monaci-e-le-monache-delleiab/
ATTACH;FMTTYPE=image/jpeg:https://www.interessere.it/wp-content/uploads/2023/03/monks.jpg
ORGANIZER;CN="Sangha dei Trulli (Conversano) e Sangha Bari":MAILTO:pinocreanza@alice.it
END:VEVENT
BEGIN:VEVENT
DTSTART;TZID=Europe/Rome:20220519T183000
DTEND;TZID=Europe/Rome:20220522T183000
DTSTAMP:20260422T110043
CREATED:20220313T192805Z
LAST-MODIFIED:20220313T201019Z
UID:10000095-1652985000-1653244200@www.interessere.it
SUMMARY:“Pace in se stessi\, pace nel mondo”: Selva di Fasano (BR)\, 19 - 22 maggio\, Ritiro di meditazione con i monaci e le monache dell’EIAB
DESCRIPTION:“Pace in se stessi\, pace nel mondo”\nSelva di Fasano (BR)\n19 – 22 maggio 2022\nRitiro di meditazione con i monaci e le monache dell’EIAB \n  \nAvremo quest’anno di nuovo la possibilità di ospitare in Puglia Thay Phap An\, Sister Song Nghiem e gli altri fratelli e sorelle dell’Istituto di Buddhismo Applicato (EIAB)\, fondato da Thich Nhat Hanh\, per un ritiro che si svolgerà dal 19 al 22 maggio a Selva di Fasano\, in provincia di Brindisi. \n  \nSede del ritiro è la struttura Trullo dell’Immacolata\, sita in Viale Panoramico 2\, 72015 Selva di Fasano (BR)\, con inizio giovedì giovedì 19 maggio 2022 alle ore 18.30 (cena) e conclusione domenica 22 maggio alle ore 18.30. I partecipanti sono invitati ad arrivare al Centro dalle ore 15.30 alle ore 17:00\, in modo da poter effettuare la registrazione e sistemare le proprie cose nelle stanze. \n  \nIl programma prevede sessioni di meditazione seduta e camminata\, meditazioni camminate all’aperto\, insegnamenti tenuti dai monaci\, condivisioni di gruppo e altre pratiche di consapevolezza. \n  \nÈ necessario che ciascun ospite porti con sé: \n– un plaid per coprirsi durante le pratiche;\n– un cuscino oppure un panchetto per la meditazione (in alternativa sarò possibile usare una delle sedie disponibili nella sede);\n– una stuoia o tappetino da mettere a terra sotto il cuscino per la meditazione;\n– vestiario e scarpe comodi per la pratica e le camminate. \n  \nIl costo delle sistemazioni in pensione completa in camere singole e doppie\, comprensivo del contributo per i monaci\, è il seguente: \n– camera singola = 270 €\n– posto in camera doppia = 210 € \n  \nLe quote suddette si intendono a persona per tre notti e includono la colazione\, il pranzo e la cena (cucina vegetariana per tutti). La tassa di soggiorno è da versare in loco. \nPer iscriversi al ritiro occorre inviare una e-mail a Massimiliano (massimiliano77@gmail.com) fornendo le seguenti informazioni: \n– Nome e cognome\n– Data di nascita\n– Luogo di residenza\n– Contatto telefonico\n– Orario previsto di arrivo al Centro\n– Hai già partecipato ad altri ritiri di consapevolezza?\n– Richieste ed esigenze particolari \nVi sarà risposto fornendo le indicazioni per il versamento di una caparra confirmatoria di €60\, non restituibile in caso di rinuncia al ritiro (la somma sarà in quel caso devoluta all’EIAB). L’iscrizione al ritiro sarà confermata via email solo dopo il ricevimento della caparra. \n  \nLa struttura richiede ai propri ospiti e partecipanti il rispetto rigoroso delle misure di contenimento della pandemia da Covid-19\, secondo le modalità di certificazione vigenti al momento del ritiro (al momento Super Green Pass). \n  \nGli insegnanti \nBrother Phap An è Direttore e Decano per l’educazione dell’Istituto Europeo di Buddismo Applicato (www.eiab.eu)\, fondato nel 2008 dal Maestro Zen Thich Nhat Han. Nato in Vietnam\, ha studiato negli Stati Uniti dove si è laureato in chimica nel 1988 e ha concluso un dottorato di ricerca in Matematica applicata nel 1990. E’ stato ordinato monaco da Thich Nhat Hanh nel 1992. \nSister Song Nghiem è nata in Vietnam e ha svolto un dottorato di ricerca in chimica a Darmstadt in Germania. Successivamente ha lavorato nel mondo della ricerca e dell’industria chimica. Nel 2003 è stata nominata insegnante laica di Dharma da Thich Nhat Hanh e un anno dopo è stata ordinata monaca. \n 
URL:https://www.interessere.it/evento/pace-in-se-stessi-pace-nel-mondo-2/
LOCATION:Trullo dell’Immacolata\, Viale Panoramico 2\, Selva di Fasano\, 72015
CATEGORIES:Ritiro
ATTACH;FMTTYPE=image/jpeg:https://www.interessere.it/wp-content/uploads/2022/03/200907_actorsphotography.de_EIAB_Sommerfest-134-1-scaled.jpg
ORGANIZER;CN="Sangha dei Trulli (Conversano) e Sangha Bari":MAILTO:pinocreanza@alice.it
END:VEVENT
END:VCALENDAR