BEGIN:VCALENDAR
VERSION:2.0
PRODID:-//Comunit&agrave; italiana dell'interessere - ECPv6.15.20//NONSGML v1.0//EN
CALSCALE:GREGORIAN
METHOD:PUBLISH
X-ORIGINAL-URL:https://www.interessere.it
X-WR-CALDESC:Eventi per Comunit&agrave; italiana dell'interessere
REFRESH-INTERVAL;VALUE=DURATION:PT1H
X-Robots-Tag:noindex
X-PUBLISHED-TTL:PT1H
BEGIN:VTIMEZONE
TZID:Europe/Rome
BEGIN:DAYLIGHT
TZOFFSETFROM:+0100
TZOFFSETTO:+0200
TZNAME:CEST
DTSTART:20220327T010000
END:DAYLIGHT
BEGIN:STANDARD
TZOFFSETFROM:+0200
TZOFFSETTO:+0100
TZNAME:CET
DTSTART:20221030T010000
END:STANDARD
BEGIN:DAYLIGHT
TZOFFSETFROM:+0100
TZOFFSETTO:+0200
TZNAME:CEST
DTSTART:20230326T010000
END:DAYLIGHT
BEGIN:STANDARD
TZOFFSETFROM:+0200
TZOFFSETTO:+0100
TZNAME:CET
DTSTART:20231029T010000
END:STANDARD
BEGIN:DAYLIGHT
TZOFFSETFROM:+0100
TZOFFSETTO:+0200
TZNAME:CEST
DTSTART:20240331T010000
END:DAYLIGHT
BEGIN:STANDARD
TZOFFSETFROM:+0200
TZOFFSETTO:+0100
TZNAME:CET
DTSTART:20241027T010000
END:STANDARD
END:VTIMEZONE
BEGIN:VEVENT
DTSTART;TZID=Europe/Rome:20230303T190000
DTEND;TZID=Europe/Rome:20230303T200000
DTSTAMP:20260423T080026
CREATED:20230215T100629Z
LAST-MODIFIED:20230407T134813Z
UID:10000187-1677870000-1677873600@www.interessere.it
SUMMARY:Meditazione online per essere insieme a Beppe: venerdì 3 marzo ore 19.00
DESCRIPTION:Meditazione online per essere insieme a Beppe\nVenerdì 3 marzo ore 19.00 \n  \nCare amiche e cari amici del Dharma\,\nin questa data il sangha di Genova offrirà una meditazione online per l’amato Beppe che il 3 marzo di un anno fa lasciava il corpo. \nIn tutti i ritiri da lui offerti c’era sempre la parola amore: da “Amare se stessi” del 2017 ad “Amare per praticare\, praticare per amare” del 2020\, Beppe ci ha guidati prendendoci per mano e iniziando dall’amore più difficile\, quello per noi stessi\, per aiutarci poi a praticare l’amore per ogni forma di vita. \nInizieremo la serata con una meditazione di metta\, di gentilezza amorevole\, tratta da uno dei suoi ritiri\, cui seguiranno 10 minuti di meditazione silenziosa e concluderemo con la lettura del “Discorso sull’Amore”. \nSiamo grati a tutti voi che quotidianamente coltivate quelle qualità così benefiche ereditate dal caro e prezioso Beppe. \nQuesti i riferimenti Zoom per collegarvi: \nhttps://us02web.zoom.us/j/88204618402?pwd=dXNiYnRxdGwvMi8rbTlaUGxVa2Zodz09\nID riunione: 882 0461 8402\nPasscode: 111026 \nVi attendiamo per coltivare assieme\, nel silenzio della meditazione\, la gratitudine che ancora proviamo verso il nostro amico\, fratello\, Maestro Beppe.\nIl sangha di Genova
URL:https://www.interessere.it/evento/meditazione-online-per-essere-insieme-a-beppe-venerdi-3-marzo-ore-19-00/
LOCATION:Online\, Online
ATTACH;FMTTYPE=image/jpeg:https://www.interessere.it/wp-content/uploads/2023/02/Beppe.jpg
END:VEVENT
END:VCALENDAR