BEGIN:VCALENDAR
VERSION:2.0
PRODID:-//Comunit&agrave; italiana dell'interessere - ECPv6.15.20//NONSGML v1.0//EN
CALSCALE:GREGORIAN
METHOD:PUBLISH
X-WR-CALNAME:Comunit&agrave; italiana dell'interessere
X-ORIGINAL-URL:https://www.interessere.it
X-WR-CALDESC:Eventi per Comunit&agrave; italiana dell'interessere
REFRESH-INTERVAL;VALUE=DURATION:PT1H
X-Robots-Tag:noindex
X-PUBLISHED-TTL:PT1H
BEGIN:VTIMEZONE
TZID:Europe/Rome
BEGIN:DAYLIGHT
TZOFFSETFROM:+0100
TZOFFSETTO:+0200
TZNAME:CEST
DTSTART:20210328T010000
END:DAYLIGHT
BEGIN:STANDARD
TZOFFSETFROM:+0200
TZOFFSETTO:+0100
TZNAME:CET
DTSTART:20211031T010000
END:STANDARD
BEGIN:DAYLIGHT
TZOFFSETFROM:+0100
TZOFFSETTO:+0200
TZNAME:CEST
DTSTART:20220327T010000
END:DAYLIGHT
BEGIN:STANDARD
TZOFFSETFROM:+0200
TZOFFSETTO:+0100
TZNAME:CET
DTSTART:20221030T010000
END:STANDARD
BEGIN:DAYLIGHT
TZOFFSETFROM:+0100
TZOFFSETTO:+0200
TZNAME:CEST
DTSTART:20230326T010000
END:DAYLIGHT
BEGIN:STANDARD
TZOFFSETFROM:+0200
TZOFFSETTO:+0100
TZNAME:CET
DTSTART:20231029T010000
END:STANDARD
BEGIN:DAYLIGHT
TZOFFSETFROM:+0100
TZOFFSETTO:+0200
TZNAME:CEST
DTSTART:20240331T010000
END:DAYLIGHT
BEGIN:STANDARD
TZOFFSETFROM:+0200
TZOFFSETTO:+0100
TZNAME:CET
DTSTART:20241027T010000
END:STANDARD
BEGIN:DAYLIGHT
TZOFFSETFROM:+0100
TZOFFSETTO:+0200
TZNAME:CEST
DTSTART:20250330T010000
END:DAYLIGHT
BEGIN:STANDARD
TZOFFSETFROM:+0200
TZOFFSETTO:+0100
TZNAME:CET
DTSTART:20251026T010000
END:STANDARD
BEGIN:DAYLIGHT
TZOFFSETFROM:+0100
TZOFFSETTO:+0200
TZNAME:CEST
DTSTART:20260329T010000
END:DAYLIGHT
BEGIN:STANDARD
TZOFFSETFROM:+0200
TZOFFSETTO:+0100
TZNAME:CET
DTSTART:20261025T010000
END:STANDARD
END:VTIMEZONE
BEGIN:VEVENT
DTSTART;TZID=Europe/Rome:20251023T160000
DTEND;TZID=Europe/Rome:20251026T170000
DTSTAMP:20260422T212036
CREATED:20250821T235624Z
LAST-MODIFIED:20250822T000404Z
UID:10000657-1761235200-1761498000@www.interessere.it
SUMMARY:GO AS A RIVER / FLUIRE COME UN FIUME (coltivare la pratica nella comunità spirituale)
DESCRIPTION:GO AS A RIVER / FLUIRE COME UN FIUME \nCOLTIVARE LA PRATICA NELLA COMUNITÀ SPIRITUALE \n  \nRitiro di consapevolezza con Thay Phap An\, Sister Song Nghiem e le monache e i monaci dell’EIAB 23-26 ottobre 2025 \n«Praticare significa sempre praticare con un sangha. Se il sangha ha molte debolezze e carenze\, e non funziona come vorremmo\, bisogna sapere cosa fare per contribuire a migliorarlo. Se pratichiamo da soli\, l’energia della consapevolezza e della concentrazione può essere debole. Non è ancora abbastanza forte da permetterci di trasformarci e portare più spazio nel nostro cuore. Quando entriamo in un sangha dove molti sanno come praticare e generare l’energia della consapevolezza e della concentrazione\, vediamo che questa è una fonte di energia potente. Possiamo attingervi per compiere il lavoro di trasformazione che da soli non potremmo fare. Una goccia d’acqua che scorre verso il mare\, sa che difficilmente ci riuscirà da sola. Può evaporare a metà strada\, diventare una nuvola\, vagare qua e là e non raggiungere mai il mare. Ma se quella goccia d’acqua entra in un fiume e permette al fiume di abbracciarla e trasformarla\, arriverà al mare. Come praticanti possiamo permettere al sangha di guidarci\, abbracciarci e trasportarci».  \nThich Nhat Hanh Discorso di Dharma Thailandia\, 14 ottobre 2010 \nIl ritiro. Il Sangha di Palermo con gioia annuncia il ritiro di meditazione offerto da Thay Phap An\, Sister Song Nghiem e le sorelle e i fratelli dell’Istituto Europeo di Buddhismo Applicato (EIAB)\, fondato da Thich Nhat Hanh\, che si terrà dal 23 al 26 ottobre 2025\, presso il Centro Kolbe\, a Carini\, in provincia di Palermo\, vicino all’aeroporto Falcone e Borsellino. Avremo la possibilità di praticare insieme i movimenti in consapevolezza del Qi Gong\, la meditazione seduta e camminata all’aperto\, ascoltare i preziosi insegnamenti di Dharma\, condividere i pasti in silenzio e le esperienze di pratica in un’atmosfera di ascolto profondo e di apertura del cuore. \nGli insegnanti. Thay Phap An è nato in Vietnam\, ha studiato negli Stati Uniti dove si è laureato in chimica nel 1988 e ha conseguito il master in Matematica applicata nel 1990. Nel 1994 ha ricevuto l’ordinazione di monaco\, nel1999 è stato nominato insegnante di Dharma e dal 2008 è Direttore dell’EIAB. Sister Song Nghiem è nata in Vietnam e ha svolto un dottorato di ricerca in chimica a Darmstadt in Germania nel 1986. Successivamente ha lavorato nel mondo della ricerca e dell’industria nel settore chimico. Nel 2003 è stata nominata insegnante laica di Dharma da Thich Nhat Hanh e un anno dopo è stata ordinata monaca. \nCome raggiungere il centro. Il ritiro si svolgerà presso il Centro Kolbe a Villa Belvedere al km 3 della Strada Provinciale Carini Montelepre\, in provincia di Palermo. Posizione google maps per raggiungere il centro in automobile: https://maps.app.goo.gl/tWxTsQArSXhti8Ja6 Non è possibile raggiungere il luogo del ritiro con i mezzi di trasporto pubblico. Per chi fosse interessato a ricevere informazioni per un trasferimento dall’aeroporto o dalla stazione ferroviaria di Palermo lo segnali nel modulo di iscrizione. \nSistemazioni e costi. Il costo delle sistemazioni per tre notti\, in pensione completa\, in camere singole\, doppie e triple\, comprensivo del contributo per gli insegnamenti e l’organizzazione dei monaci\, è il seguente: • Camera singola: €290\,00 • Camera multipla: €260\,00 \nIscrizione. Compilare singolarmente il modulo di iscrizione per ciascun iscritto cliccando sul seguente link: https://forms.gle/TMcfexAP7ChUNjD6A Fare attenzione a scrivere correttamente il numero di telefono e l’indirizzo email\, dove invieremo la conferma della disponibilità dei posti e le indicazioni successive che saranno indispensabili per completare l’iscrizione. \nContatti. E-mail: palermo.sangha@gmail.com WhatsApp: Maurilio 349 7112711; Andrea Libero 388 9525630 Web: sanghapalermo.org \nCosa portare. Portare un cuscino per la meditazione (oppure un panchetto)\, un tappetino e un plaid da mettere a terra per il rilassamento\, abbigliamento e scarpe comode per interno ed esterno\, una giacca che ripari dal vento e un quaderno con penna. I pasti sono vegetariani. La struttura non è in grado di gestire particolari esigenze dietetiche o intolleranze alimentari: in caso di bisogno\, provvedere personalmente al necessario. Gli animali domestici non sono ammessi all’interno della struttura.
URL:https://www.interessere.it/evento/go-as-a-river-fluire-come-un-fiume-coltivare-la-pratica-nella-comunita-spirituale/
LOCATION:Centro Kolbe – Carini (PA)
CATEGORIES:Ritiro
ATTACH;FMTTYPE=image/png:https://www.interessere.it/wp-content/uploads/2025/08/Immagine1.png
END:VEVENT
BEGIN:VEVENT
DTSTART;TZID=Europe/Rome:20250615T100000
DTEND;TZID=Europe/Rome:20250615T120000
DTSTAMP:20260422T212036
CREATED:20250612T095213Z
LAST-MODIFIED:20250613T101005Z
UID:10000630-1749981600-1749988800@www.interessere.it
SUMMARY:Fermiamoci: è il momento di essere pace
DESCRIPTION:A sostegno della Marcia Globale verso Gaza (info qui: https://marchtogaza.net/)\nnoi che non andiamo ci riuniamo e camminiamo in pace e sorellanza portando\nnel cuore chi soffre in Palestina per l’oppressione e lo sterminio.\nPratichiamo il silenzio e il raccoglimento seguendo l’esempio\ndel Maestro Zen Thich Nhat Hanh\, costruttore di pace.\nNessuna bandiera\, nessuno slogan\, un solo messaggio:\nstop alla violenza\, onoriamo la vita.
URL:https://www.interessere.it/evento/fermiamoci-e-il-momento-di-essere-pace/
LOCATION:Lungomare del Foro Italico – Palermo
CATEGORIES:Meditazione camminata
ATTACH;FMTTYPE=image/jpeg:https://www.interessere.it/wp-content/uploads/2025/06/fermiamoci.jpg
END:VEVENT
BEGIN:VEVENT
DTSTART;TZID=Europe/Rome:20250405T100000
DTEND;TZID=Europe/Rome:20250405T170000
DTSTAMP:20260422T212036
CREATED:20250326T181052Z
LAST-MODIFIED:20250327T183940Z
UID:10000606-1743847200-1743872400@www.interessere.it
SUMMARY:Cinisi (PA)\, Sabato 5 aprile h 10 - 17: "Giornata in consapevolezza presso il Giardino della Memoria e dell’Impegno di Casa Felicia"
DESCRIPTION:Cinisi (PA)\, Sabato 5 aprile h 10 – 17\n“Giornata in consapevolezza nella tradizione di Plum Village\npresso il Giardino della Memoria e dell’Impegno di Casa Felicia”\n“Fermarsi\, calmarsi e riposare sono condizioni preliminari per la guarigione. Se non riusciamo a fermarci continueremo ad andare verso la distruzione. Il mondo ha bisogno di guarire: le singole persone\, le comunità e le nazioni hanno bisogno di guarire.” (Thich Nhat Hanh) \nIl Sangha di Palermo è felice di invitarvi a una giornata di consapevolezza. Praticheremo – nella tradizione di Plum Village – la meditazione seduta\, la meditazione camminata all’aperto\, il rilassamento profondo\, il pasto in consapevolezza\, ascolteremo un insegnamento di Dharma (tratto da un libro del maestro Zen Thich Nhat Hanh)\, e avremo un ampio spazio per la condivisione. \nQUANDO E DOVE: ci incontriamo sabato 5 aprile dalle 10.00h alle 17.00h presso il Giardino della Memoria e dell’Impegno di Casa Felicia a Cinisi (PA) in Contrada Napoli generosamente messa a disposizione dall’Associazione Casa Memoria Felicia e Peppino Impastato. Qui di seguito la posizione: \nhttps://maps.app.goo.gl/JzARkjYRUuRG25LV6?g_st=iw \nL’incontro è offerto in spirito di gratuità e condivisione. \nCOSA PORTARE: un tappetino\, un cuscino o panchetto da meditazione (per chi non usa la sedia)\, un plaid\, una pietanza vegana/vegetariana da condividere\, una propria tovaglietta\, piatto\, bicchiere e posate per il pranzo condiviso.
URL:https://www.interessere.it/evento/giornata-in-consapevolezza-a-cinisi-presso-il-giardino-della-memoria-e-dellimpegno-di-casa-felicia-a-cinisi-in-contrada-napoli/
LOCATION:Giardino della Memoria e dell’Impegno di Casa Felicia a Cinisi\, Contrada Napoli\, Cinisi (PA)\, 90045
CATEGORIES:Giornata di consapevolezza
ATTACH;FMTTYPE=image/jpeg:https://www.interessere.it/wp-content/uploads/2025/03/Zendo-Cinisi.jpg
END:VEVENT
BEGIN:VEVENT
DTSTART;TZID=Europe/Rome:20241024T180000
DTEND;TZID=Europe/Rome:20241027T133000
DTSTAMP:20260422T212036
CREATED:20240828T200213Z
LAST-MODIFIED:20240828T200446Z
UID:10000413-1729792800-1730035800@www.interessere.it
SUMMARY:La via del Bodhisattva: dalla teoria alla pratica
DESCRIPTION:Ritiro di consapevolezza con Thay Phap An\, Sister Song Nghiem e le monache e i monaci dell’EIAB | 24-27 ottobre 2024 \nIl ritiro \nIl Sangha di Palermo con gioia annuncia il ritiro di meditazione offerto da Thay Phap An\, Sister Song Nghiem e le sorelle e i fratelli dell’Istituto Europeo di Buddhismo Applicato (EIAB)\, fondato da Thich Nhat Hanh\, che si terrà dal 24 al 27 ottobre 2024\, presso il Centro Maria Immacolata\, a Poggio San Francesco\, in provincia di Palermo. \nAvremo la possibilità di praticare insieme i movimenti in consapevolezza del Qi Gong\, la meditazione seduta e camminata all’aperto\, ascoltare i preziosi insegnamenti di Dharma\, condividere i pasti in silenzio e le esperienze di pratica in un’atmosfera di ascolto profondo e di apertura del cuore. \nSistemazioni e costi: \nIl costo delle sistemazioni per tre notti\, in pensione completa\, in camere singole\, doppie e triple\,comprensivo del contributo per gli insegnamenti e l’organizzazione dei monaci\, è il seguente: \n• Camera singola: €280\,00\n• Camera doppia e tripla: €244\,00 \nIscrizione \nCompilare singolarmente il modulo di iscrizione per ciascun iscritto cliccando sul seguente link: \nhttps://forms.gle/JRevtQgNcyhSeZdL8 \nFare attenzione a scrivere correttamente il numero di telefono e l’indirizzo email\, dove invieremo la conferma della disponibilità dei posti e le indicazioni successive che saranno indispensabili\nper completare l’iscrizione.
URL:https://www.interessere.it/evento/la-via-del-bodhisattva-dalla-teoria-alla-pratica/
LOCATION:Poggio San Francesco – Palermo\, Centro Maria Immacolata Strada Provinciale\, 89 Poggio San Francesco\, PALERMO\, 90144\, Italia
CATEGORIES:Ritiro
ATTACH;FMTTYPE=image/jpeg:https://www.interessere.it/wp-content/uploads/2024/08/Senza-nome.jpg
END:VEVENT
BEGIN:VEVENT
DTSTART;TZID=Europe/Rome:20240421T110000
DTEND;TZID=Europe/Rome:20240421T173000
DTSTAMP:20260422T212036
CREATED:20240409T164412Z
LAST-MODIFIED:20240409T164521Z
UID:10000382-1713697200-1713720600@www.interessere.it
SUMMARY:Giornata di Consapevolezza “Passi di pace” con i monaci e le monache di Plum Village
DESCRIPTION:Giornata di Consapevolezza “Passi di pace” \nDomenica 21 aprile a Terrasini e Cinisi (PA) con i monaci e le monache della tradizione di Plum Village. \n\nLa giornata di consapevolezza comincerà alle 11:00 di mattina con una meditazione camminata a Capo Rama\, Terrasini (per il punto d’incontro\, vedi mappa: https://maps.app.goo.gl/zrXzbAKtWub4PkxU9 )\nAlle 12:30\, dopo la meditazione camminata\, ci sposteremo a Casa Felicia\, Cinisi per il pranzo al sacco in consapevolezza e le altre attività (per il luogo esatto\, vedi mappa: https://maps.app.goo.gl/6EDGPHdK6Hg6JZU29 )\nLa giornata si concluderà alle 17:30.\n\nL’incontro è offerto in spirito di gratuità e condivisione. \nCOSA PORTARE: una pietanza vegana o vegetariana per il pranzo al sacco in consapevolezza; saranno disponibili sedie per le altre attività (meditazione\, discorso di Dharma\, condivisione in gruppi) \nPer iscriversi: comunicare la propria adesione via email a: palermo.sangha@gmail.com
URL:https://www.interessere.it/evento/giornata-di-consapevolezza-passi-di-pace-con-i-monaci-e-le-monache-di-plum-village/
CATEGORIES:Giornata di consapevolezza
ATTACH;FMTTYPE=image/jpeg:https://www.interessere.it/wp-content/uploads/2024/04/Senza-nome.jpg
END:VEVENT
BEGIN:VEVENT
DTSTART;TZID=Europe/Rome:20231026T170000
DTEND;TZID=Europe/Rome:20231029T160000
DTSTAMP:20260422T212036
CREATED:20230820T140329Z
LAST-MODIFIED:20230822T143014Z
UID:10000278-1698339600-1698595200@www.interessere.it
SUMMARY:Sulla via del Bodhisattva Ritiro di consapevolezza con Thay Phap An e Sister Song Nghiem dell’EIAB
DESCRIPTION:“Diventare un bodhisattva è possibile. I bodhisattva non sono persone che non hanno difficoltà. I momenti difficili possono sempre arrivare\, ma i bodhisattva non li temono\, perché sanno come gestirli. Ognuno di noi deve trovare la sua sorgente luminosa\, la sua luce\, e offrirla al mondo. La consapevolezza è un tipo di luce\, un’energia che ci aiuta a sapere dove siamo\, che cosa sta succedendo\, che cosa fare e che cosa non fare affinchè la pace\, la compassione e la felicità siano possibili. Sappiamo quanto sia cruciale il momento che stiamo vivendo su questo bellissimo pianeta. Con la luce della consapevolezza diventa un bodhisattva; porta la luce nel mondo. Lascia che il risveglio risplenda tutto intorno a te. Guarda con gli occhi dei bodhisattva; agisci con le loro mani. Se tutti noi lo faremo\, non c’è motivo di essere pessimisti sulla situazione del pianeta. Un bodhisattva che nutre un’intenzione tanto profonda e determinata è libero dalla disperazione e può agire in pace e liberamente”. \nThich Nhat Hanh (2022)\, Lo zen e l’arte di salvare il Pianeta \nIL RITIRO: \nIl Sangha di Palermo con gioia annuncia il ritiro di meditazione offerto da Thay Phap An\, Sister Song Nghiem e le sorelle dell’Istituto Europeo di Buddismo Applicato (EIAB)\, fondato da Thich Nath Hanh\, che si terrà dal 26 al 29 ottobre 2023\, presso il Centro Maria Immacolata\, a Poggio San Francesco\, in provincia di Palermo.\nAvremo la possibilità di praticare insieme i movimenti in consapevolezza del Qigong\, la meditazione seduta e camminata all’aperto\, ascoltare i preziosi insegnamenti di Dharma\, condividere i pasti in silenzio e le esperienze di pratica in un’atmosfera di ascolto profondo e di apertura del  cuore. \nI MAESTRI: \nThay Phap An è nato in Vietnam\, ha studiato negli Stati Uniti dove si è laureato in chimica nel 1988 e ha conseguito il master in Matematica applicata nel 1990. Nel 1994 ha ricevuto l’ordinazione di monaco\, nel 1999 è stato nominato insegnante di Dharma e dal 2008 è Direttore dell’EIAB (www.eiab.eu). \nSister Song Nghiem è nata in Vietnam e ha svolto un dottorato di ricerca in chimica a Darmstadt in Germania nel 1986. Successivamente ha lavorato nel mondo della ricerca e dell’industria nel settore chimico. Nel 2003 è stata nominata insegnante laica di Dharma da Thich Nhat Hanh e un anno dopo è stata ordinata monaca. \nCOME RAGGIUNGERE IL CENTRO: \nIl ritiro si svolgerà presso il Centro Maria Immacolata situato nella Strada Provinciale\, 89\, a Poggio San Francesco\, Monreale\, Palermo.\nPosizione google maps per raggiungere il centro in automobile:\nhttps://goo.gl/maps/J9TC76WTkLtJsU1K7 \nNon è possibile raggiungere il luogo del ritiro con i mezzi di trasporto pubblico. Per chi fosse interessato a ricevere informazioni per un trasferimento dall’aeroporto o dalla stazione ferroviaria di Palermo lo segnali nel modulo di iscrizione. \nSISTEMAZIONI E COSTI: \nIl costo delle sistemazioni per tre notti\, in pensione completa\, in camere singole\, doppie e triple\, comprensivo del contributo per gli insegnamenti e l’organizzazione dei monaci\, è il seguente:\n– Camera singola: 280 euro\n– Camera doppia e tripla : 244 euro \nISCRIZIONI: \nCompilate singolarmente il modulo di iscrizione cliccando nel seguente link:\nhttps://forms.gle/tQyffHupbi7Hs49P6 \nFate attenzione a scrivere correttamente l’indirizzo email e il numero di telefono perché riceverete la conferma della disponibilità dei posti e le indicazioni successive che saranno indispensabili per completare l’iscrizione.  \nSi consiglia di iscriversi rapidamente perché i posti disponibili sono pochi!  \nCONTATTI: \nE-mail: palermo.sangha@gmail.com \nWhatsApp: Andrea 328 3060936 \nCOSA PORTARE: \nÈ necessario portare un cuscino per la meditazione (oppure un panchetto)\, un tappetino e un plaid da mettere a terra per il rilassamento\, abbigliamento e scarpe comode per interno ed esterno\, una giacca che ripari dal vento\, e un quaderno con penna. \n* Foto di copertina amorevolmente concessa da Börje Tobiasson.
URL:https://www.interessere.it/evento/sulla-via-del-bodhisattva/
LOCATION:Centro Maria Immacolata\, Strada Provinciale\, 89\, Poggio San Francesco\, Monreale PA\, 90046
CATEGORIES:Ritiro
ATTACH;FMTTYPE=image/jpeg:https://www.interessere.it/wp-content/uploads/2023/08/Boddhisatva-1.jpg
END:VEVENT
BEGIN:VEVENT
DTSTART;TZID=Europe/Rome:20221020T160000
DTEND;TZID=Europe/Rome:20221023T170000
DTSTAMP:20260422T212036
CREATED:20220825T084419Z
LAST-MODIFIED:20220829T162426Z
UID:10000142-1666281600-1666544400@www.interessere.it
SUMMARY:No Fango No Loto
DESCRIPTION:Ritiro di consapevolezza con Thay Phap An\, \nSister Song Nghiem e i monaci e le monache dell’EIAB \n20-23 Ottobre 2022 Poggio San Francesco – Palermo \n  \nNiente fango\, niente loto \n“Con le radici affondate nel fango\, il fiore di loto cresce sulla superficie dell’ acqua e sboccia in tutta la sua bellezza alla luce del sole.  È un simbolo di trasformazione\, dalle tenebre alla luce. \nChi fugge dalla sofferenza\, non  può trovare la felicità. \nIn molti hanno paura di soffrire. Ma la sofferenza è come il fango che permette al fiore di loto della felicità di sbocciare. La sofferenza può assumere molte forme: Dolore\, malattia\, preoccupazione\, paura\, rabbia\, dolore\, dispiacere\, vergogna o disperazione. Tutti noi viviamo situazioni come la malattia\, le relazioni difficili\, l’ansia per gli eventi internazionali o un lavoro senza prospettive\, che ci fanno sentire come impantanati e senza scampo: siamo bloccati. Situazioni che ci rendono vittime. Ogni strategia per sfuggire alla sofferenza e al dolore si rivela inutile. Se fuggiamo dal dolore o ci limitiamo ad anestetizzarlo\,  non scomparirà mai del tutto. Chi cerca di scappare dal fango o di ignorarlo\, non otterrà altro risultato se non sprofondare ancora di più. \nAbbiamo la scelta di considerare il fango come qualcosa che ci tiene prigionieri o come un terreno nutriente in cui mettere radici. Ma il nostro fango\, il dolore\, ha sempre un messaggio per noi\, un messaggio che ci permette di continuare a crescere. Allora possiamo guardare il nostro fango più da vicino\, per imparare a comprendere. Perché sono bloccato in questa relazione? Che cosa vuole dirmi la mia paura? \nIn questo ritiro impareremo molte pratiche concrete che possono aiutarci ad alleviare il dolore e la sofferenza e a trasformarli\, a cambiare prospettiva\, adottare nuove strategie e vivere la vita con  gioia e serenità”. \nIl Sangha di Palermo con gioia annuncia il ritiro di meditazione offerto da Thay Phap An\, Sister Song Nghiem  e i fratelli e le sorelle dell’Istituto Europeo di Buddismo Applicato  (EIAB)\, fondato da Thich Nath Hanh\, che si terrà dal 20 al 23 ottobre 2022\, presso il Centro Maria Immacolata\, a Poggio San Francesco\,  in provincia di Palermo. \nAvremo la possibilità di praticare insieme i movimenti in consapevolezza\,  la meditazione seduta e camminata all’aperto\, ascoltare i preziosi  insegnamenti di Dharma\, condividere i pasti in silenzio e le esperienze di pratica in un’atmosfera di ascolto profondo e di apertura del cuore. Durante il ritiro sarà prevista la cerimonia di trasmissione dei  Cinque Addestramenti alla consapevolezza . \nI MAESTRI: \nSister Song Nghiem è nata in Vietnam e ha svolto un dottorato di ricerca in chimica a Darmstadt in Germania nel 1986. Successivamente ha lavorato nel mondo della ricerca e dell’industria nel settore chimico. Nel 2003 è stata nominata insegnante laica di Dharma da Thich Nhat Hanh e un anno dopo è stata ordinata monaca. \nThay Phap An è nato in Vietnam\, ha studiato negli Stati Uniti dove si è laureato in chimica nel 1988 e ha conseguito il master in Matematica applicata nel 1990. Nel 1994 ha ricevuto l’ordinazione di monaco\, nel 1999 è stato nominato insegnante di Dharma e dal 2008 è Direttore dell’EIAB (www.eiab.eu). \nINFORMAZIONI PRATICHE: \nLuogo dell’incontro: \nIl ritiro si svolgerà presso il Centro Maria Immacolata  situato nella  Strada Provinciale\, 89\, a Poggio San Francesco – Monreale – PA. \nLa Casa per ferie è un centro di ospitalità spirituale che sorge su una collina a circa 800 metri s.l.m. Il panorama che si rivela allo sguardo è suggestivo\, nella parte anteriore si stagliano le cime del monte Carpineto (alte quasi 1200 metri) che sovrastano uno scenario dominato da boschi rigogliosi e grandi ciuffi di odorate ginestre. \nSiete tutti invitati ad arrivare puntuali per l’accoglienza prevista dalle ore 16.00 di giovedì 20 ottobre  in modo da poter effettuare la registrazione e la sistemazione con agio nelle stanze prima di cena. \nIl ritiro terminerà nel tardo pomeriggio di domenica 23 ottobre. \nCome raggiungere il Centro: \nPosizione google maps per raggiungere il centro in automobile: \nhttps://goo.gl/maps/J9TC76WTkLtJsU1K7 \nNon  è possibile  arrivare nel luogo del ritiro con i mezzi di trasporto pubblico. Chi è interessato a ricevere informazioni per un trasferimento dall’aeroporto o dalla stazione ferroviaria lo segnali nel modulo di iscrizione. \nSISTEMAZIONI E COSTI: \nIl costo delle sistemazioni per tre notti\, in pensione completa\,  in camere singole\, doppie\, e triple\, comprensivo del contributo per i monaci\, è il seguente: \nCamera singola: 270 euro\nCamera doppia e tripla : 234 euro \nISCRIZIONI: \nCompilate il modulo di iscrizione cliccando nel seguente link: \nhttps://forms.gle/nCtb4v1sKtQiVHmR9 \nFate attenzione a scrivere correttamente l’indirizzo email perchè riceverete la conferma della disponibilità dei posti e le indiczioni per effettuare il pagamento che sarà indispensabile per completare l’iscrizione. \nCONTATTI: \npalermo.sangha@gmail.com \nCOSA PORTARE: \nÈ necessario portare un cuscino per la meditazione\, oppure un panchetto\, un tappetino  e un plaid da mettere a terra per il rilassamento\, delle scarpe comode per interno ed esterno\, una giacca che ripari dal vento e un quaderno con penna.
URL:https://www.interessere.it/evento/no-fango-no-loto/
ATTACH;FMTTYPE=image/jpeg:https://www.interessere.it/wp-content/uploads/2022/08/Immagine-ghata.jpg
END:VEVENT
END:VCALENDAR