BEGIN:VCALENDAR
VERSION:2.0
PRODID:-//Comunit&agrave; italiana dell'interessere - ECPv6.15.20//NONSGML v1.0//EN
CALSCALE:GREGORIAN
METHOD:PUBLISH
X-ORIGINAL-URL:https://www.interessere.it
X-WR-CALDESC:Eventi per Comunit&agrave; italiana dell'interessere
REFRESH-INTERVAL;VALUE=DURATION:PT1H
X-Robots-Tag:noindex
X-PUBLISHED-TTL:PT1H
BEGIN:VTIMEZONE
TZID:Europe/Rome
BEGIN:DAYLIGHT
TZOFFSETFROM:+0100
TZOFFSETTO:+0200
TZNAME:CEST
DTSTART:20240331T010000
END:DAYLIGHT
BEGIN:STANDARD
TZOFFSETFROM:+0200
TZOFFSETTO:+0100
TZNAME:CET
DTSTART:20241027T010000
END:STANDARD
BEGIN:DAYLIGHT
TZOFFSETFROM:+0100
TZOFFSETTO:+0200
TZNAME:CEST
DTSTART:20250330T010000
END:DAYLIGHT
BEGIN:STANDARD
TZOFFSETFROM:+0200
TZOFFSETTO:+0100
TZNAME:CET
DTSTART:20251026T010000
END:STANDARD
BEGIN:DAYLIGHT
TZOFFSETFROM:+0100
TZOFFSETTO:+0200
TZNAME:CEST
DTSTART:20260329T010000
END:DAYLIGHT
BEGIN:STANDARD
TZOFFSETFROM:+0200
TZOFFSETTO:+0100
TZNAME:CET
DTSTART:20261025T010000
END:STANDARD
END:VTIMEZONE
BEGIN:VEVENT
DTSTART;TZID=Europe/Rome:20250119T100000
DTEND;TZID=Europe/Rome:20250119T163000
DTSTAMP:20260422T182141
CREATED:20241227T201238Z
LAST-MODIFIED:20241228T172426Z
UID:10000540-1737280800-1737304200@www.interessere.it
SUMMARY:Torino\, 19 gennaio 2025: "Coltivare il giardino della mente\, Giornata di consapevolezza offerta da Bar Zecharya
DESCRIPTION:Coltivare il giardino della mente\nGiornata di consapevolezza nella tradizione di Thich Nhat Hanh\nofferta da Bar Zecharya\nDomenica 19 gennaio 2025 ore 10:00-16:30\nYogaSangha via Villa Glori 6 – Torino\nLa rabbia\, la gratitudine\, la paura\, la pace colorano non solo la nostra esperienza di vita\, ma danno forma anche al mondo attorno a noi.\nQuesti stati mentali si manifestano da soli\, oppure anche noi abbiamo un ruolo importante nel nutrirli e renderli forti e floridi?\nQuando sappiamo essere buoni giardinieri della mente\, coltiviamo pace e guarigione anche per le nostre famiglie e per il mondo. \nBar Zecharya\, insegnante di Dharma e permacultore\, pratica la presenza mentale e la meditazione applicata da 25 anni\, e per più di 15 ha facilitato gruppi in Italia\, Israele e Palestina e negli Stati Uniti. È allievo laico del maestro Thich Nhat Hanh\, da cui è stato ordinato nel 2010 come membro dell’Ordine dell’interessere.\nDal 2018 Bar è custode di Pardesa\, centro di pratica nell’Appennino bolognese che unisce la cura della mente alla cura della Terra mettendo in pratica l’insegnamento di Thich Nhat Hanh sulla nostra interconnessione con la Terra.\nHa a cuore temi quali: relazionarci con la Terra e con la crisi di climatica\, praticare in contesti e momenti di conflitto\, conoscere e lavorare con la mente\, l’ego e la coscienza; vivere appieno la nostra aspirazione; e l’arte del fermarsi e guarire. \nIscrizioni e informazioni via e-mail: passidigioia@gmail.com\nEntro mercoledì 15 gennaio 2025
URL:https://www.interessere.it/evento/coltivare-il-giardino-della-mente-con-bar-zecharya-domenica-19-gennaio-2025-ore-1000-1630-yogasangha-via-villa-glori-6-torino-2/
LOCATION:YogaSangha  via Villa Glori 6 – Torino\, Via Villa Glori 6\, Torino
CATEGORIES:Giornata di consapevolezza
ATTACH;FMTTYPE=image/png:https://www.interessere.it/wp-content/uploads/2024/12/foto-cura-terra-1.png
ORGANIZER;CN="Sangha Passi di Gioia":MAILTO:passidigioia@gmail.com
END:VEVENT
END:VCALENDAR