BEGIN:VCALENDAR
VERSION:2.0
PRODID:-//Comunit&agrave; italiana dell'interessere - ECPv6.15.20//NONSGML v1.0//EN
CALSCALE:GREGORIAN
METHOD:PUBLISH
X-ORIGINAL-URL:https://www.interessere.it
X-WR-CALDESC:Eventi per Comunit&agrave; italiana dell'interessere
REFRESH-INTERVAL;VALUE=DURATION:PT1H
X-Robots-Tag:noindex
X-PUBLISHED-TTL:PT1H
BEGIN:VTIMEZONE
TZID:Europe/Rome
BEGIN:DAYLIGHT
TZOFFSETFROM:+0100
TZOFFSETTO:+0200
TZNAME:CEST
DTSTART:20210328T010000
END:DAYLIGHT
BEGIN:STANDARD
TZOFFSETFROM:+0200
TZOFFSETTO:+0100
TZNAME:CET
DTSTART:20211031T010000
END:STANDARD
BEGIN:DAYLIGHT
TZOFFSETFROM:+0100
TZOFFSETTO:+0200
TZNAME:CEST
DTSTART:20220327T010000
END:DAYLIGHT
BEGIN:STANDARD
TZOFFSETFROM:+0200
TZOFFSETTO:+0100
TZNAME:CET
DTSTART:20221030T010000
END:STANDARD
BEGIN:DAYLIGHT
TZOFFSETFROM:+0100
TZOFFSETTO:+0200
TZNAME:CEST
DTSTART:20230326T010000
END:DAYLIGHT
BEGIN:STANDARD
TZOFFSETFROM:+0200
TZOFFSETTO:+0100
TZNAME:CET
DTSTART:20231029T010000
END:STANDARD
BEGIN:DAYLIGHT
TZOFFSETFROM:+0100
TZOFFSETTO:+0200
TZNAME:CEST
DTSTART:20240331T010000
END:DAYLIGHT
BEGIN:STANDARD
TZOFFSETFROM:+0200
TZOFFSETTO:+0100
TZNAME:CET
DTSTART:20241027T010000
END:STANDARD
BEGIN:DAYLIGHT
TZOFFSETFROM:+0100
TZOFFSETTO:+0200
TZNAME:CEST
DTSTART:20250330T010000
END:DAYLIGHT
BEGIN:STANDARD
TZOFFSETFROM:+0200
TZOFFSETTO:+0100
TZNAME:CET
DTSTART:20251026T010000
END:STANDARD
BEGIN:DAYLIGHT
TZOFFSETFROM:+0100
TZOFFSETTO:+0200
TZNAME:CEST
DTSTART:20260329T010000
END:DAYLIGHT
BEGIN:STANDARD
TZOFFSETFROM:+0200
TZOFFSETTO:+0100
TZNAME:CET
DTSTART:20261025T010000
END:STANDARD
END:VTIMEZONE
BEGIN:VEVENT
DTSTART;TZID=Europe/Rome:20250808T170000
DTEND;TZID=Europe/Rome:20250810T160000
DTSTAMP:20260423T002131
CREATED:20250527T111941Z
LAST-MODIFIED:20250527T212231Z
UID:10000626-1754672400-1754841600@www.interessere.it
SUMMARY:Ritiro Famiglie – Calci (Pi) – 8/9/10 agosto 2025 – Fratello Phap Ban
DESCRIPTION:RITIRO RESIDENZIALE PER FAMIGLIE  \nin collaborazione con il fratello Phap Ban nella tradizione di Plum Village \n“Pratichiamo come comunità” \nNutriamo noi stessi\, la famiglia e sviluppiamo la consapevolezza  \ndella nostra interconnessione \n8\, 9 e 10 agosto 2025 \nAgriturismo “I Felloni“ Calci (Pisa) \nSiamo felici di comunicarvi che nei giorni 8/9/10 agosto 2025 si terrà un ritiro residenziale per famiglie a Calci (Pisa) insieme al fratello Phap Ban e la comunità italiana. \nL’arrivo è previsto per venerdì 8 agosto dalle ore 15.00-17.00 (inizio attività ore 17.30)\, la fine del ritiro è prevista domenica 18 agosto alle ore 16.00.  \nIl ritiro è un’occasione per lasciare che la consapevolezza permei tutte le nostre azioni e favorisca il sorgere dell’energia collettiva. \nLa presenza aiuta a vivere in profondità ogni momento della tua vita. Thich Nhat Hanh \nCosa portare \nCuscino\, tappetino\, coperta per il rilassamento\, cappello e spray anti zanzara\, scarpe per camminare \nall’esterno e ciabatte pulite per camminare all’interno. \nCosto e pagamenti \nIl costo per il vitto e l’alloggio per l’intero ritiro è di 100€ (adulto)\, 80€ (ragazzi maggiori di 10 anni)\, 60€ (bambini anni 3-10)\, gratuito sotto i 3 anni.  \nI posti sono limitati e si consiglia di iscriversi il prima possibile. \nPasti \nI pasti saranno vegetariani. Si prega di segnalare eventuali gravi allergie e intolleranze alimentari al momento dell’iscrizione. \nCome raggiungere l’Agriturismo “I Felloni” \nIndirizzo Via del Fienilaccio 3/5\, Via Culminezza\, 1\, 56011 Calci (Pisa). Questo è l’indirizzo google map (https://maps.app.goo.gl/HTmYCKLrB8Qko3X2A). \nIscrizioni e informazioni: Silvio 347.8266264 – demagistris.silvio@gmail.com
URL:https://www.interessere.it/evento/ritiro-famiglie-calci-pi-8-9-10-agosto-2025-fratello-phap-ban/
LOCATION:calci
ATTACH;FMTTYPE=image/png:https://www.interessere.it/wp-content/uploads/2025/05/casa.png
ORGANIZER;CN="Sangha Toscana":MAILTO:monaci.in.italia@gmail.com
END:VEVENT
BEGIN:VEVENT
DTSTART;TZID=Europe/Rome:20230318T090000
DTEND;TZID=Europe/Rome:20230318T153000
DTSTAMP:20260423T002131
CREATED:20230310T154643Z
LAST-MODIFIED:20230407T140534Z
UID:10000129-1679130000-1679153400@www.interessere.it
SUMMARY:"Nutrire la consapevolezza e lo stare insieme" - 18 marzo 2023 - Vicchio (Fi)
DESCRIPTION:Nutrire la consapevolezza e lo stare insieme\nSabato 18 marzo 2023\ngiornata di consapevolezza con il monaco Phap Bieu\nVia San Martino a Scopeto\, Vicchio (Fi) tenere a sx dopo il B&B “Il Mugello”.\n  \n“La vera comunità non è quella che si basa sulla simpatia reciproca\, sulla compatibilità o sulla similitudine sociale\, ma quella che ci educa alla tolleranza delle differenze.” (Thich Nhat Hanh) \n  \nPraticheremo la meditazione seduta\, la meditazione camminata all’aperto\, il pasto in consapevolezza\, la condivisione. Ascolteremo un insegnamento di Dharma tenuto dal monaco Phap Bieu. L’incontro è aperto a praticanti vecchi e nuovi e sono benvenute famiglie insieme ai bambini.\nPer iscrizioni e informazioni mariachiaran@yahoo.it oppure 320.2742174.\nPer la giornata la donazione è di 15€ (per chi può)\, che sarà interamente devoluta all’insegnante dopo aver tolto le spese. \n  \nProgramma della giornata:\n9.00 arrivo e accoglienza\n9.30 meditazione\n10.15 insegnamento\n11.30 meditazione camminata\n12.30 pranzo\n14.00 condivisione in gruppi\n15.00 saluti \n  \nCosa serve: un tappetino ed un cuscino per la meditazione (sedie sono disponibili)\, un telo per stendervi\, un pranzo vegetariano o vegano\, una borraccia d’acqua. \n  \nPasto: ognuno si occuperà di portare il proprio pasto e bevanda al sacco con cibo vegano o vegetariano\, per dedicare durante questa giornata uno spazio a un consumo amorevole delle risorse della Madre Terra. \n  \nCome arrivare: seguire le indicazioni per B&B “Il Mugello” e tenere a sx per arrivare alla casa colonica dove si terrà la giornata. Parcheggiare a lato della strada. \n  \n 
URL:https://www.interessere.it/evento/nutrire-la-consapevolezza-e-lo-stare-insieme-18-marzo-2023-vicchio-fi-2/
ATTACH;FMTTYPE=image/jpeg:https://www.interessere.it/wp-content/uploads/2023/03/foto.jpg
ORGANIZER;CN="Sangha Toscana":MAILTO:monaci.in.italia@gmail.com
END:VEVENT
BEGIN:VEVENT
DTSTART;TZID=Europe/Rome:20230318T090000
DTEND;TZID=Europe/Rome:20230318T153000
DTSTAMP:20260423T002131
CREATED:20230310T140827Z
LAST-MODIFIED:20230607T101703Z
UID:10000196-1679130000-1679153400@www.interessere.it
SUMMARY:"Nutrire la consapevolezza e lo stare insieme" - 18 marzo 2023 - Vicchio (Fi)
DESCRIPTION:Nutrire la consapevolezza e lo stare insieme\nSabato 18 marzo 2023\ngiornata di consapevolezza con il monaco Phap Bieu\nVia San Martino a Scopeto\, Vicchio (Fi) tenere a sx dopo il B&B “Il Mugello”.\n“La vera comunità non è quella che si basa sulla simpatia reciproca\, sulla compatibilità o sulla similitudine sociale\, ma quella che ci educa alla tolleranza delle differenze.” (Thich Nhat Hanh) \nPraticheremo la meditazione seduta\, la meditazione camminata all’aperto\, il pasto in consapevolezza\, la condivisione. Ascolteremo un insegnamento di Dharma tenuto dal monaco Phap Bieu. L’incontro è aperto a praticanti vecchi e nuovi e sono benvenute famiglie insieme ai bambini.\nPer iscrizioni e informazioni mariachiaran@yahoo.it oppure 320.2742174.\nPer la giornata la donazione è di 15€ (per chi può)\, che sarà interamente devoluta all’insegnante dopo aver tolto le spese. \nProgramma della giornata:\n9.00 arrivo e accoglienza\n9.30 meditazione\n10.15 insegnamento\n11.30 meditazione camminata\n12.30 pranzo\n14.00 condivisione in gruppi\n15.00 saluti \nCosa serve: un tappetino ed un cuscino per la meditazione (sedie sono disponibili)\, un telo per stendervi\, un pranzo vegetariano o vegano\, una borraccia d’acqua. \nPasto: ognuno si occuperà di portare il proprio pasto e bevanda al sacco con cibo vegano o vegetariano\, per dedicare durante questa giornata uno spazio a un consumo amorevole delle risorse della Madre Terra. \nCome arrivare: seguire le indicazioni per B&B “Il Mugello” e tenere a sx per arrivare alla casa colonica dove si terrà la giornata. Parcheggiare a lato della strada. \n  \n 
URL:https://www.interessere.it/evento/nutrire-la-consapevolezza-e-lo-stare-insieme-18-marzo-2023-vicchio-fi/
ATTACH;FMTTYPE=image/jpeg:https://www.interessere.it/wp-content/uploads/2023/03/foto.jpg
ORGANIZER;CN="Sangha Toscana":MAILTO:monaci.in.italia@gmail.com
END:VEVENT
BEGIN:VEVENT
DTSTART;TZID=Europe/Rome:20221016T100000
DTEND;TZID=Europe/Rome:20221016T160000
DTSTAMP:20260423T002131
CREATED:20220930T154509Z
LAST-MODIFIED:20220930T154509Z
UID:10000149-1665914400-1665936000@www.interessere.it
SUMMARY:16 ottobre 2022 - Giornata di Consapevolezza Toscana
DESCRIPTION:Giornata di Consapevolezza Toscana \nCECINA MARE (Livorno)  \nDomenica 16 0ttobre 2022 dalle 10.00 alle 16.00 \n“Cos’è allora che può unire le persone? Io penso: la giornata di consapevolezza\, l’esserci gli uni per gli altri\, questo è molto importante. Questo è anche un tipo di risposta alla sofferenza del nostro tempo. Praticare l’esserci\, per noi stessi e per le persone che amiamo\, è molto importante!” \nThich Nhat Hanh \nUna giornata insieme a bambini di tutte le età\, genitori\, zie\, zii e chiunque vuole “essere in famiglia”. \nIn contatto con la Madre Terra\, il mare\, l’aria\, il sole\, lo spazio\, vogliamo essere presenti e fare esperienza della interconnessione.  \nDurante questa giornata possiamo fare passi di pace\, ascoltare la voce del mare\, le parole dei Saggi Antenati\, cantare\, giocare\, condividere e sorridere. \nPortiamo : picnic vegetariano\, tappetino per sedere e plaid per il rilassamento profondo\, vestiti caldi piacevoli per ogni tempo\, giacca a vento\, ombrello……gioia di esserci. \nPer il progetto Vietnam\, un contributo di 10 Euro\, chi può. \nVi aspettiamo a Cecina Mare\, al parcheggio del Campeggio “Le Tamerici”alle 9.30\, per iniziare alle 10. \nPer informazioni e iscrizioni Brigitta 320 0356624  \nFelici di incontrarci\, \nBrigitta\, Chiara e Adriana
URL:https://www.interessere.it/evento/16-ottobre-2022-giornata-di-consapevolezza-toscana/
ATTACH;FMTTYPE=image/jpeg:https://www.interessere.it/wp-content/uploads/2022/09/WhatsApp-Image-2022-09-30-at-17.46.50.jpeg
ORGANIZER;CN="Sangha Toscana":MAILTO:monaci.in.italia@gmail.com
END:VEVENT
BEGIN:VEVENT
DTSTART;TZID=Europe/Rome:20220529T100000
DTEND;TZID=Europe/Rome:20220529T163000
DTSTAMP:20260423T002131
CREATED:20220514T180830Z
LAST-MODIFIED:20220514T180830Z
UID:10000110-1653818400-1653841800@www.interessere.it
SUMMARY:Giornata di consapevolezza Toscana - Domenica\, 29 maggio 2022 - Marina di Cecina
DESCRIPTION:GIORNATA DI CONSAPEVOLEZZA  \nDEL SANGHA TOSCANO  \nNELLA TRADIZIONE DI PLUM VILLAGE \n“Tocchiamo la pace in noi“ \nDomenica 29 Maggio 2022 dalle ore 10.00 alle ore 16.30 \nRiserva Naturale Tomboli – Marina di Cecina (LI) \nOgnuno di noi può fare qualcosa per proteggere il pianeta e averne cura.  \nDobbiamo vivere in un modo che dia ai nostri figli e nipoti la possibilità di avere un futuro. \nLa nostra vita sia il nostro messaggio. \nThich Nhat Hanh  \nTratto da “L’unico mondo che abbiamo”  \nCare Amiche\, cari Amici\, caro Sangha\, siamo felici di invitarvi ad una giornata di consapevolezza per la Toscana.  \nCi incontreremo all’aperto\, nel verde della riserva di Tomboli immersi nella pineta ed in riva al mare. \nL’incontro è aperto a tutti e sono benvenute anche famiglie con bambini e ragazzi per i quali saranno organizzate attività specifiche.  \nVi aspettiamo con gioia. \nModalità di iscrizione: entro mercoledì 25 maggio\, inviare una mail a Brigitta parvati11brigitta@gmail.com con: nome cognome\, numero di telefono\, località (per organizzare eventuali condivisioni dell’auto) e l’età di eventuali bambini o ragazzi \nPer l’incontro è richiesta un’offerta di 15€. Chi ha difficoltà economiche può concordare diversamente.  \nOrario: l’arrivo è suggerito per le 9.30 per iniziare alla 10.00 e la conclusione è prevista per le 16.30 \nCosa serve: l’occorrente per sedersi sulla spiaggia/pineta (tappetino/telo/cuscino e una coperta leggera per il rilassamento profondo)  \nPasto: pranzo al sacco vegetariano/vegano\, bottiglia di acqua personale. Vi chiediamo di impegnarsi a non portare plastica monouso e ridurre il più possibile l’impatto sull’ambiente. \nLuogo di ritrovo e come arrivare \nRitrovo presso la riserva naturale Tomboli di Cecina al parcheggio del campeggio Le Tamerici.  \nVenendo dalla superstrada Aurelia prendete l’uscita Cecina e andate in direzione del centro. Passato l’ospedale dopo 400 metri arrivate ad una rotatoria e svoltate a sinistra e poi subito a destra prendendo via Marconi e proseguendo dritto per 900 metri fino a piazza Libertà\, poi girate a sinistra dopo la piazza in viale Italia e alla successiva svolta\, girate a destra in via Roma\, fate il sottopassaggio della ferrovia e continuate dritto percorrendo viale della Repubblica per 1\,7km fino ad una rotatoria\, girate a sinistra e percorrete via Ferrucci per 800 metri fino ad un altra rotatoria\, girate a destra e dopo 150 metri girate a sinistra\, percorrete viale Galliano per 450 metri e girate a sinistra\, dopo 300 metri vi troverete al campeggio.
URL:https://www.interessere.it/evento/giornata-di-consapevolezza-toscana-domenica-29-maggio-2022-marina-di-cecina/
ATTACH;FMTTYPE=image/jpeg:https://www.interessere.it/wp-content/uploads/2022/05/WhatsApp-Image-2022-05-14-at-20.09.03.jpeg
ORGANIZER;CN="Sangha Toscana":MAILTO:monaci.in.italia@gmail.com
END:VEVENT
BEGIN:VEVENT
DTSTART;TZID=Europe/Rome:20220317T090000
DTEND;TZID=Europe/Rome:20220317T153000
DTSTAMP:20260423T002131
CREATED:20220221T161200Z
LAST-MODIFIED:20220221T161513Z
UID:10000082-1647507600-1647531000@www.interessere.it
SUMMARY:“La Comunità di Plum Village in Italia” – Marzo e aprile 2022
DESCRIPTION:La Comunità di Plum Village in Italia \nCare amiche\, cari amici\, \nsiamo felici di comunicarvi che nei mesi di marzo e aprile sarà in Italia una rappresentanza della Comunità Monastica di Plum Village che ci offrirà preziose occasioni di incontro e pratica in Toscana ed Umbria.  \n  \nQui di seguito il calendario delle occasioni di incontro con una breve descrizione delle attività e delle modalità di partecipazione. Seguiranno le locandine dettagliate di ogni evento. \n  \nPisa\, giovedì 17 marzo 2022 \n”Il nutrimento“ \nCiclo “Fatti non fummo a viver come bruti”\, Dipartimento di Salute Mentale di Pisa \nore 9.00 – 12.30 Seminario  \nore 12.30 – 13.30 Meditazione camminata in città \nPartecipazione gratuita aperta alla comunità \nPresso: aula Scuola Normale Piazza dei Cavalieri\, Pisa  \nNorme Covid: green pass rafforzato per le attività all’interno (non richiesto per la camminata)  \nInformazioni: monaci.in.italia@gmail.com (specificare nell’oggetto della mail “seminario”) \nNota: possibilità di partecipare online (su richiesta verrà inviato il link) \n  \nFirenze\, sabato 19 marzo 2022 \n“L’Arte della Presenza” \nGiornata di consapevolezza aperta a tutti.  \nOrario 10.00 – 17.00. \nLa giornata si terrà all’aperto. E’ gradita la partecipazione delle famiglie e per i bambini sono previste attività dedicate. \nIl pranzo in consapevolezza sarà a pic-nic. \nIl numero di partecipanti è limitato ed è necessario inviare una mail di iscrizione entro il 12 marzo 2022 a monaci.in.italia@gmail.com\, indicando nome e cognome e nel caso dei bambini anche l’età. Come contributo alle spese per la giornata di consapevolezza e per il soggiorno dei monaci in Italia si propone un’offerta di 25€ (solo per gli adulti e per chi può) da versare in anticipo su postepay N. 4023 6009 6487 5332 intestata a Patrizia Montigalli. In caso di mancata partecipazione non sarà possibile rimborsare. \nIn caso di pioggia la giornata si terrà comunque negli spazi coperti disponibili sempre all’aperto. \nPresso: Tenuta Ferracci\, Via della Tassaia\, 58\, 50032 Borgo San Lorenzo (Firenze) \nNorme Covid: durante le attività è richiesto di mantenere una distanza di 1.5 m \nInformazioni: monaci.in.italia@gmail.com (specificare nell’oggetto della mail “giornata”) \n  \nFirenze\, domenica 20 marzo 2022 \n“Passi di pace nella città” \nMeditazione camminata per le strade di Firenze \nOre 14.30 San Miniato al Monte\, Firenze \nVogliamo nutrire semi di pace in noi e intorno a noi. \nCamminiamo insieme a Thay (Thich Nhat Hanh) e con una rappresentanza della Comunità Monastica di Plum Village\, attraverso luoghi della nostra città\, già più volte con lui percorsi. \nItinerario: dal Sagrato di San Miniato al Monte a piazza Santa Croce a Firenze (arrivo previsto per le ore 17.00) \nInformazioni: monaci.in.italia@gmail.com (specificare nell’oggetto della mail “camminata”) \nPartecipazione aperta a tutta la cittadinanza \n  \nFirenze\, lunedì 21 marzo 2022 \n“Prendersi cura degli esseri umani\, prendersi cura del pianeta. Gli insegnamenti di Thich Nhat Hanh per le nuove generazioni” \nUniversità degli Studi di Firenze \nOrario 14.30 – 17.00 conferenza \nPartecipazione gratuita. L’incontro prevede un discorso di Dharma seguito da una sessione di domande e risposte. \nPresso: Aula Magna dell’Università di Firenze\, Piazza San Marco n.4\, Firenze \nNorme Covid: green pass rafforzato \nInformazioni: monaci.in.italia@gmail.com (specificare nell’oggetto della mail “conferenza”) \nNota: possibilità di partecipare online (su richiesta verrà inviato il link) \n  \nLucca\, da giovedì 24 marzo 2022 a domenica 27 marzo 2022 \n“La pace è ogni respiro” \nRitiro residenziale. \nArrivo giovedì 24 marzo dalle ore 17.00 e fine ritiro domenica 27 marzo dopo il pranzo.  \nIl ritiro ci permetterà di tornare a noi stessi\, fermarci\, ascoltarci e essere presenti l’uno all’altro\, nutriti dalla presenza mentale e dalla consapevolezza. \nIll numero di partecipanti è limitato ed è necessario inviare una mail di iscrizione a monaci.in.italia@gmail.com\, indicando nome e cognome di tutti i partecipanti ed il luogo di provenienza. \nIl costo per l’intero ritiro sarà di € 180\,00 comprensivo di vitto e alloggio; le indicazioni per il pagamento verranno date con la conferma dell’avvenuta iscrizione. \nIl contributo di Dhana consigliato per il soggiorno in Italia dei monaci è di € 60\,00 (per chi può)\, da versare in anticipo su carta postepay N. 4023 6009 6487 5332 intestata a Patrizia Montigalli. \nPresso: Monastero di San Cerbone\, Via San Cerbone della Fornace 859\, Lucca \nNorme Covid: green pass rafforzato \nInformazioni e prenotazioni: monaci.in.italia@gmail.com (specificare nell’oggetto della mail “ritiro”) \n  \nLa Verna – Assisi\, dal 3 al 9 aprile e dal 10 al 16 aprile 2022 \nCammino Consapevole. \nDa Chiusi della Verna (AR) a Città di Castello (PG) e da Città di Castello (PG) ad Assisi (PG) \nSulla Via di Francesco guidati dalla comunità Monastica di Plum Village. \nUn cammino consapevole\, strutturato come un vero e proprio ritiro itinerante dove all’esperienza di trekking giornaliero\, che conduce da La Verna ad Assisi\, si uniscono le pratiche di Consapevolezza di base della tradizione di Plum Village \nSarà possibile partecipare ad entrambe o ad una sola settimana. \nNorme Covid: green pass rafforzato \nInformazioni: viaggidiconsapevolezza@gmail.com \n  \nDana \nChi desidera sostenere la permanenza dei monaci in Italia può contribuire con un’offerta su postepay 4023600964875332 intestata a Patrizia Montigalli
URL:https://www.interessere.it/evento/la-comunita-di-plum-village-in-italia-marzo-e-aprile-2022/
ATTACH;FMTTYPE=image/jpeg:https://www.interessere.it/wp-content/uploads/2022/02/img.jpg
ORGANIZER;CN="Sangha Toscana":MAILTO:monaci.in.italia@gmail.com
END:VEVENT
END:VCALENDAR