BEGIN:VCALENDAR
VERSION:2.0
PRODID:-//Comunit&agrave; italiana dell'interessere - ECPv6.15.20//NONSGML v1.0//EN
CALSCALE:GREGORIAN
METHOD:PUBLISH
X-WR-CALNAME:Comunit&agrave; italiana dell'interessere
X-ORIGINAL-URL:https://www.interessere.it
X-WR-CALDESC:Eventi per Comunit&agrave; italiana dell'interessere
REFRESH-INTERVAL;VALUE=DURATION:PT1H
X-Robots-Tag:noindex
X-PUBLISHED-TTL:PT1H
BEGIN:VTIMEZONE
TZID:Europe/Rome
BEGIN:DAYLIGHT
TZOFFSETFROM:+0100
TZOFFSETTO:+0200
TZNAME:CEST
DTSTART:20200329T010000
END:DAYLIGHT
BEGIN:STANDARD
TZOFFSETFROM:+0200
TZOFFSETTO:+0100
TZNAME:CET
DTSTART:20201025T010000
END:STANDARD
BEGIN:DAYLIGHT
TZOFFSETFROM:+0100
TZOFFSETTO:+0200
TZNAME:CEST
DTSTART:20210328T010000
END:DAYLIGHT
BEGIN:STANDARD
TZOFFSETFROM:+0200
TZOFFSETTO:+0100
TZNAME:CET
DTSTART:20211031T010000
END:STANDARD
BEGIN:DAYLIGHT
TZOFFSETFROM:+0100
TZOFFSETTO:+0200
TZNAME:CEST
DTSTART:20220327T010000
END:DAYLIGHT
BEGIN:STANDARD
TZOFFSETFROM:+0200
TZOFFSETTO:+0100
TZNAME:CET
DTSTART:20221030T010000
END:STANDARD
BEGIN:DAYLIGHT
TZOFFSETFROM:+0100
TZOFFSETTO:+0200
TZNAME:CEST
DTSTART:20230326T010000
END:DAYLIGHT
BEGIN:STANDARD
TZOFFSETFROM:+0200
TZOFFSETTO:+0100
TZNAME:CET
DTSTART:20231029T010000
END:STANDARD
BEGIN:DAYLIGHT
TZOFFSETFROM:+0100
TZOFFSETTO:+0200
TZNAME:CEST
DTSTART:20240331T010000
END:DAYLIGHT
BEGIN:STANDARD
TZOFFSETFROM:+0200
TZOFFSETTO:+0100
TZNAME:CET
DTSTART:20241027T010000
END:STANDARD
BEGIN:DAYLIGHT
TZOFFSETFROM:+0100
TZOFFSETTO:+0200
TZNAME:CEST
DTSTART:20250330T010000
END:DAYLIGHT
BEGIN:STANDARD
TZOFFSETFROM:+0200
TZOFFSETTO:+0100
TZNAME:CET
DTSTART:20251026T010000
END:STANDARD
BEGIN:DAYLIGHT
TZOFFSETFROM:+0100
TZOFFSETTO:+0200
TZNAME:CEST
DTSTART:20260329T010000
END:DAYLIGHT
BEGIN:STANDARD
TZOFFSETFROM:+0200
TZOFFSETTO:+0100
TZNAME:CET
DTSTART:20261025T010000
END:STANDARD
END:VTIMEZONE
BEGIN:VEVENT
DTSTART;TZID=Europe/Rome:20250725T180000
DTEND;TZID=Europe/Rome:20250727T160000
DTSTAMP:20260422T195041
CREATED:20250613T104147Z
LAST-MODIFIED:20250613T104147Z
UID:10000637-1753466400-1753632000@www.interessere.it
SUMMARY:L'ARTE DEL RIPOSO - Fine settimana di consapevolezza
DESCRIPTION:Ritiro residenziale nella tradizione di Plum Village \n“Impariamo l’arte di riposarci e permettiamo al corpo e alla mente di ristorarsi; non pensare a nulla e non fare nulla fanno parte dell’arte del riposo e della guarigione.”\n(dal libro di Thich Nhat Hanh “Pratiche di consapevolezza”) \nSiamo felici di comunicarvi che nel week end del 25-26-27 luglio 2025 si terrà un ritiro residenziale a Calci (Pisa) condotto da fratello Phap Ban e da Fabieu Martino Tornieri. \nIl ritiro è una occasione per lasciare che la consapevolezza permei tutte le nostre azioni durante un intero fine settimana di pratica condivisa. \nQuando\nil ritiro si apre il 25 luglio dalle 15.30 alle 17\,00 con l’accoglienza\, la registrazione e la sistemazione nelle stanze; inizia in sala alle ore 18\,00. Si conclude nel primo pomeriggio di domenica 27. \nPasti\nI pasti saranno vegetariani. Saranno predisposte pietanze alternative per chi ha segnalato intolleranze alimentari in fase di iscrizione. È prevista una pausa ”tisana e merenda” a metà pomeriggio; è benvenuto ogni contributo in forma di tè o tisane in bustine e biscotti. \nCosa portare\nCuscino o panchetto\, tappetino\, copertina per il rilassamento\, cappello e spray antizanzara\, scarpe per camminare all’esterno e ciabatte pulite per camminare all’interno\, tappi per le orecchie (per chi sarà in camere a più letti) \nPer iscriversi\nCliccare su questo LINK  ( https://forms.gle/o2zSdRWG3oZFAwii6 ) ed attendere un messaggio di conferma con le indicazioni su come procedere per il pagamento \nPer informazioni contattare\nPatrizia: patrizia.montigalli@gmail.com\nFabio: fabio.ramelli@gmail.com \nDove\nAgriturismo “I Felloni”\, Via del Fienilaccio n.3/5\, Calci (PI)\nCoordinate Google Maps 43.74465\,10.52657
URL:https://www.interessere.it/evento/larte-del-riposo-fine-settimana-di-consapevolezza/
LOCATION:Calci (PI)\, Via del Fienilaccio n.3/5\, Calci\, 56011
CATEGORIES:Fine settimana,Ritiro
ATTACH;FMTTYPE=image/jpeg:https://www.interessere.it/wp-content/uploads/2025/06/calci.jpg
ORGANIZER;CN="Sangha Toscano":MAILTO:maraviglia07@gmail.com
END:VEVENT
BEGIN:VEVENT
DTSTART;TZID=Europe/Rome:20230928T153000
DTEND;TZID=Europe/Rome:20230928T190000
DTSTAMP:20260422T195041
CREATED:20230911T084653Z
LAST-MODIFIED:20230911T084653Z
UID:10000288-1695915000-1695927600@www.interessere.it
SUMMARY:Firenze\, 28 settembre 2023\, “La via di uscita è dentro". Fratello Phap Ban.
DESCRIPTION:Firenze\, giovedì 28 settembre 2023 \nDruma Yoga\, Via Luigi Lanzi 12. \nOre 15.30 – 19.00 \n  \n“La via di uscita è dentro” \nUn invito a spostarsi dal pensare al sentire \n  \nRiposare nella fretta e nell’irrequietezza. \nUn’esperienza di consapevolezza per nutrire presenza\, concentrazione e ascolto profondo. \n  \nL’incontro è facilitato dal monaco Phap Ban ordinato a Plum Village da Thich Nath Hanh nel 2007. \n  \nInformazioni e iscrizioni \nSilvio – 347.8266264 – demagistris.silvio@gmail.co m \nDruma Yoga – 3477234533 – info@drumayoga.it
URL:https://www.interessere.it/evento/firenze-28-settembre-2023-la-via-di-uscita-e-dentro-fratello-phap-ban/
CATEGORIES:Giornata di consapevolezza
ATTACH;FMTTYPE=image/png:https://www.interessere.it/wp-content/uploads/2023/09/cal.png
ORGANIZER;CN="Sangha Toscano":MAILTO:maraviglia07@gmail.com
END:VEVENT
BEGIN:VEVENT
DTSTART;TZID=Europe/Rome:20220324T170000
DTEND;TZID=Europe/Rome:20220327T170000
DTSTAMP:20260422T195041
CREATED:20220310T125542Z
LAST-MODIFIED:20220310T125721Z
UID:10000092-1648141200-1648400400@www.interessere.it
SUMMARY:“LA PACE È OGNI RESPIRO”. Ritiro Residenziale. Lucca\, 24-27 marzo 2022.
DESCRIPTION:Lucca\, da giovedì 24 marzo 2022 a domenica 27 marzo 2022 \n“La pace è ogni respiro” \nRitiro residenziale. \nCi sono gli ultimi posti disponibili e sarà attivata una lista di attesa per eventuali rinunce. \nArrivo giovedì 24 marzo dalle ore 17.00 e fine ritiro domenica 27 marzo dopo il pranzo.  \nIl ritiro ci permetterà di tornare a noi stessi\, fermarci\, ascoltarci e essere presenti l’uno all’altro\, nutriti dalla presenza mentale e dalla consapevolezza. \nIll numero di partecipanti è limitato ed è necessario inviare una mail di iscrizione a monaci.in.italia@gmail.com\, indicando nome e cognome di tutti i partecipanti ed il luogo di provenienza. \nIl costo per l’intero ritiro sarà di € 180\,00 comprensivo di vitto e alloggio; le indicazioni per il pagamento verranno date con la conferma dell’avvenuta iscrizione. Il contributo di Dana consigliato per il soggiorno in Italia dei monaci è di € 60\,00. Per i versamenti è possibile utilizzare il seguente IBAN IT67N3608105138206555306583 intestato a Patrizia Montigalli. Chi ha difficoltà economiche può chiedere nella email di iscrizione di versare un contributo ridotto. \nPresso: Monastero di San Cerbone\, Via San Cerbone della Fornace 859\, Lucca \nNorme Covid: green pass rafforzato \nInformazioni e prenotazioni: monaci.in.italia@gmail.com (specificare nell’oggetto della mail “ritiro”)
URL:https://www.interessere.it/evento/la-pace-e-ognirespiro-ritiro-residenziale-lucca-24-27-marzo-2022/
CATEGORIES:Ritiro
ATTACH;FMTTYPE=image/jpeg:https://www.interessere.it/wp-content/uploads/2022/03/La-Pace-e-ogni-RespiroSmall.jpg
ORGANIZER;CN="Sangha Toscano":MAILTO:maraviglia07@gmail.com
END:VEVENT
BEGIN:VEVENT
DTSTART;TZID=Europe/Rome:20220321T143000
DTEND;TZID=Europe/Rome:20220321T170000
DTSTAMP:20260422T195041
CREATED:20220307T120716Z
LAST-MODIFIED:20220307T121014Z
UID:10000088-1647873000-1647882000@www.interessere.it
SUMMARY:Firenze\, 21 marzo 2022. Università di Firenze\, Conferenza con la Comunità Monastica di Plum Village\,
DESCRIPTION:Firenze\, lunedì 21 marzo 2022 \n“Prendersi cura degli esseri umani\, prendersi cura del pianeta. Gli insegnamenti di Thich Nhat Hanh per le nuove generazioni” \nUniversità degli Studi di Firenze \nOrario 14.30 – 17.00 conferenza \nPartecipazione gratuita. L’incontro prevede un discorso di Dharma seguito da una sessione di domande e risposte. \nPresso: Aula Magna dell’Università di Firenze\, Piazza San Marco n.4\, Firenze \nNorme Covid: green pass rafforzato \nInformazioni: monaci.in.italia@gmail.com (specificare nell’oggetto della mail “conferenza”) \nNota: possibilità di partecipare online (su richiesta verrà inviato il link)
URL:https://www.interessere.it/evento/firenze-21-marzo-2022-universita-di-firenze-conferenza-della-comunita-monastica-di-plum-village/
ATTACH;FMTTYPE=image/jpeg:https://www.interessere.it/wp-content/uploads/2022/03/Locandina-Universita-scaled.jpg
ORGANIZER;CN="Sangha Toscano":MAILTO:maraviglia07@gmail.com
END:VEVENT
BEGIN:VEVENT
DTSTART;TZID=Europe/Rome:20220320T143000
DTEND;TZID=Europe/Rome:20220320T170000
DTSTAMP:20260422T195041
CREATED:20220305T081324Z
LAST-MODIFIED:20220305T081324Z
UID:10000087-1647786600-1647795600@www.interessere.it
SUMMARY:Passi di Pace nella Città. Firenze\, domenica 20 marzo 2022. Meditazione camminata.
DESCRIPTION:Firenze\, domenica 20 marzo 2022 \nPassi di Pace nella Città. \nUn invito a tutti i costruttori di Pace \nA Firenze domenica 20 marzo 2022  si terrà una meditazione camminata per le strade della città con i monaci e le monache della Comunità di Plum Village. \nIl ritrovo sarà al Sagrato di San Miniato al Monte alle ore 14.30 e il percorso terminerà in piazza Santa Croce a Firenze verso le ore 17.00. \n\nInformazioni: monaci.in.italia@gmail.com (specificare nell’oggetto della mail “camminata”)
URL:https://www.interessere.it/evento/passi-di-pace-nella-citta-firenze-domenica-20-marzo-2022-meditazione-camminata/
ATTACH;FMTTYPE=image/jpeg:https://www.interessere.it/wp-content/uploads/2022/03/PassiDiPaceR.jpeg
ORGANIZER;CN="Sangha Toscano":MAILTO:maraviglia07@gmail.com
END:VEVENT
BEGIN:VEVENT
DTSTART;VALUE=DATE:20220319
DTEND;VALUE=DATE:20220320
DTSTAMP:20260422T195041
CREATED:20220302T142937Z
LAST-MODIFIED:20220302T142937Z
UID:10000086-1647648000-1647734399@www.interessere.it
SUMMARY:"L'Arte della Presenza"  -  Giornata di consapevolezza aperta a tutti - 19 marzo 2022
DESCRIPTION:Firenze\, sabato 19 marzo 2022 \n“L’Arte della Presenza” \nGiornata di consapevolezza aperta a tutti.  \nOrario 10.00 – 17.00. \nLa giornata si terrà all’aperto. E’ gradita la partecipazione delle famiglie e per i bambini sono previste attività dedicate. \nIl pranzo in consapevolezza sarà a pic-nic. \nIl numero di partecipanti è limitato ed è necessario inviare una mail di iscrizione entro il 12 marzo 2022 a monaci.in.italia@gmail.com\, indicando nome e cognome e nel caso dei bambini anche l’età.  \nCome contributo alle spese per la giornata di consapevolezza e per il soggiorno dei monaci in Italia si propone un’offerta di 25€ (solo per gli adulti) da versare in anticipo su postepay evolution IBAN IT67N3608105138206555306583 intestato a Patrizia Montigalli. Chi ha difficoltà economiche può chiedere nella email di iscrizione di concordare diversamente. In caso di mancata partecipazione non sarà possibile rimborsare. \nAmpie tettoie consentiranno lo svolgimento delle attività anche in caso di pioggia. \n  \nPresso: Tenuta Ferracci\, Via della Tassaia\, 58\, 50032 Borgo San Lorenzo (Firenze) \nNorme Covid: durante le attività è richiesto solo di mantenere una distanza di circa 1.5 m \nInformazioni: monaci.in.italia@gmail.com (specificare nell’oggetto della mail “giornata”) \n  \n  \nFirenze\, domenica 20 marzo 2022 \nPassi di Pace nella Città. \nUn invito a tutti i costruttori di Pace \nSempre a Firenze domenica 20 marzo 2022\, il giorno dopo la giornata di consapevolezza\, si terrà una meditazione camminata per le strade della città con la Comunità di Plum Village.  \nIl ritrovo sarà al Sagrato di San Miniato al Monte alle 14.30 e il percorso terminerà in piazza Santa Croce a Firenze. \n\nInformazioni: monaci.in.italia@gmail.com (specificare nell’oggetto della mail “camminata”)
URL:https://www.interessere.it/evento/larte-della-presenza-giornata-di-consapevolezza-aperta-a-tutti-19-marzo-2022/
ATTACH;FMTTYPE=image/jpeg:https://www.interessere.it/wp-content/uploads/2022/03/Larte-della-presenza.jpg
ORGANIZER;CN="Sangha Toscano":MAILTO:maraviglia07@gmail.com
END:VEVENT
BEGIN:VEVENT
DTSTART;TZID=Europe/Rome:20220317T081500
DTEND;TZID=Europe/Rome:20220317T140000
DTSTAMP:20260422T195041
CREATED:20220228T104843Z
LAST-MODIFIED:20220228T104843Z
UID:10000085-1647504900-1647525600@www.interessere.it
SUMMARY:”Il nutrimento". Seminario
DESCRIPTION:”Il nutrimento“ \nCiclo “Fatti non fummo a vivere come bruti”. Riflessioni e incontri sulla Natura Umana \nDipartimento di Salute Mentale di Pisa \n“Tutti i suoni intorno a noi e tutti i pensieri che rivisitiamo senza sosta nella nostra mente possono essere considerati una sorta di cibo. Il cibo commestibile\, quello che mastichiamo e deglutiamo fisicamente\, non è l’unico tipo di cibo che noi esseri umani consumiamo\, è solo uno dei tanti. Quello che leggiamo\, le nostre conversazioni\, gli spettacoli che guardiamo\, i giochi online che facciamo\, e le nostre preoccupazioni\, pensieri e ansie\, sono tutti cibo. Non stupisce che spesso non abbiamo posto per bellezza e silenzio nella nostra coscienza: ci stiamo riempiendo costantemente di moltissimi altri tipi di cibo… Tutti questi cibi possono essere salutari o non salutari\, nutrienti e tossici\, a seconda di cosa consumiamo\, quanto consumiamo e quanto siamo consapevoli del nostro consumo.” (Il dono del silenzio. Thich Nhat Hanh) \nLa Comunità Monastica di Plum Village terrà una lezione magistrale dal titolo “Il nutrimento” presso Scuola Normale Superiore nell’ambito del ciclo “Fatti non fummo a vivere come bruti…” che si propone di favorire la riflessione\, il confronto e la comunicazione riguardo temi fondanti la natura umana.  \nore 8.15 – 12.30 Seminario  \nore 12.30 – 13.30 Meditazione camminata in città \nPartecipazione gratuita aperta alla comunità \nPresso: Scuola Normale Superiore\, Aula “Dini”. Via del Castelletto 11\, Pisa \nNorme Covid: green pass rafforzato per le attività all’interno (non richiesto per la camminata) \nInformazioni: monaci.in.italia@gmail.com (specificare nell’oggetto della mail “seminario”) \nNota: possibilità di partecipare online (su richiesta verrà inviato il link)
URL:https://www.interessere.it/evento/il-nutrimento-seminario/
ORGANIZER;CN="Sangha Toscano":MAILTO:maraviglia07@gmail.com
END:VEVENT
BEGIN:VEVENT
DTSTART;TZID=Europe/Rome:20210523T100000
DTEND;TZID=Europe/Rome:20210523T173000
DTSTAMP:20260422T195041
CREATED:20210512T091622Z
LAST-MODIFIED:20210512T091622Z
UID:10000037-1621764000-1621791000@www.interessere.it
SUMMARY:Giornata di consapevolezza del Sangha Toscano
DESCRIPTION:Ogni istante è un dono\nOgni seme è un frutto\nLa felicità è qui e ora \nRiusciamo ad accogliere il dono di ogni istante ed innaffiare il seme della felicità? Quanto la nostra mente e la nostra pratica ci può portare in contatto con questa felicità? \nCari amici\, caro Sangha\, vi invitiamo a partecipare ad una giornata per stare insieme\, per praticare insieme\, per condividere\, sorridere\, respirare\, abbracciare la vita. Tanti Sangha\, un unico corpo del Sangha che respira insieme\, che semina semi di gioia e felicità\, coltiva e fa crescere presenza e consapevolezza\, in modo da far apparire frutti buoni per gli esseri viventi e la madre terra. \nCome per ogni pratica\, possiamo anche invitare qualcuno a condividere con noi la giornata. \nDove: Riviera naturale Tomboli\, via della Cecinella 5 – 57023 Marina di Cecina  \nHome \n\n	In caso di maltempo o di limitazioni agli spostamenti l’incontro si effettuerà online sulla piattaforma Zoom. \nModalità di iscrizione: entro giovedì 20 maggio inviare una email con nome\, cognome\, numero di telefono\, località ed eventuale Sangha di appartenenza\, a Patrizia Montigalli:\n	patrizia.montigalli@gmail.com \nInformazioni: per informazioni inerenti su come arrivare e se desiderate soggiornare nel campeggio sin dal giorno prima scrivere a Leonardo Maraviglia: maraviglia07@gmail.com \nUna volta iscritti riceverete una email di conferma\, il programma dettagliato e l’elenco delle cose da portare. \nSi chiede un contributo di 20 euro (per chi può) comprensivo di ingresso\, utilizzo delle strutture e un’offerta al Centro Avalokita.\nI bambini non pagano; per i coniugi il contributo sarà di 30 euro complessivi.
URL:https://www.interessere.it/evento/giornata-di-consapevolezza-del-sangha-toscano-2/
LOCATION:Riviera naturale Tomboli\, Via della Cecinella 5 –\, Marina di Cecina\, 57023
ATTACH;FMTTYPE=image/png:https://www.interessere.it/wp-content/uploads/2021/05/immagine.png
ORGANIZER;CN="Sangha Toscano":MAILTO:maraviglia07@gmail.com
END:VEVENT
END:VCALENDAR